BEGIN:VCALENDAR
PRODID:http://www.kufer.de/kuferweb / DE
VERSION:2.0
METHOD:PUBLISH
CALSCALE:GREGORIAN
X-WR-TIMEZONE:Europe/Berlin
BEGIN:VTIMEZONE
TZID:Europe/Berlin
X-LIC-LOCATION:Europe/Berlin
BEGIN:DAYLIGHT
TZOFFSETFROM:+0100
TZOFFSETTO:+0200
TZNAME:CEST
DTSTART;TZID=Europe/Berlin:19700329T020000
RRULE:FREQ=YEARLY;INTERVAL=1;BYDAY=-1SU;BYMONTH=3
END:DAYLIGHT
BEGIN:STANDARD
TZOFFSETFROM:+0200
TZOFFSETTO:+0100
TZNAME:CET
DTSTART;TZID=Europe/Berlin:19701025T030000
RRULE:FREQ=YEARLY;INTERVAL=1;BYDAY=-1SU;BYMONTH=10
END:STANDARD
END:VTIMEZONE
BEGIN:VEVENT
DTSTAMP:20260419T223556
DTSTART;TZID=Europe/Berlin:20260803T090000
DTEND;TZID=Europe/Berlin:20260803T143000
UID:261WZ5831-20260803T090000@VHSDUISBURG
SUMMARY:Fahrrad-Reparatur - Bildungsurlaub (261WZ5831) 
LOCATION:VHS Arndtstraße;Raum01, Arndtstraße, 47226 Duisburg
END:VEVENT
BEGIN:VEVENT
DTSTAMP:20260419T223556
DTSTART;TZID=Europe/Berlin:20260804T090000
DTEND;TZID=Europe/Berlin:20260804T143000
UID:261WZ5831-20260804T090000@VHSDUISBURG
SUMMARY:Fahrrad-Reparatur - Bildungsurlaub (261WZ5831) 
LOCATION:VHS Arndtstraße;Raum01, Arndtstraße, 47226 Duisburg
END:VEVENT
BEGIN:VEVENT
DTSTAMP:20260419T223556
DTSTART;TZID=Europe/Berlin:20260805T090000
DTEND;TZID=Europe/Berlin:20260805T143000
UID:261WZ5831-20260805T090000@VHSDUISBURG
SUMMARY:Fahrrad-Reparatur - Bildungsurlaub (261WZ5831) 
LOCATION:VHS Arndtstraße;Raum01, Arndtstraße, 47226 Duisburg
END:VEVENT
BEGIN:VEVENT
DTSTAMP:20260419T223556
DTSTART;TZID=Europe/Berlin:20260806T090000
DTEND;TZID=Europe/Berlin:20260806T143000
UID:261WZ5831-20260806T090000@VHSDUISBURG
SUMMARY:Fahrrad-Reparatur - Bildungsurlaub (261WZ5831) 
LOCATION:VHS Arndtstraße;Raum01, Arndtstraße, 47226 Duisburg
END:VEVENT
BEGIN:VEVENT
DTSTAMP:20260419T223556
DTSTART;TZID=Europe/Berlin:20260807T090000
DTEND;TZID=Europe/Berlin:20260807T143000
UID:261WZ5831-20260807T090000@VHSDUISBURG
SUMMARY:Fahrrad-Reparatur - Bildungsurlaub (261WZ5831) 
LOCATION:VHS Arndtstraße;Raum01, Arndtstraße, 47226 Duisburg
END:VEVENT
END:VCALENDAR