BEGIN:VCALENDAR
PRODID:http://www.kufer.de/kuferweb / DE
VERSION:2.0
METHOD:PUBLISH
CALSCALE:GREGORIAN
X-WR-TIMEZONE:Europe/Berlin
BEGIN:VTIMEZONE
TZID:Europe/Berlin
X-LIC-LOCATION:Europe/Berlin
BEGIN:DAYLIGHT
TZOFFSETFROM:+0100
TZOFFSETTO:+0200
TZNAME:CEST
DTSTART;TZID=Europe/Berlin:19700329T020000
RRULE:FREQ=YEARLY;INTERVAL=1;BYDAY=-1SU;BYMONTH=3
END:DAYLIGHT
BEGIN:STANDARD
TZOFFSETFROM:+0200
TZOFFSETTO:+0100
TZNAME:CET
DTSTART;TZID=Europe/Berlin:19701025T030000
RRULE:FREQ=YEARLY;INTERVAL=1;BYDAY=-1SU;BYMONTH=10
END:STANDARD
END:VTIMEZONE
BEGIN:VEVENT
DTSTAMP:20260424T030813
DTSTART;TZID=Europe/Berlin:20260508T180000
DTEND;TZID=Europe/Berlin:20260508T201500
UID:261WZ5678-20260508T180000@VHSDUISBURG
SUMMARY:HTML für Einsteiger (261WZ5678) 
LOCATION:VHS Arndtstraße;Raum13, Arndtstraße, 47226 Duisburg
END:VEVENT
BEGIN:VEVENT
DTSTAMP:20260424T030813
DTSTART;TZID=Europe/Berlin:20260509T110000
DTEND;TZID=Europe/Berlin:20260509T151500
UID:261WZ5678-20260509T110000@VHSDUISBURG
SUMMARY:HTML für Einsteiger (261WZ5678) 
LOCATION:VHS Arndtstraße;Raum13, Arndtstraße, 47226 Duisburg
END:VEVENT
BEGIN:VEVENT
DTSTAMP:20260424T030813
DTSTART;TZID=Europe/Berlin:20260510T110000
DTEND;TZID=Europe/Berlin:20260510T151500
UID:261WZ5678-20260510T110000@VHSDUISBURG
SUMMARY:HTML für Einsteiger (261WZ5678) 
LOCATION:VHS Arndtstraße;Raum13, Arndtstraße, 47226 Duisburg
END:VEVENT
END:VCALENDAR