BEGIN:VCALENDAR
PRODID:http://www.kufer.de/kuferweb / DE
VERSION:2.0
METHOD:PUBLISH
CALSCALE:GREGORIAN
X-WR-TIMEZONE:Europe/Berlin
BEGIN:VTIMEZONE
TZID:Europe/Berlin
X-LIC-LOCATION:Europe/Berlin
BEGIN:DAYLIGHT
TZOFFSETFROM:+0100
TZOFFSETTO:+0200
TZNAME:CEST
DTSTART;TZID=Europe/Berlin:19700329T020000
RRULE:FREQ=YEARLY;INTERVAL=1;BYDAY=-1SU;BYMONTH=3
END:DAYLIGHT
BEGIN:STANDARD
TZOFFSETFROM:+0200
TZOFFSETTO:+0100
TZNAME:CET
DTSTART;TZID=Europe/Berlin:19701025T030000
RRULE:FREQ=YEARLY;INTERVAL=1;BYDAY=-1SU;BYMONTH=10
END:STANDARD
END:VTIMEZONE
BEGIN:VEVENT
DTSTAMP:20260421T214433
DTSTART;TZID=Europe/Berlin:20260113T111500
DTEND;TZID=Europe/Berlin:20260113T124500
UID:261WR9391-20260113T111500@VHSDUISBURG
SUMMARY:Deutsch - Dran bleiben! (261WR9391) 
LOCATION:VHS Arndtstraße;Raum02, Arndtstraße, 47226 Duisburg
END:VEVENT
BEGIN:VEVENT
DTSTAMP:20260421T214433
DTSTART;TZID=Europe/Berlin:20260127T111500
DTEND;TZID=Europe/Berlin:20260127T124500
UID:261WR9391-20260127T111500@VHSDUISBURG
SUMMARY:Deutsch - Dran bleiben! (261WR9391) 
LOCATION:VHS Arndtstraße;Raum02, Arndtstraße, 47226 Duisburg
END:VEVENT
BEGIN:VEVENT
DTSTAMP:20260421T214433
DTSTART;TZID=Europe/Berlin:20260203T111500
DTEND;TZID=Europe/Berlin:20260203T124500
UID:261WR9391-20260203T111500@VHSDUISBURG
SUMMARY:Deutsch - Dran bleiben! (261WR9391) 
LOCATION:VHS Arndtstraße;Raum02, Arndtstraße, 47226 Duisburg
END:VEVENT
BEGIN:VEVENT
DTSTAMP:20260421T214433
DTSTART;TZID=Europe/Berlin:20260210T111500
DTEND;TZID=Europe/Berlin:20260210T124500
UID:261WR9391-20260210T111500@VHSDUISBURG
SUMMARY:Deutsch - Dran bleiben! (261WR9391) 
LOCATION:VHS Arndtstraße;Raum02, Arndtstraße, 47226 Duisburg
END:VEVENT
BEGIN:VEVENT
DTSTAMP:20260421T214433
DTSTART;TZID=Europe/Berlin:20260217T111500
DTEND;TZID=Europe/Berlin:20260217T124500
UID:261WR9391-20260217T111500@VHSDUISBURG
SUMMARY:Deutsch - Dran bleiben! (261WR9391) 
LOCATION:VHS Arndtstraße;Raum02, Arndtstraße, 47226 Duisburg
END:VEVENT
BEGIN:VEVENT
DTSTAMP:20260421T214433
DTSTART;TZID=Europe/Berlin:20260224T111500
DTEND;TZID=Europe/Berlin:20260224T124500
UID:261WR9391-20260224T111500@VHSDUISBURG
SUMMARY:Deutsch - Dran bleiben! (261WR9391) 
LOCATION:VHS Arndtstraße;Raum02, Arndtstraße, 47226 Duisburg
END:VEVENT
BEGIN:VEVENT
DTSTAMP:20260421T214433
DTSTART;TZID=Europe/Berlin:20260303T111500
DTEND;TZID=Europe/Berlin:20260303T124500
UID:261WR9391-20260303T111500@VHSDUISBURG
SUMMARY:Deutsch - Dran bleiben! (261WR9391) 
LOCATION:VHS Arndtstraße;Raum02, Arndtstraße, 47226 Duisburg
END:VEVENT
BEGIN:VEVENT
DTSTAMP:20260421T214433
DTSTART;TZID=Europe/Berlin:20260310T111500
DTEND;TZID=Europe/Berlin:20260310T124500
UID:261WR9391-20260310T111500@VHSDUISBURG
SUMMARY:Deutsch - Dran bleiben! (261WR9391) 
LOCATION:VHS Arndtstraße;Raum02, Arndtstraße, 47226 Duisburg
END:VEVENT
BEGIN:VEVENT
DTSTAMP:20260421T214433
DTSTART;TZID=Europe/Berlin:20260317T111500
DTEND;TZID=Europe/Berlin:20260317T124500
UID:261WR9391-20260317T111500@VHSDUISBURG
SUMMARY:Deutsch - Dran bleiben! (261WR9391) 
LOCATION:VHS Arndtstraße;Raum02, Arndtstraße, 47226 Duisburg
END:VEVENT
BEGIN:VEVENT
DTSTAMP:20260421T214433
DTSTART;TZID=Europe/Berlin:20260324T111500
DTEND;TZID=Europe/Berlin:20260324T124500
UID:261WR9391-20260324T111500@VHSDUISBURG
SUMMARY:Deutsch - Dran bleiben! (261WR9391) 
LOCATION:VHS Arndtstraße;Raum12, Arndtstraße, 47226 Duisburg
END:VEVENT
BEGIN:VEVENT
DTSTAMP:20260421T214433
DTSTART;TZID=Europe/Berlin:20260414T111500
DTEND;TZID=Europe/Berlin:20260414T124500
UID:261WR9391-20260414T111500@VHSDUISBURG
SUMMARY:Deutsch - Dran bleiben! (261WR9391) 
LOCATION:VHS Arndtstraße;Raum02, Arndtstraße, 47226 Duisburg
END:VEVENT
BEGIN:VEVENT
DTSTAMP:20260421T214433
DTSTART;TZID=Europe/Berlin:20260421T111500
DTEND;TZID=Europe/Berlin:20260421T124500
UID:261WR9391-20260421T111500@VHSDUISBURG
SUMMARY:Deutsch - Dran bleiben! (261WR9391) 
LOCATION:VHS Arndtstraße;Raum02, Arndtstraße, 47226 Duisburg
END:VEVENT
BEGIN:VEVENT
DTSTAMP:20260421T214433
DTSTART;TZID=Europe/Berlin:20260428T111500
DTEND;TZID=Europe/Berlin:20260428T124500
UID:261WR9391-20260428T111500@VHSDUISBURG
SUMMARY:Deutsch - Dran bleiben! (261WR9391) 
LOCATION:VHS Arndtstraße;Raum02, Arndtstraße, 47226 Duisburg
END:VEVENT
BEGIN:VEVENT
DTSTAMP:20260421T214433
DTSTART;TZID=Europe/Berlin:20260505T111500
DTEND;TZID=Europe/Berlin:20260505T124500
UID:261WR9391-20260505T111500@VHSDUISBURG
SUMMARY:Deutsch - Dran bleiben! (261WR9391) 
LOCATION:VHS Arndtstraße;Raum02, Arndtstraße, 47226 Duisburg
END:VEVENT
BEGIN:VEVENT
DTSTAMP:20260421T214433
DTSTART;TZID=Europe/Berlin:20260512T111500
DTEND;TZID=Europe/Berlin:20260512T124500
UID:261WR9391-20260512T111500@VHSDUISBURG
SUMMARY:Deutsch - Dran bleiben! (261WR9391) 
LOCATION:VHS Arndtstraße;Raum02, Arndtstraße, 47226 Duisburg
END:VEVENT
BEGIN:VEVENT
DTSTAMP:20260421T214433
DTSTART;TZID=Europe/Berlin:20260519T111500
DTEND;TZID=Europe/Berlin:20260519T124500
UID:261WR9391-20260519T111500@VHSDUISBURG
SUMMARY:Deutsch - Dran bleiben! (261WR9391) 
LOCATION:VHS Arndtstraße;Raum02, Arndtstraße, 47226 Duisburg
END:VEVENT
BEGIN:VEVENT
DTSTAMP:20260421T214433
DTSTART;TZID=Europe/Berlin:20260602T111500
DTEND;TZID=Europe/Berlin:20260602T124500
UID:261WR9391-20260602T111500@VHSDUISBURG
SUMMARY:Deutsch - Dran bleiben! (261WR9391) 
LOCATION:VHS Arndtstraße;Raum02, Arndtstraße, 47226 Duisburg
END:VEVENT
BEGIN:VEVENT
DTSTAMP:20260421T214433
DTSTART;TZID=Europe/Berlin:20260609T111500
DTEND;TZID=Europe/Berlin:20260609T124500
UID:261WR9391-20260609T111500@VHSDUISBURG
SUMMARY:Deutsch - Dran bleiben! (261WR9391) 
LOCATION:VHS Arndtstraße;Raum02, Arndtstraße, 47226 Duisburg
END:VEVENT
BEGIN:VEVENT
DTSTAMP:20260421T214433
DTSTART;TZID=Europe/Berlin:20260616T111500
DTEND;TZID=Europe/Berlin:20260616T124500
UID:261WR9391-20260616T111500@VHSDUISBURG
SUMMARY:Deutsch - Dran bleiben! (261WR9391) 
LOCATION:VHS Arndtstraße;Raum02, Arndtstraße, 47226 Duisburg
END:VEVENT
BEGIN:VEVENT
DTSTAMP:20260421T214433
DTSTART;TZID=Europe/Berlin:20260623T111500
DTEND;TZID=Europe/Berlin:20260623T124500
UID:261WR9391-20260623T111500@VHSDUISBURG
SUMMARY:Deutsch - Dran bleiben! (261WR9391) 
LOCATION:VHS Arndtstraße;Raum02, Arndtstraße, 47226 Duisburg
END:VEVENT
BEGIN:VEVENT
DTSTAMP:20260421T214433
DTSTART;TZID=Europe/Berlin:20260630T111500
DTEND;TZID=Europe/Berlin:20260630T124500
UID:261WR9391-20260630T111500@VHSDUISBURG
SUMMARY:Deutsch - Dran bleiben! (261WR9391) 
LOCATION:VHS Arndtstraße;Raum02, Arndtstraße, 47226 Duisburg
END:VEVENT
BEGIN:VEVENT
DTSTAMP:20260421T214433
DTSTART;TZID=Europe/Berlin:20260707T111500
DTEND;TZID=Europe/Berlin:20260707T124500
UID:261WR9391-20260707T111500@VHSDUISBURG
SUMMARY:Deutsch - Dran bleiben! (261WR9391) 
LOCATION:VHS Arndtstraße;Raum02, Arndtstraße, 47226 Duisburg
END:VEVENT
BEGIN:VEVENT
DTSTAMP:20260421T214433
DTSTART;TZID=Europe/Berlin:20260714T111500
DTEND;TZID=Europe/Berlin:20260714T124500
UID:261WR9391-20260714T111500@VHSDUISBURG
SUMMARY:Deutsch - Dran bleiben! (261WR9391) 
LOCATION:VHS Arndtstraße;Raum02, Arndtstraße, 47226 Duisburg
END:VEVENT
END:VCALENDAR