BEGIN:VCALENDAR
PRODID:http://www.kufer.de/kuferweb / DE
VERSION:2.0
METHOD:PUBLISH
CALSCALE:GREGORIAN
X-WR-TIMEZONE:Europe/Berlin
BEGIN:VTIMEZONE
TZID:Europe/Berlin
X-LIC-LOCATION:Europe/Berlin
BEGIN:DAYLIGHT
TZOFFSETFROM:+0100
TZOFFSETTO:+0200
TZNAME:CEST
DTSTART;TZID=Europe/Berlin:19700329T020000
RRULE:FREQ=YEARLY;INTERVAL=1;BYDAY=-1SU;BYMONTH=3
END:DAYLIGHT
BEGIN:STANDARD
TZOFFSETFROM:+0200
TZOFFSETTO:+0100
TZNAME:CET
DTSTART;TZID=Europe/Berlin:19701025T030000
RRULE:FREQ=YEARLY;INTERVAL=1;BYDAY=-1SU;BYMONTH=10
END:STANDARD
END:VTIMEZONE
BEGIN:VEVENT
DTSTAMP:20260421T183555
DTSTART;TZID=Europe/Berlin:20260205T181500
DTEND;TZID=Europe/Berlin:20260205T191500
UID:261WR6578-20260205T181500@VHSDUISBURG
SUMMARY:Zumba®-Fitness (261WR6578) 
LOCATION:GGS Ottostraße;Turnhalle (ehemals Pestalozzischule), Ottostraße 123, 47198 Duisburg
END:VEVENT
BEGIN:VEVENT
DTSTAMP:20260421T183555
DTSTART;TZID=Europe/Berlin:20260212T181500
DTEND;TZID=Europe/Berlin:20260212T191500
UID:261WR6578-20260212T181500@VHSDUISBURG
SUMMARY:Zumba®-Fitness (261WR6578) 
LOCATION:GGS Ottostraße;Turnhalle (ehemals Pestalozzischule), Ottostraße 123, 47198 Duisburg
END:VEVENT
BEGIN:VEVENT
DTSTAMP:20260421T183555
DTSTART;TZID=Europe/Berlin:20260219T181500
DTEND;TZID=Europe/Berlin:20260219T191500
UID:261WR6578-20260219T181500@VHSDUISBURG
SUMMARY:Zumba®-Fitness (261WR6578) 
LOCATION:GGS Ottostraße;Turnhalle (ehemals Pestalozzischule), Ottostraße 123, 47198 Duisburg
END:VEVENT
BEGIN:VEVENT
DTSTAMP:20260421T183555
DTSTART;TZID=Europe/Berlin:20260226T181500
DTEND;TZID=Europe/Berlin:20260226T191500
UID:261WR6578-20260226T181500@VHSDUISBURG
SUMMARY:Zumba®-Fitness (261WR6578) 
LOCATION:GGS Ottostraße;Turnhalle (ehemals Pestalozzischule), Ottostraße 123, 47198 Duisburg
END:VEVENT
BEGIN:VEVENT
DTSTAMP:20260421T183555
DTSTART;TZID=Europe/Berlin:20260305T181500
DTEND;TZID=Europe/Berlin:20260305T191500
UID:261WR6578-20260305T181500@VHSDUISBURG
SUMMARY:Zumba®-Fitness (261WR6578) 
LOCATION:GGS Ottostraße;Turnhalle (ehemals Pestalozzischule), Ottostraße 123, 47198 Duisburg
END:VEVENT
BEGIN:VEVENT
DTSTAMP:20260421T183555
DTSTART;TZID=Europe/Berlin:20260312T181500
DTEND;TZID=Europe/Berlin:20260312T191500
UID:261WR6578-20260312T181500@VHSDUISBURG
SUMMARY:Zumba®-Fitness (261WR6578) 
LOCATION:GGS Ottostraße;Turnhalle (ehemals Pestalozzischule), Ottostraße 123, 47198 Duisburg
END:VEVENT
BEGIN:VEVENT
DTSTAMP:20260421T183555
DTSTART;TZID=Europe/Berlin:20260319T181500
DTEND;TZID=Europe/Berlin:20260319T191500
UID:261WR6578-20260319T181500@VHSDUISBURG
SUMMARY:Zumba®-Fitness (261WR6578) 
LOCATION:GGS Ottostraße;Turnhalle (ehemals Pestalozzischule), Ottostraße 123, 47198 Duisburg
END:VEVENT
BEGIN:VEVENT
DTSTAMP:20260421T183555
DTSTART;TZID=Europe/Berlin:20260326T181500
DTEND;TZID=Europe/Berlin:20260326T191500
UID:261WR6578-20260326T181500@VHSDUISBURG
SUMMARY:Zumba®-Fitness (261WR6578) 
LOCATION:GGS Ottostraße;Turnhalle (ehemals Pestalozzischule), Ottostraße 123, 47198 Duisburg
END:VEVENT
BEGIN:VEVENT
DTSTAMP:20260421T183555
DTSTART;TZID=Europe/Berlin:20260416T181500
DTEND;TZID=Europe/Berlin:20260416T191500
UID:261WR6578-20260416T181500@VHSDUISBURG
SUMMARY:Zumba®-Fitness (261WR6578) 
LOCATION:GGS Ottostraße;Turnhalle (ehemals Pestalozzischule), Ottostraße 123, 47198 Duisburg
END:VEVENT
BEGIN:VEVENT
DTSTAMP:20260421T183555
DTSTART;TZID=Europe/Berlin:20260423T181500
DTEND;TZID=Europe/Berlin:20260423T191500
UID:261WR6578-20260423T181500@VHSDUISBURG
SUMMARY:Zumba®-Fitness (261WR6578) 
LOCATION:GGS Ottostraße;Turnhalle (ehemals Pestalozzischule), Ottostraße 123, 47198 Duisburg
END:VEVENT
BEGIN:VEVENT
DTSTAMP:20260421T183555
DTSTART;TZID=Europe/Berlin:20260430T181500
DTEND;TZID=Europe/Berlin:20260430T191500
UID:261WR6578-20260430T181500@VHSDUISBURG
SUMMARY:Zumba®-Fitness (261WR6578) 
LOCATION:GGS Ottostraße;Turnhalle (ehemals Pestalozzischule), Ottostraße 123, 47198 Duisburg
END:VEVENT
BEGIN:VEVENT
DTSTAMP:20260421T183555
DTSTART;TZID=Europe/Berlin:20260507T181500
DTEND;TZID=Europe/Berlin:20260507T191500
UID:261WR6578-20260507T181500@VHSDUISBURG
SUMMARY:Zumba®-Fitness (261WR6578) 
LOCATION:GGS Ottostraße;Turnhalle (ehemals Pestalozzischule), Ottostraße 123, 47198 Duisburg
END:VEVENT
BEGIN:VEVENT
DTSTAMP:20260421T183555
DTSTART;TZID=Europe/Berlin:20260521T181500
DTEND;TZID=Europe/Berlin:20260521T191500
UID:261WR6578-20260521T181500@VHSDUISBURG
SUMMARY:Zumba®-Fitness (261WR6578) 
LOCATION:GGS Ottostraße;Turnhalle (ehemals Pestalozzischule), Ottostraße 123, 47198 Duisburg
END:VEVENT
END:VCALENDAR