BEGIN:VCALENDAR
PRODID:http://www.kufer.de/kuferweb / DE
VERSION:2.0
METHOD:PUBLISH
CALSCALE:GREGORIAN
X-WR-TIMEZONE:Europe/Berlin
BEGIN:VTIMEZONE
TZID:Europe/Berlin
X-LIC-LOCATION:Europe/Berlin
BEGIN:DAYLIGHT
TZOFFSETFROM:+0100
TZOFFSETTO:+0200
TZNAME:CEST
DTSTART;TZID=Europe/Berlin:19700329T020000
RRULE:FREQ=YEARLY;INTERVAL=1;BYDAY=-1SU;BYMONTH=3
END:DAYLIGHT
BEGIN:STANDARD
TZOFFSETFROM:+0200
TZOFFSETTO:+0100
TZNAME:CET
DTSTART;TZID=Europe/Berlin:19701025T030000
RRULE:FREQ=YEARLY;INTERVAL=1;BYDAY=-1SU;BYMONTH=10
END:STANDARD
END:VTIMEZONE
BEGIN:VEVENT
DTSTAMP:20260421T085306
DTSTART;TZID=Europe/Berlin:20260120T180000
DTEND;TZID=Europe/Berlin:20260120T193000
UID:261WR6515-20260120T180000@VHSDUISBURG
SUMMARY:Bodyshaping (261WR6515) 
LOCATION:VHS Arndtstraße;Raum03, Arndtstraße, 47226 Duisburg
END:VEVENT
BEGIN:VEVENT
DTSTAMP:20260421T085306
DTSTART;TZID=Europe/Berlin:20260127T180000
DTEND;TZID=Europe/Berlin:20260127T193000
UID:261WR6515-20260127T180000@VHSDUISBURG
SUMMARY:Bodyshaping (261WR6515) 
LOCATION:VHS Arndtstraße;Raum03, Arndtstraße, 47226 Duisburg
END:VEVENT
BEGIN:VEVENT
DTSTAMP:20260421T085306
DTSTART;TZID=Europe/Berlin:20260203T180000
DTEND;TZID=Europe/Berlin:20260203T193000
UID:261WR6515-20260203T180000@VHSDUISBURG
SUMMARY:Bodyshaping (261WR6515) 
LOCATION:VHS Arndtstraße;Raum03, Arndtstraße, 47226 Duisburg
END:VEVENT
BEGIN:VEVENT
DTSTAMP:20260421T085306
DTSTART;TZID=Europe/Berlin:20260210T180000
DTEND;TZID=Europe/Berlin:20260210T193000
UID:261WR6515-20260210T180000@VHSDUISBURG
SUMMARY:Bodyshaping (261WR6515) 
LOCATION:VHS Arndtstraße;Raum03, Arndtstraße, 47226 Duisburg
END:VEVENT
BEGIN:VEVENT
DTSTAMP:20260421T085306
DTSTART;TZID=Europe/Berlin:20260217T180000
DTEND;TZID=Europe/Berlin:20260217T193000
UID:261WR6515-20260217T180000@VHSDUISBURG
SUMMARY:Bodyshaping (261WR6515) 
LOCATION:VHS Arndtstraße;Raum03, Arndtstraße, 47226 Duisburg
END:VEVENT
BEGIN:VEVENT
DTSTAMP:20260421T085306
DTSTART;TZID=Europe/Berlin:20260303T180000
DTEND;TZID=Europe/Berlin:20260303T193000
UID:261WR6515-20260303T180000@VHSDUISBURG
SUMMARY:Bodyshaping (261WR6515) 
LOCATION:VHS Arndtstraße;Raum03, Arndtstraße, 47226 Duisburg
END:VEVENT
BEGIN:VEVENT
DTSTAMP:20260421T085306
DTSTART;TZID=Europe/Berlin:20260310T180000
DTEND;TZID=Europe/Berlin:20260310T193000
UID:261WR6515-20260310T180000@VHSDUISBURG
SUMMARY:Bodyshaping (261WR6515) 
LOCATION:VHS Arndtstraße;Raum03, Arndtstraße, 47226 Duisburg
END:VEVENT
BEGIN:VEVENT
DTSTAMP:20260421T085306
DTSTART;TZID=Europe/Berlin:20260317T180000
DTEND;TZID=Europe/Berlin:20260317T193000
UID:261WR6515-20260317T180000@VHSDUISBURG
SUMMARY:Bodyshaping (261WR6515) 
LOCATION:VHS Arndtstraße;Raum03, Arndtstraße, 47226 Duisburg
END:VEVENT
BEGIN:VEVENT
DTSTAMP:20260421T085306
DTSTART;TZID=Europe/Berlin:20260414T180000
DTEND;TZID=Europe/Berlin:20260414T193000
UID:261WR6515-20260414T180000@VHSDUISBURG
SUMMARY:Bodyshaping (261WR6515) 
LOCATION:VHS Arndtstraße;Raum03, Arndtstraße, 47226 Duisburg
END:VEVENT
BEGIN:VEVENT
DTSTAMP:20260421T085306
DTSTART;TZID=Europe/Berlin:20260421T180000
DTEND;TZID=Europe/Berlin:20260421T193000
UID:261WR6515-20260421T180000@VHSDUISBURG
SUMMARY:Bodyshaping (261WR6515) 
LOCATION:VHS Arndtstraße;Raum03, Arndtstraße, 47226 Duisburg
END:VEVENT
BEGIN:VEVENT
DTSTAMP:20260421T085306
DTSTART;TZID=Europe/Berlin:20260428T180000
DTEND;TZID=Europe/Berlin:20260428T193000
UID:261WR6515-20260428T180000@VHSDUISBURG
SUMMARY:Bodyshaping (261WR6515) 
LOCATION:VHS Arndtstraße;Raum03, Arndtstraße, 47226 Duisburg
END:VEVENT
BEGIN:VEVENT
DTSTAMP:20260421T085306
DTSTART;TZID=Europe/Berlin:20260602T180000
DTEND;TZID=Europe/Berlin:20260602T193000
UID:261WR6515-20260602T180000@VHSDUISBURG
DESCRIPTION:Ersatz für Ausfall am 24.03.2026
SUMMARY:Bodyshaping (261WR6515) 
LOCATION:VHS Arndtstraße;Raum03, Arndtstraße, 47226 Duisburg
END:VEVENT
BEGIN:VEVENT
DTSTAMP:20260421T085306
DTSTART;TZID=Europe/Berlin:20260609T180000
DTEND;TZID=Europe/Berlin:20260609T193000
UID:261WR6515-20260609T180000@VHSDUISBURG
DESCRIPTION:Ersatz für Ausfall am 24.02.2026
Ersatz für Ausfall am 31.03.2026
SUMMARY:Bodyshaping (261WR6515) 
LOCATION:VHS Arndtstraße;Raum03, Arndtstraße, 47226 Duisburg
END:VEVENT
END:VCALENDAR