BEGIN:VCALENDAR
PRODID:http://www.kufer.de/kuferweb / DE
VERSION:2.0
METHOD:PUBLISH
CALSCALE:GREGORIAN
X-WR-TIMEZONE:Europe/Berlin
BEGIN:VTIMEZONE
TZID:Europe/Berlin
X-LIC-LOCATION:Europe/Berlin
BEGIN:DAYLIGHT
TZOFFSETFROM:+0100
TZOFFSETTO:+0200
TZNAME:CEST
DTSTART;TZID=Europe/Berlin:19700329T020000
RRULE:FREQ=YEARLY;INTERVAL=1;BYDAY=-1SU;BYMONTH=3
END:DAYLIGHT
BEGIN:STANDARD
TZOFFSETFROM:+0200
TZOFFSETTO:+0100
TZNAME:CET
DTSTART;TZID=Europe/Berlin:19701025T030000
RRULE:FREQ=YEARLY;INTERVAL=1;BYDAY=-1SU;BYMONTH=10
END:STANDARD
END:VTIMEZONE
BEGIN:VEVENT
DTSTAMP:20260421T114259
DTSTART;TZID=Europe/Berlin:20260203T200000
DTEND;TZID=Europe/Berlin:20260203T210000
UID:261WR6504-20260203T200000@VHSDUISBURG
SUMMARY:"B.O.P." -  Gymnastik (261WR6504) 
LOCATION:OSC Sportwelt;OSC Sportwelt, Gartenstr. 9, 47226 Duisburg
END:VEVENT
BEGIN:VEVENT
DTSTAMP:20260421T114259
DTSTART;TZID=Europe/Berlin:20260210T200000
DTEND;TZID=Europe/Berlin:20260210T210000
UID:261WR6504-20260210T200000@VHSDUISBURG
SUMMARY:"B.O.P." -  Gymnastik (261WR6504) 
LOCATION:OSC Sportwelt;OSC Sportwelt, Gartenstr. 9, 47226 Duisburg
END:VEVENT
BEGIN:VEVENT
DTSTAMP:20260421T114259
DTSTART;TZID=Europe/Berlin:20260217T200000
DTEND;TZID=Europe/Berlin:20260217T210000
UID:261WR6504-20260217T200000@VHSDUISBURG
SUMMARY:"B.O.P." -  Gymnastik (261WR6504) 
LOCATION:OSC Sportwelt;OSC Sportwelt, Gartenstr. 9, 47226 Duisburg
END:VEVENT
BEGIN:VEVENT
DTSTAMP:20260421T114259
DTSTART;TZID=Europe/Berlin:20260224T200000
DTEND;TZID=Europe/Berlin:20260224T210000
UID:261WR6504-20260224T200000@VHSDUISBURG
SUMMARY:"B.O.P." -  Gymnastik (261WR6504) 
LOCATION:OSC Sportwelt;OSC Sportwelt, Gartenstr. 9, 47226 Duisburg
END:VEVENT
BEGIN:VEVENT
DTSTAMP:20260421T114259
DTSTART;TZID=Europe/Berlin:20260303T200000
DTEND;TZID=Europe/Berlin:20260303T210000
UID:261WR6504-20260303T200000@VHSDUISBURG
SUMMARY:"B.O.P." -  Gymnastik (261WR6504) 
LOCATION:OSC Sportwelt;OSC Sportwelt, Gartenstr. 9, 47226 Duisburg
END:VEVENT
BEGIN:VEVENT
DTSTAMP:20260421T114259
DTSTART;TZID=Europe/Berlin:20260310T200000
DTEND;TZID=Europe/Berlin:20260310T210000
UID:261WR6504-20260310T200000@VHSDUISBURG
SUMMARY:"B.O.P." -  Gymnastik (261WR6504) 
LOCATION:OSC Sportwelt;OSC Sportwelt, Gartenstr. 9, 47226 Duisburg
END:VEVENT
BEGIN:VEVENT
DTSTAMP:20260421T114259
DTSTART;TZID=Europe/Berlin:20260317T200000
DTEND;TZID=Europe/Berlin:20260317T210000
UID:261WR6504-20260317T200000@VHSDUISBURG
SUMMARY:"B.O.P." -  Gymnastik (261WR6504) 
LOCATION:OSC Sportwelt;OSC Sportwelt, Gartenstr. 9, 47226 Duisburg
END:VEVENT
BEGIN:VEVENT
DTSTAMP:20260421T114259
DTSTART;TZID=Europe/Berlin:20260324T200000
DTEND;TZID=Europe/Berlin:20260324T210000
UID:261WR6504-20260324T200000@VHSDUISBURG
SUMMARY:"B.O.P." -  Gymnastik (261WR6504) 
LOCATION:OSC Sportwelt;OSC Sportwelt, Gartenstr. 9, 47226 Duisburg
END:VEVENT
BEGIN:VEVENT
DTSTAMP:20260421T114259
DTSTART;TZID=Europe/Berlin:20260414T200000
DTEND;TZID=Europe/Berlin:20260414T210000
UID:261WR6504-20260414T200000@VHSDUISBURG
SUMMARY:"B.O.P." -  Gymnastik (261WR6504) 
LOCATION:OSC Sportwelt;OSC Sportwelt, Gartenstr. 9, 47226 Duisburg
END:VEVENT
BEGIN:VEVENT
DTSTAMP:20260421T114259
DTSTART;TZID=Europe/Berlin:20260421T200000
DTEND;TZID=Europe/Berlin:20260421T210000
UID:261WR6504-20260421T200000@VHSDUISBURG
SUMMARY:"B.O.P." -  Gymnastik (261WR6504) 
LOCATION:OSC Sportwelt;OSC Sportwelt, Gartenstr. 9, 47226 Duisburg
END:VEVENT
BEGIN:VEVENT
DTSTAMP:20260421T114259
DTSTART;TZID=Europe/Berlin:20260428T200000
DTEND;TZID=Europe/Berlin:20260428T210000
UID:261WR6504-20260428T200000@VHSDUISBURG
SUMMARY:"B.O.P." -  Gymnastik (261WR6504) 
LOCATION:OSC Sportwelt;OSC Sportwelt, Gartenstr. 9, 47226 Duisburg
END:VEVENT
BEGIN:VEVENT
DTSTAMP:20260421T114259
DTSTART;TZID=Europe/Berlin:20260505T200000
DTEND;TZID=Europe/Berlin:20260505T210000
UID:261WR6504-20260505T200000@VHSDUISBURG
SUMMARY:"B.O.P." -  Gymnastik (261WR6504) 
LOCATION:OSC Sportwelt;OSC Sportwelt, Gartenstr. 9, 47226 Duisburg
END:VEVENT
BEGIN:VEVENT
DTSTAMP:20260421T114259
DTSTART;TZID=Europe/Berlin:20260512T200000
DTEND;TZID=Europe/Berlin:20260512T210000
UID:261WR6504-20260512T200000@VHSDUISBURG
SUMMARY:"B.O.P." -  Gymnastik (261WR6504) 
LOCATION:OSC Sportwelt;OSC Sportwelt, Gartenstr. 9, 47226 Duisburg
END:VEVENT
END:VCALENDAR