BEGIN:VCALENDAR
PRODID:http://www.kufer.de/kuferweb / DE
VERSION:2.0
METHOD:PUBLISH
CALSCALE:GREGORIAN
X-WR-TIMEZONE:Europe/Berlin
BEGIN:VTIMEZONE
TZID:Europe/Berlin
X-LIC-LOCATION:Europe/Berlin
BEGIN:DAYLIGHT
TZOFFSETFROM:+0100
TZOFFSETTO:+0200
TZNAME:CEST
DTSTART;TZID=Europe/Berlin:19700329T020000
RRULE:FREQ=YEARLY;INTERVAL=1;BYDAY=-1SU;BYMONTH=3
END:DAYLIGHT
BEGIN:STANDARD
TZOFFSETFROM:+0200
TZOFFSETTO:+0100
TZNAME:CET
DTSTART;TZID=Europe/Berlin:19701025T030000
RRULE:FREQ=YEARLY;INTERVAL=1;BYDAY=-1SU;BYMONTH=10
END:STANDARD
END:VTIMEZONE
BEGIN:VEVENT
DTSTAMP:20260421T202104
DTSTART;TZID=Europe/Berlin:20260210T194500
DTEND;TZID=Europe/Berlin:20260210T211500
UID:261WR6354-20260210T194500@VHSDUISBURG
SUMMARY:Fitness Yoga (261WR6354) 
LOCATION:Ev. Kirchengemeinde Ulmenhof;Ev.Kirch,Gem. Ulmenhof, Ulmenstr. 31, 47239 Duisburg
END:VEVENT
BEGIN:VEVENT
DTSTAMP:20260421T202104
DTSTART;TZID=Europe/Berlin:20260217T194500
DTEND;TZID=Europe/Berlin:20260217T211500
UID:261WR6354-20260217T194500@VHSDUISBURG
SUMMARY:Fitness Yoga (261WR6354) 
LOCATION:Ev. Kirchengemeinde Ulmenhof;Ev.Kirch,Gem. Ulmenhof, Ulmenstr. 31, 47239 Duisburg
END:VEVENT
BEGIN:VEVENT
DTSTAMP:20260421T202104
DTSTART;TZID=Europe/Berlin:20260224T194500
DTEND;TZID=Europe/Berlin:20260224T211500
UID:261WR6354-20260224T194500@VHSDUISBURG
SUMMARY:Fitness Yoga (261WR6354) 
LOCATION:Ev. Kirchengemeinde Ulmenhof;Ev.Kirch,Gem. Ulmenhof, Ulmenstr. 31, 47239 Duisburg
END:VEVENT
BEGIN:VEVENT
DTSTAMP:20260421T202104
DTSTART;TZID=Europe/Berlin:20260303T194500
DTEND;TZID=Europe/Berlin:20260303T211500
UID:261WR6354-20260303T194500@VHSDUISBURG
SUMMARY:Fitness Yoga (261WR6354) 
LOCATION:Ev. Kirchengemeinde Ulmenhof;Ev.Kirch,Gem. Ulmenhof, Ulmenstr. 31, 47239 Duisburg
END:VEVENT
BEGIN:VEVENT
DTSTAMP:20260421T202104
DTSTART;TZID=Europe/Berlin:20260310T194500
DTEND;TZID=Europe/Berlin:20260310T211500
UID:261WR6354-20260310T194500@VHSDUISBURG
SUMMARY:Fitness Yoga (261WR6354) 
LOCATION:Ev. Kirchengemeinde Ulmenhof;Ev.Kirch,Gem. Ulmenhof, Ulmenstr. 31, 47239 Duisburg
END:VEVENT
BEGIN:VEVENT
DTSTAMP:20260421T202104
DTSTART;TZID=Europe/Berlin:20260317T194500
DTEND;TZID=Europe/Berlin:20260317T211500
UID:261WR6354-20260317T194500@VHSDUISBURG
SUMMARY:Fitness Yoga (261WR6354) 
LOCATION:Ev. Kirchengemeinde Ulmenhof;Ev.Kirch,Gem. Ulmenhof, Ulmenstr. 31, 47239 Duisburg
END:VEVENT
BEGIN:VEVENT
DTSTAMP:20260421T202104
DTSTART;TZID=Europe/Berlin:20260324T194500
DTEND;TZID=Europe/Berlin:20260324T211500
UID:261WR6354-20260324T194500@VHSDUISBURG
SUMMARY:Fitness Yoga (261WR6354) 
LOCATION:Ev. Kirchengemeinde Ulmenhof;Ev.Kirch,Gem. Ulmenhof, Ulmenstr. 31, 47239 Duisburg
END:VEVENT
BEGIN:VEVENT
DTSTAMP:20260421T202104
DTSTART;TZID=Europe/Berlin:20260414T194500
DTEND;TZID=Europe/Berlin:20260414T211500
UID:261WR6354-20260414T194500@VHSDUISBURG
SUMMARY:Fitness Yoga (261WR6354) 
LOCATION:Ev. Kirchengemeinde Ulmenhof;Ev.Kirch,Gem. Ulmenhof, Ulmenstr. 31, 47239 Duisburg
END:VEVENT
BEGIN:VEVENT
DTSTAMP:20260421T202104
DTSTART;TZID=Europe/Berlin:20260421T194500
DTEND;TZID=Europe/Berlin:20260421T211500
UID:261WR6354-20260421T194500@VHSDUISBURG
SUMMARY:Fitness Yoga (261WR6354) 
LOCATION:Ev. Kirchengemeinde Ulmenhof;Ev.Kirch,Gem. Ulmenhof, Ulmenstr. 31, 47239 Duisburg
END:VEVENT
BEGIN:VEVENT
DTSTAMP:20260421T202104
DTSTART;TZID=Europe/Berlin:20260428T194500
DTEND;TZID=Europe/Berlin:20260428T211500
UID:261WR6354-20260428T194500@VHSDUISBURG
SUMMARY:Fitness Yoga (261WR6354) 
LOCATION:Ev. Kirchengemeinde Ulmenhof;Ev.Kirch,Gem. Ulmenhof, Ulmenstr. 31, 47239 Duisburg
END:VEVENT
BEGIN:VEVENT
DTSTAMP:20260421T202104
DTSTART;TZID=Europe/Berlin:20260505T194500
DTEND;TZID=Europe/Berlin:20260505T211500
UID:261WR6354-20260505T194500@VHSDUISBURG
SUMMARY:Fitness Yoga (261WR6354) 
LOCATION:Ev. Kirchengemeinde Ulmenhof;Ev.Kirch,Gem. Ulmenhof, Ulmenstr. 31, 47239 Duisburg
END:VEVENT
BEGIN:VEVENT
DTSTAMP:20260421T202104
DTSTART;TZID=Europe/Berlin:20260512T194500
DTEND;TZID=Europe/Berlin:20260512T211500
UID:261WR6354-20260512T194500@VHSDUISBURG
SUMMARY:Fitness Yoga (261WR6354) 
LOCATION:Ev. Kirchengemeinde Ulmenhof;Ev.Kirch,Gem. Ulmenhof, Ulmenstr. 31, 47239 Duisburg
END:VEVENT
BEGIN:VEVENT
DTSTAMP:20260421T202104
DTSTART;TZID=Europe/Berlin:20260519T194500
DTEND;TZID=Europe/Berlin:20260519T211500
UID:261WR6354-20260519T194500@VHSDUISBURG
DESCRIPTION:Ersatz für Ausfall am 03.02.2026
SUMMARY:Fitness Yoga (261WR6354) 
LOCATION:Ev. Kirchengemeinde Ulmenhof;Ev.Kirch,Gem. Ulmenhof, Ulmenstr. 31, 47239 Duisburg
END:VEVENT
END:VCALENDAR