BEGIN:VCALENDAR
PRODID:http://www.kufer.de/kuferweb / DE
VERSION:2.0
METHOD:PUBLISH
CALSCALE:GREGORIAN
X-WR-TIMEZONE:Europe/Berlin
BEGIN:VTIMEZONE
TZID:Europe/Berlin
X-LIC-LOCATION:Europe/Berlin
BEGIN:DAYLIGHT
TZOFFSETFROM:+0100
TZOFFSETTO:+0200
TZNAME:CEST
DTSTART;TZID=Europe/Berlin:19700329T020000
RRULE:FREQ=YEARLY;INTERVAL=1;BYDAY=-1SU;BYMONTH=3
END:DAYLIGHT
BEGIN:STANDARD
TZOFFSETFROM:+0200
TZOFFSETTO:+0100
TZNAME:CET
DTSTART;TZID=Europe/Berlin:19701025T030000
RRULE:FREQ=YEARLY;INTERVAL=1;BYDAY=-1SU;BYMONTH=10
END:STANDARD
END:VTIMEZONE
BEGIN:VEVENT
DTSTAMP:20260421T201605
DTSTART;TZID=Europe/Berlin:20260205T194500
DTEND;TZID=Europe/Berlin:20260205T211500
UID:261WR6353-20260205T194500@VHSDUISBURG
SUMMARY:Fitness Yoga (261WR6353) 
LOCATION:Ev. Kirchengemeinde Ulmenhof;Ev.Kirch,Gem. Ulmenhof, Ulmenstr. 31, 47239 Duisburg
END:VEVENT
BEGIN:VEVENT
DTSTAMP:20260421T201605
DTSTART;TZID=Europe/Berlin:20260219T194500
DTEND;TZID=Europe/Berlin:20260219T211500
UID:261WR6353-20260219T194500@VHSDUISBURG
SUMMARY:Fitness Yoga (261WR6353) 
LOCATION:Ev. Kirchengemeinde Ulmenhof;Ev.Kirch,Gem. Ulmenhof, Ulmenstr. 31, 47239 Duisburg
END:VEVENT
BEGIN:VEVENT
DTSTAMP:20260421T201605
DTSTART;TZID=Europe/Berlin:20260226T194500
DTEND;TZID=Europe/Berlin:20260226T211500
UID:261WR6353-20260226T194500@VHSDUISBURG
SUMMARY:Fitness Yoga (261WR6353) 
LOCATION:Ev. Kirchengemeinde Ulmenhof;Ev.Kirch,Gem. Ulmenhof, Ulmenstr. 31, 47239 Duisburg
END:VEVENT
BEGIN:VEVENT
DTSTAMP:20260421T201605
DTSTART;TZID=Europe/Berlin:20260305T194500
DTEND;TZID=Europe/Berlin:20260305T211500
UID:261WR6353-20260305T194500@VHSDUISBURG
SUMMARY:Fitness Yoga (261WR6353) 
LOCATION:Ev. Kirchengemeinde Ulmenhof;Ev.Kirch,Gem. Ulmenhof, Ulmenstr. 31, 47239 Duisburg
END:VEVENT
BEGIN:VEVENT
DTSTAMP:20260421T201605
DTSTART;TZID=Europe/Berlin:20260312T194500
DTEND;TZID=Europe/Berlin:20260312T211500
UID:261WR6353-20260312T194500@VHSDUISBURG
SUMMARY:Fitness Yoga (261WR6353) 
LOCATION:Ev. Kirchengemeinde Ulmenhof;Ev.Kirch,Gem. Ulmenhof, Ulmenstr. 31, 47239 Duisburg
END:VEVENT
BEGIN:VEVENT
DTSTAMP:20260421T201605
DTSTART;TZID=Europe/Berlin:20260326T194500
DTEND;TZID=Europe/Berlin:20260326T211500
UID:261WR6353-20260326T194500@VHSDUISBURG
SUMMARY:Fitness Yoga (261WR6353) 
LOCATION:Ev. Kirchengemeinde Ulmenhof;Ev.Kirch,Gem. Ulmenhof, Ulmenstr. 31, 47239 Duisburg
END:VEVENT
BEGIN:VEVENT
DTSTAMP:20260421T201605
DTSTART;TZID=Europe/Berlin:20260416T194500
DTEND;TZID=Europe/Berlin:20260416T211500
UID:261WR6353-20260416T194500@VHSDUISBURG
SUMMARY:Fitness Yoga (261WR6353) 
LOCATION:Ev. Kirchengemeinde Ulmenhof;Ev.Kirch,Gem. Ulmenhof, Ulmenstr. 31, 47239 Duisburg
END:VEVENT
BEGIN:VEVENT
DTSTAMP:20260421T201605
DTSTART;TZID=Europe/Berlin:20260423T194500
DTEND;TZID=Europe/Berlin:20260423T211500
UID:261WR6353-20260423T194500@VHSDUISBURG
SUMMARY:Fitness Yoga (261WR6353) 
LOCATION:Ev. Kirchengemeinde Ulmenhof;Ev.Kirch,Gem. Ulmenhof, Ulmenstr. 31, 47239 Duisburg
END:VEVENT
BEGIN:VEVENT
DTSTAMP:20260421T201605
DTSTART;TZID=Europe/Berlin:20260430T194500
DTEND;TZID=Europe/Berlin:20260430T211500
UID:261WR6353-20260430T194500@VHSDUISBURG
SUMMARY:Fitness Yoga (261WR6353) 
LOCATION:Ev. Kirchengemeinde Ulmenhof;Ev.Kirch,Gem. Ulmenhof, Ulmenstr. 31, 47239 Duisburg
END:VEVENT
BEGIN:VEVENT
DTSTAMP:20260421T201605
DTSTART;TZID=Europe/Berlin:20260507T194500
DTEND;TZID=Europe/Berlin:20260507T211500
UID:261WR6353-20260507T194500@VHSDUISBURG
SUMMARY:Fitness Yoga (261WR6353) 
LOCATION:Ev. Kirchengemeinde Ulmenhof;Ev.Kirch,Gem. Ulmenhof, Ulmenstr. 31, 47239 Duisburg
END:VEVENT
BEGIN:VEVENT
DTSTAMP:20260421T201605
DTSTART;TZID=Europe/Berlin:20260521T194500
DTEND;TZID=Europe/Berlin:20260521T211500
UID:261WR6353-20260521T194500@VHSDUISBURG
SUMMARY:Fitness Yoga (261WR6353) 
LOCATION:Ev. Kirchengemeinde Ulmenhof;Ev.Kirch,Gem. Ulmenhof, Ulmenstr. 31, 47239 Duisburg
END:VEVENT
BEGIN:VEVENT
DTSTAMP:20260421T201605
DTSTART;TZID=Europe/Berlin:20260528T194500
DTEND;TZID=Europe/Berlin:20260528T211500
UID:261WR6353-20260528T194500@VHSDUISBURG
DESCRIPTION:Ersatz für Ausfall am 12.02.2026
SUMMARY:Fitness Yoga (261WR6353) 
LOCATION:Ev. Kirchengemeinde Ulmenhof;Ev.Kirch,Gem. Ulmenhof, Ulmenstr. 31, 47239 Duisburg
END:VEVENT
BEGIN:VEVENT
DTSTAMP:20260421T201605
DTSTART;TZID=Europe/Berlin:20260611T194500
DTEND;TZID=Europe/Berlin:20260611T211500
UID:261WR6353-20260611T194500@VHSDUISBURG
DESCRIPTION:Ersatz für Ausfall am 19.03.2026
SUMMARY:Fitness Yoga (261WR6353) 
LOCATION:Ev. Kirchengemeinde Ulmenhof;Ev.Kirch,Gem. Ulmenhof, Ulmenstr. 31, 47239 Duisburg
END:VEVENT
END:VCALENDAR