BEGIN:VCALENDAR
PRODID:http://www.kufer.de/kuferweb / DE
VERSION:2.0
METHOD:PUBLISH
CALSCALE:GREGORIAN
X-WR-TIMEZONE:Europe/Berlin
BEGIN:VTIMEZONE
TZID:Europe/Berlin
X-LIC-LOCATION:Europe/Berlin
BEGIN:DAYLIGHT
TZOFFSETFROM:+0100
TZOFFSETTO:+0200
TZNAME:CEST
DTSTART;TZID=Europe/Berlin:19700329T020000
RRULE:FREQ=YEARLY;INTERVAL=1;BYDAY=-1SU;BYMONTH=3
END:DAYLIGHT
BEGIN:STANDARD
TZOFFSETFROM:+0200
TZOFFSETTO:+0100
TZNAME:CET
DTSTART;TZID=Europe/Berlin:19701025T030000
RRULE:FREQ=YEARLY;INTERVAL=1;BYDAY=-1SU;BYMONTH=10
END:STANDARD
END:VTIMEZONE
BEGIN:VEVENT
DTSTAMP:20260421T131143
DTSTART;TZID=Europe/Berlin:20260304T184500
DTEND;TZID=Europe/Berlin:20260304T201500
UID:261WR6328-20260304T184500@VHSDUISBURG
SUMMARY:Hatha Yoga - Für Neulinge und Fortgeschrittene (261WR6328) 
LOCATION:Leif Bosch Rehasport & Gesundheitscentrum, Halener Str. 78, 47198 Duisburg
END:VEVENT
BEGIN:VEVENT
DTSTAMP:20260421T131143
DTSTART;TZID=Europe/Berlin:20260311T184500
DTEND;TZID=Europe/Berlin:20260311T201500
UID:261WR6328-20260311T184500@VHSDUISBURG
SUMMARY:Hatha Yoga - Für Neulinge und Fortgeschrittene (261WR6328) 
LOCATION:Leif Bosch Rehasport & Gesundheitscentrum, Halener Str. 78, 47198 Duisburg
END:VEVENT
BEGIN:VEVENT
DTSTAMP:20260421T131143
DTSTART;TZID=Europe/Berlin:20260318T184500
DTEND;TZID=Europe/Berlin:20260318T201500
UID:261WR6328-20260318T184500@VHSDUISBURG
SUMMARY:Hatha Yoga - Für Neulinge und Fortgeschrittene (261WR6328) 
LOCATION:Leif Bosch Rehasport & Gesundheitscentrum, Halener Str. 78, 47198 Duisburg
END:VEVENT
BEGIN:VEVENT
DTSTAMP:20260421T131143
DTSTART;TZID=Europe/Berlin:20260325T184500
DTEND;TZID=Europe/Berlin:20260325T201500
UID:261WR6328-20260325T184500@VHSDUISBURG
SUMMARY:Hatha Yoga - Für Neulinge und Fortgeschrittene (261WR6328) 
LOCATION:Leif Bosch Rehasport & Gesundheitscentrum, Halener Str. 78, 47198 Duisburg
END:VEVENT
BEGIN:VEVENT
DTSTAMP:20260421T131143
DTSTART;TZID=Europe/Berlin:20260415T184500
DTEND;TZID=Europe/Berlin:20260415T201500
UID:261WR6328-20260415T184500@VHSDUISBURG
SUMMARY:Hatha Yoga - Für Neulinge und Fortgeschrittene (261WR6328) 
LOCATION:Leif Bosch Rehasport & Gesundheitscentrum, Halener Str. 78, 47198 Duisburg
END:VEVENT
BEGIN:VEVENT
DTSTAMP:20260421T131143
DTSTART;TZID=Europe/Berlin:20260422T184500
DTEND;TZID=Europe/Berlin:20260422T201500
UID:261WR6328-20260422T184500@VHSDUISBURG
SUMMARY:Hatha Yoga - Für Neulinge und Fortgeschrittene (261WR6328) 
LOCATION:Leif Bosch Rehasport & Gesundheitscentrum, Halener Str. 78, 47198 Duisburg
END:VEVENT
BEGIN:VEVENT
DTSTAMP:20260421T131143
DTSTART;TZID=Europe/Berlin:20260429T184500
DTEND;TZID=Europe/Berlin:20260429T201500
UID:261WR6328-20260429T184500@VHSDUISBURG
SUMMARY:Hatha Yoga - Für Neulinge und Fortgeschrittene (261WR6328) 
LOCATION:Leif Bosch Rehasport & Gesundheitscentrum, Halener Str. 78, 47198 Duisburg
END:VEVENT
BEGIN:VEVENT
DTSTAMP:20260421T131143
DTSTART;TZID=Europe/Berlin:20260506T184500
DTEND;TZID=Europe/Berlin:20260506T201500
UID:261WR6328-20260506T184500@VHSDUISBURG
SUMMARY:Hatha Yoga - Für Neulinge und Fortgeschrittene (261WR6328) 
LOCATION:Leif Bosch Rehasport & Gesundheitscentrum, Halener Str. 78, 47198 Duisburg
END:VEVENT
BEGIN:VEVENT
DTSTAMP:20260421T131143
DTSTART;TZID=Europe/Berlin:20260513T184500
DTEND;TZID=Europe/Berlin:20260513T201500
UID:261WR6328-20260513T184500@VHSDUISBURG
SUMMARY:Hatha Yoga - Für Neulinge und Fortgeschrittene (261WR6328) 
LOCATION:Leif Bosch Rehasport & Gesundheitscentrum, Halener Str. 78, 47198 Duisburg
END:VEVENT
BEGIN:VEVENT
DTSTAMP:20260421T131143
DTSTART;TZID=Europe/Berlin:20260520T184500
DTEND;TZID=Europe/Berlin:20260520T201500
UID:261WR6328-20260520T184500@VHSDUISBURG
DESCRIPTION:Ersatz für Ausfall am 25.02.2026
SUMMARY:Hatha Yoga - Für Neulinge und Fortgeschrittene (261WR6328) 
LOCATION:Leif Bosch Rehasport & Gesundheitscentrum, Halener Str. 78, 47198 Duisburg
END:VEVENT
BEGIN:VEVENT
DTSTAMP:20260421T131143
DTSTART;TZID=Europe/Berlin:20260527T184500
DTEND;TZID=Europe/Berlin:20260527T201500
UID:261WR6328-20260527T184500@VHSDUISBURG
DESCRIPTION:Ersatz für Ausfall am 18.02.2026
SUMMARY:Hatha Yoga - Für Neulinge und Fortgeschrittene (261WR6328) 
LOCATION:Leif Bosch Rehasport & Gesundheitscentrum, Halener Str. 78, 47198 Duisburg
END:VEVENT
BEGIN:VEVENT
DTSTAMP:20260421T131143
DTSTART;TZID=Europe/Berlin:20260603T184500
DTEND;TZID=Europe/Berlin:20260603T201500
UID:261WR6328-20260603T184500@VHSDUISBURG
DESCRIPTION:Ersatz für Ausfall am 11.02.2026
SUMMARY:Hatha Yoga - Für Neulinge und Fortgeschrittene (261WR6328) 
LOCATION:Leif Bosch Rehasport & Gesundheitscentrum, Halener Str. 78, 47198 Duisburg
END:VEVENT
BEGIN:VEVENT
DTSTAMP:20260421T131143
DTSTART;TZID=Europe/Berlin:20260610T184500
DTEND;TZID=Europe/Berlin:20260610T201500
UID:261WR6328-20260610T184500@VHSDUISBURG
DESCRIPTION:Ersatz für Ausfall am 04.02.2026
SUMMARY:Hatha Yoga - Für Neulinge und Fortgeschrittene (261WR6328) 
LOCATION:Leif Bosch Rehasport & Gesundheitscentrum, Halener Str. 78, 47198 Duisburg
END:VEVENT
END:VCALENDAR