BEGIN:VCALENDAR
PRODID:http://www.kufer.de/kuferweb / DE
VERSION:2.0
METHOD:PUBLISH
CALSCALE:GREGORIAN
X-WR-TIMEZONE:Europe/Berlin
BEGIN:VTIMEZONE
TZID:Europe/Berlin
X-LIC-LOCATION:Europe/Berlin
BEGIN:DAYLIGHT
TZOFFSETFROM:+0100
TZOFFSETTO:+0200
TZNAME:CEST
DTSTART;TZID=Europe/Berlin:19700329T020000
RRULE:FREQ=YEARLY;INTERVAL=1;BYDAY=-1SU;BYMONTH=3
END:DAYLIGHT
BEGIN:STANDARD
TZOFFSETFROM:+0200
TZOFFSETTO:+0100
TZNAME:CET
DTSTART;TZID=Europe/Berlin:19701025T030000
RRULE:FREQ=YEARLY;INTERVAL=1;BYDAY=-1SU;BYMONTH=10
END:STANDARD
END:VTIMEZONE
BEGIN:VEVENT
DTSTAMP:20260421T160922
DTSTART;TZID=Europe/Berlin:20260417T150000
DTEND;TZID=Europe/Berlin:20260417T163000
UID:261WR5227-20260417T150000@VHSDUISBURG
SUMMARY:Einstieg in den Umgang mit dem eigenen Laptop mit Windows 11 (261WR5227) 
LOCATION:VHS Arndtstraße;Raum13, Arndtstraße, 47226 Duisburg
END:VEVENT
BEGIN:VEVENT
DTSTAMP:20260421T160922
DTSTART;TZID=Europe/Berlin:20260424T150000
DTEND;TZID=Europe/Berlin:20260424T163000
UID:261WR5227-20260424T150000@VHSDUISBURG
SUMMARY:Einstieg in den Umgang mit dem eigenen Laptop mit Windows 11 (261WR5227) 
LOCATION:VHS Arndtstraße;Raum13, Arndtstraße, 47226 Duisburg
END:VEVENT
BEGIN:VEVENT
DTSTAMP:20260421T160922
DTSTART;TZID=Europe/Berlin:20260508T150000
DTEND;TZID=Europe/Berlin:20260508T163000
UID:261WR5227-20260508T150000@VHSDUISBURG
SUMMARY:Einstieg in den Umgang mit dem eigenen Laptop mit Windows 11 (261WR5227) 
LOCATION:VHS Arndtstraße;Raum13, Arndtstraße, 47226 Duisburg
END:VEVENT
BEGIN:VEVENT
DTSTAMP:20260421T160922
DTSTART;TZID=Europe/Berlin:20260522T150000
DTEND;TZID=Europe/Berlin:20260522T163000
UID:261WR5227-20260522T150000@VHSDUISBURG
DESCRIPTION:Ersatz für Ausfall am 15.05.2026
SUMMARY:Einstieg in den Umgang mit dem eigenen Laptop mit Windows 11 (261WR5227) 
LOCATION:VHS Arndtstraße;Raum13, Arndtstraße, 47226 Duisburg
END:VEVENT
END:VCALENDAR