BEGIN:VCALENDAR
PRODID:http://www.kufer.de/kuferweb / DE
VERSION:2.0
METHOD:PUBLISH
CALSCALE:GREGORIAN
X-WR-TIMEZONE:Europe/Berlin
BEGIN:VTIMEZONE
TZID:Europe/Berlin
X-LIC-LOCATION:Europe/Berlin
BEGIN:DAYLIGHT
TZOFFSETFROM:+0100
TZOFFSETTO:+0200
TZNAME:CEST
DTSTART;TZID=Europe/Berlin:19700329T020000
RRULE:FREQ=YEARLY;INTERVAL=1;BYDAY=-1SU;BYMONTH=3
END:DAYLIGHT
BEGIN:STANDARD
TZOFFSETFROM:+0200
TZOFFSETTO:+0100
TZNAME:CET
DTSTART;TZID=Europe/Berlin:19701025T030000
RRULE:FREQ=YEARLY;INTERVAL=1;BYDAY=-1SU;BYMONTH=10
END:STANDARD
END:VTIMEZONE
BEGIN:VEVENT
DTSTAMP:20260421T171611
DTSTART;TZID=Europe/Berlin:20260224T093000
DTEND;TZID=Europe/Berlin:20260224T120000
UID:261WR3803-20260224T093000@VHSDUISBURG
SUMMARY:Lesen und Schreiben 1 - 3 (261WR3803) 
LOCATION:VHS Arndtstraße;Raum01, Arndtstraße, 47226 Duisburg
END:VEVENT
BEGIN:VEVENT
DTSTAMP:20260421T171611
DTSTART;TZID=Europe/Berlin:20260225T093000
DTEND;TZID=Europe/Berlin:20260225T120000
UID:261WR3803-20260225T093000@VHSDUISBURG
SUMMARY:Lesen und Schreiben 1 - 3 (261WR3803) 
LOCATION:VHS Arndtstraße;Raum01, Arndtstraße, 47226 Duisburg
END:VEVENT
BEGIN:VEVENT
DTSTAMP:20260421T171611
DTSTART;TZID=Europe/Berlin:20260303T093000
DTEND;TZID=Europe/Berlin:20260303T120000
UID:261WR3803-20260303T093000@VHSDUISBURG
SUMMARY:Lesen und Schreiben 1 - 3 (261WR3803) 
LOCATION:VHS Arndtstraße;Raum01, Arndtstraße, 47226 Duisburg
END:VEVENT
BEGIN:VEVENT
DTSTAMP:20260421T171611
DTSTART;TZID=Europe/Berlin:20260304T093000
DTEND;TZID=Europe/Berlin:20260304T120000
UID:261WR3803-20260304T093000@VHSDUISBURG
SUMMARY:Lesen und Schreiben 1 - 3 (261WR3803) 
LOCATION:VHS Arndtstraße;Raum01, Arndtstraße, 47226 Duisburg
END:VEVENT
BEGIN:VEVENT
DTSTAMP:20260421T171611
DTSTART;TZID=Europe/Berlin:20260310T093000
DTEND;TZID=Europe/Berlin:20260310T120000
UID:261WR3803-20260310T093000@VHSDUISBURG
SUMMARY:Lesen und Schreiben 1 - 3 (261WR3803) 
LOCATION:VHS Arndtstraße;Raum01, Arndtstraße, 47226 Duisburg
END:VEVENT
BEGIN:VEVENT
DTSTAMP:20260421T171611
DTSTART;TZID=Europe/Berlin:20260311T093000
DTEND;TZID=Europe/Berlin:20260311T120000
UID:261WR3803-20260311T093000@VHSDUISBURG
SUMMARY:Lesen und Schreiben 1 - 3 (261WR3803) 
LOCATION:VHS Arndtstraße;Raum01, Arndtstraße, 47226 Duisburg
END:VEVENT
BEGIN:VEVENT
DTSTAMP:20260421T171611
DTSTART;TZID=Europe/Berlin:20260317T093000
DTEND;TZID=Europe/Berlin:20260317T120000
UID:261WR3803-20260317T093000@VHSDUISBURG
SUMMARY:Lesen und Schreiben 1 - 3 (261WR3803) 
LOCATION:VHS Arndtstraße;Raum01, Arndtstraße, 47226 Duisburg
END:VEVENT
BEGIN:VEVENT
DTSTAMP:20260421T171611
DTSTART;TZID=Europe/Berlin:20260318T093000
DTEND;TZID=Europe/Berlin:20260318T120000
UID:261WR3803-20260318T093000@VHSDUISBURG
SUMMARY:Lesen und Schreiben 1 - 3 (261WR3803) 
LOCATION:VHS Arndtstraße;Raum01, Arndtstraße, 47226 Duisburg
END:VEVENT
BEGIN:VEVENT
DTSTAMP:20260421T171611
DTSTART;TZID=Europe/Berlin:20260324T093000
DTEND;TZID=Europe/Berlin:20260324T120000
UID:261WR3803-20260324T093000@VHSDUISBURG
SUMMARY:Lesen und Schreiben 1 - 3 (261WR3803) 
LOCATION:VHS Arndtstraße;Raum01, Arndtstraße, 47226 Duisburg
END:VEVENT
BEGIN:VEVENT
DTSTAMP:20260421T171611
DTSTART;TZID=Europe/Berlin:20260325T093000
DTEND;TZID=Europe/Berlin:20260325T120000
UID:261WR3803-20260325T093000@VHSDUISBURG
SUMMARY:Lesen und Schreiben 1 - 3 (261WR3803) 
LOCATION:VHS Arndtstraße;Raum01, Arndtstraße, 47226 Duisburg
END:VEVENT
BEGIN:VEVENT
DTSTAMP:20260421T171611
DTSTART;TZID=Europe/Berlin:20260414T093000
DTEND;TZID=Europe/Berlin:20260414T120000
UID:261WR3803-20260414T093000@VHSDUISBURG
SUMMARY:Lesen und Schreiben 1 - 3 (261WR3803) 
LOCATION:VHS Arndtstraße;Raum01, Arndtstraße, 47226 Duisburg
END:VEVENT
BEGIN:VEVENT
DTSTAMP:20260421T171611
DTSTART;TZID=Europe/Berlin:20260415T093000
DTEND;TZID=Europe/Berlin:20260415T120000
UID:261WR3803-20260415T093000@VHSDUISBURG
SUMMARY:Lesen und Schreiben 1 - 3 (261WR3803) 
LOCATION:VHS Arndtstraße;Raum01, Arndtstraße, 47226 Duisburg
END:VEVENT
BEGIN:VEVENT
DTSTAMP:20260421T171611
DTSTART;TZID=Europe/Berlin:20260421T093000
DTEND;TZID=Europe/Berlin:20260421T120000
UID:261WR3803-20260421T093000@VHSDUISBURG
SUMMARY:Lesen und Schreiben 1 - 3 (261WR3803) 
LOCATION:VHS Arndtstraße;Raum01, Arndtstraße, 47226 Duisburg
END:VEVENT
BEGIN:VEVENT
DTSTAMP:20260421T171611
DTSTART;TZID=Europe/Berlin:20260422T093000
DTEND;TZID=Europe/Berlin:20260422T120000
UID:261WR3803-20260422T093000@VHSDUISBURG
SUMMARY:Lesen und Schreiben 1 - 3 (261WR3803) 
LOCATION:VHS Arndtstraße;Raum01, Arndtstraße, 47226 Duisburg
END:VEVENT
BEGIN:VEVENT
DTSTAMP:20260421T171611
DTSTART;TZID=Europe/Berlin:20260428T093000
DTEND;TZID=Europe/Berlin:20260428T120000
UID:261WR3803-20260428T093000@VHSDUISBURG
SUMMARY:Lesen und Schreiben 1 - 3 (261WR3803) 
LOCATION:VHS Arndtstraße;Raum01, Arndtstraße, 47226 Duisburg
END:VEVENT
BEGIN:VEVENT
DTSTAMP:20260421T171611
DTSTART;TZID=Europe/Berlin:20260429T093000
DTEND;TZID=Europe/Berlin:20260429T120000
UID:261WR3803-20260429T093000@VHSDUISBURG
SUMMARY:Lesen und Schreiben 1 - 3 (261WR3803) 
LOCATION:VHS Arndtstraße;Raum01, Arndtstraße, 47226 Duisburg
END:VEVENT
BEGIN:VEVENT
DTSTAMP:20260421T171611
DTSTART;TZID=Europe/Berlin:20260505T093000
DTEND;TZID=Europe/Berlin:20260505T120000
UID:261WR3803-20260505T093000@VHSDUISBURG
SUMMARY:Lesen und Schreiben 1 - 3 (261WR3803) 
LOCATION:VHS Arndtstraße;Raum01, Arndtstraße, 47226 Duisburg
END:VEVENT
BEGIN:VEVENT
DTSTAMP:20260421T171611
DTSTART;TZID=Europe/Berlin:20260506T093000
DTEND;TZID=Europe/Berlin:20260506T120000
UID:261WR3803-20260506T093000@VHSDUISBURG
SUMMARY:Lesen und Schreiben 1 - 3 (261WR3803) 
LOCATION:VHS Arndtstraße;Raum01, Arndtstraße, 47226 Duisburg
END:VEVENT
BEGIN:VEVENT
DTSTAMP:20260421T171611
DTSTART;TZID=Europe/Berlin:20260512T093000
DTEND;TZID=Europe/Berlin:20260512T120000
UID:261WR3803-20260512T093000@VHSDUISBURG
SUMMARY:Lesen und Schreiben 1 - 3 (261WR3803) 
LOCATION:VHS Arndtstraße;Raum01, Arndtstraße, 47226 Duisburg
END:VEVENT
BEGIN:VEVENT
DTSTAMP:20260421T171611
DTSTART;TZID=Europe/Berlin:20260513T093000
DTEND;TZID=Europe/Berlin:20260513T120000
UID:261WR3803-20260513T093000@VHSDUISBURG
SUMMARY:Lesen und Schreiben 1 - 3 (261WR3803) 
LOCATION:VHS Arndtstraße;Raum01, Arndtstraße, 47226 Duisburg
END:VEVENT
END:VCALENDAR