BEGIN:VCALENDAR
PRODID:http://www.kufer.de/kuferweb / DE
VERSION:2.0
METHOD:PUBLISH
CALSCALE:GREGORIAN
X-WR-TIMEZONE:Europe/Berlin
BEGIN:VTIMEZONE
TZID:Europe/Berlin
X-LIC-LOCATION:Europe/Berlin
BEGIN:DAYLIGHT
TZOFFSETFROM:+0100
TZOFFSETTO:+0200
TZNAME:CEST
DTSTART;TZID=Europe/Berlin:19700329T020000
RRULE:FREQ=YEARLY;INTERVAL=1;BYDAY=-1SU;BYMONTH=3
END:DAYLIGHT
BEGIN:STANDARD
TZOFFSETFROM:+0200
TZOFFSETTO:+0100
TZNAME:CET
DTSTART;TZID=Europe/Berlin:19701025T030000
RRULE:FREQ=YEARLY;INTERVAL=1;BYDAY=-1SU;BYMONTH=10
END:STANDARD
END:VTIMEZONE
BEGIN:VEVENT
DTSTAMP:20260423T114555
DTSTART;TZID=Europe/Berlin:20260202T160000
DTEND;TZID=Europe/Berlin:20260202T181500
UID:261WR2832-20260202T160000@VHSDUISBURG
SUMMARY:Ölmalerei (261WR2832) 
LOCATION:VHS Arndtstraße;Raum12, Arndtstraße, 47226 Duisburg
END:VEVENT
BEGIN:VEVENT
DTSTAMP:20260423T114555
DTSTART;TZID=Europe/Berlin:20260209T160000
DTEND;TZID=Europe/Berlin:20260209T181500
UID:261WR2832-20260209T160000@VHSDUISBURG
SUMMARY:Ölmalerei (261WR2832) 
LOCATION:VHS Arndtstraße;Raum12, Arndtstraße, 47226 Duisburg
END:VEVENT
BEGIN:VEVENT
DTSTAMP:20260423T114555
DTSTART;TZID=Europe/Berlin:20260223T160000
DTEND;TZID=Europe/Berlin:20260223T181500
UID:261WR2832-20260223T160000@VHSDUISBURG
SUMMARY:Ölmalerei (261WR2832) 
LOCATION:VHS Arndtstraße;Raum12, Arndtstraße, 47226 Duisburg
END:VEVENT
BEGIN:VEVENT
DTSTAMP:20260423T114555
DTSTART;TZID=Europe/Berlin:20260302T160000
DTEND;TZID=Europe/Berlin:20260302T181500
UID:261WR2832-20260302T160000@VHSDUISBURG
SUMMARY:Ölmalerei (261WR2832) 
LOCATION:VHS Arndtstraße;Raum12, Arndtstraße, 47226 Duisburg
END:VEVENT
BEGIN:VEVENT
DTSTAMP:20260423T114555
DTSTART;TZID=Europe/Berlin:20260309T160000
DTEND;TZID=Europe/Berlin:20260309T181500
UID:261WR2832-20260309T160000@VHSDUISBURG
SUMMARY:Ölmalerei (261WR2832) 
LOCATION:VHS Arndtstraße;Raum12, Arndtstraße, 47226 Duisburg
END:VEVENT
BEGIN:VEVENT
DTSTAMP:20260423T114555
DTSTART;TZID=Europe/Berlin:20260316T160000
DTEND;TZID=Europe/Berlin:20260316T181500
UID:261WR2832-20260316T160000@VHSDUISBURG
SUMMARY:Ölmalerei (261WR2832) 
LOCATION:VHS Arndtstraße;Raum12, Arndtstraße, 47226 Duisburg
END:VEVENT
BEGIN:VEVENT
DTSTAMP:20260423T114555
DTSTART;TZID=Europe/Berlin:20260323T160000
DTEND;TZID=Europe/Berlin:20260323T181500
UID:261WR2832-20260323T160000@VHSDUISBURG
SUMMARY:Ölmalerei (261WR2832) 
LOCATION:VHS Arndtstraße;Raum12, Arndtstraße, 47226 Duisburg
END:VEVENT
BEGIN:VEVENT
DTSTAMP:20260423T114555
DTSTART;TZID=Europe/Berlin:20260413T160000
DTEND;TZID=Europe/Berlin:20260413T181500
UID:261WR2832-20260413T160000@VHSDUISBURG
SUMMARY:Ölmalerei (261WR2832) 
LOCATION:VHS Arndtstraße;Raum12, Arndtstraße, 47226 Duisburg
END:VEVENT
BEGIN:VEVENT
DTSTAMP:20260423T114555
DTSTART;TZID=Europe/Berlin:20260420T160000
DTEND;TZID=Europe/Berlin:20260420T181500
UID:261WR2832-20260420T160000@VHSDUISBURG
SUMMARY:Ölmalerei (261WR2832) 
LOCATION:VHS Arndtstraße;Raum12, Arndtstraße, 47226 Duisburg
END:VEVENT
BEGIN:VEVENT
DTSTAMP:20260423T114555
DTSTART;TZID=Europe/Berlin:20260427T160000
DTEND;TZID=Europe/Berlin:20260427T181500
UID:261WR2832-20260427T160000@VHSDUISBURG
SUMMARY:Ölmalerei (261WR2832) 
LOCATION:VHS Arndtstraße;Raum12, Arndtstraße, 47226 Duisburg
END:VEVENT
BEGIN:VEVENT
DTSTAMP:20260423T114555
DTSTART;TZID=Europe/Berlin:20260504T160000
DTEND;TZID=Europe/Berlin:20260504T181500
UID:261WR2832-20260504T160000@VHSDUISBURG
SUMMARY:Ölmalerei (261WR2832) 
LOCATION:VHS Arndtstraße;Raum12, Arndtstraße, 47226 Duisburg
END:VEVENT
BEGIN:VEVENT
DTSTAMP:20260423T114555
DTSTART;TZID=Europe/Berlin:20260511T160000
DTEND;TZID=Europe/Berlin:20260511T181500
UID:261WR2832-20260511T160000@VHSDUISBURG
SUMMARY:Ölmalerei (261WR2832) 
LOCATION:VHS Arndtstraße;Raum12, Arndtstraße, 47226 Duisburg
END:VEVENT
BEGIN:VEVENT
DTSTAMP:20260423T114555
DTSTART;TZID=Europe/Berlin:20260518T160000
DTEND;TZID=Europe/Berlin:20260518T181500
UID:261WR2832-20260518T160000@VHSDUISBURG
SUMMARY:Ölmalerei (261WR2832) 
LOCATION:VHS Arndtstraße;Raum12, Arndtstraße, 47226 Duisburg
END:VEVENT
END:VCALENDAR