BEGIN:VCALENDAR
PRODID:http://www.kufer.de/kuferweb / DE
VERSION:2.0
METHOD:PUBLISH
CALSCALE:GREGORIAN
X-WR-TIMEZONE:Europe/Berlin
BEGIN:VTIMEZONE
TZID:Europe/Berlin
X-LIC-LOCATION:Europe/Berlin
BEGIN:DAYLIGHT
TZOFFSETFROM:+0100
TZOFFSETTO:+0200
TZNAME:CEST
DTSTART;TZID=Europe/Berlin:19700329T020000
RRULE:FREQ=YEARLY;INTERVAL=1;BYDAY=-1SU;BYMONTH=3
END:DAYLIGHT
BEGIN:STANDARD
TZOFFSETFROM:+0200
TZOFFSETTO:+0100
TZNAME:CET
DTSTART;TZID=Europe/Berlin:19701025T030000
RRULE:FREQ=YEARLY;INTERVAL=1;BYDAY=-1SU;BYMONTH=10
END:STANDARD
END:VTIMEZONE
BEGIN:VEVENT
DTSTAMP:20260423T130822
DTSTART;TZID=Europe/Berlin:20260204T093000
DTEND;TZID=Europe/Berlin:20260204T120000
UID:261WR2827-20260204T093000@VHSDUISBURG
SUMMARY:Aquarellieren und Zeichnen am Morgen "Vom Motiv zum fertigen Bild" (261WR2827) 
LOCATION:Wohnen in Rumeln DU e.V.;Gemeinschaftsraum, Kirchfeldstr. 7, 47239 Duisburg
END:VEVENT
BEGIN:VEVENT
DTSTAMP:20260423T130822
DTSTART;TZID=Europe/Berlin:20260211T093000
DTEND;TZID=Europe/Berlin:20260211T120000
UID:261WR2827-20260211T093000@VHSDUISBURG
SUMMARY:Aquarellieren und Zeichnen am Morgen "Vom Motiv zum fertigen Bild" (261WR2827) 
LOCATION:Wohnen in Rumeln DU e.V.;Gemeinschaftsraum, Kirchfeldstr. 7, 47239 Duisburg
END:VEVENT
BEGIN:VEVENT
DTSTAMP:20260423T130822
DTSTART;TZID=Europe/Berlin:20260218T093000
DTEND;TZID=Europe/Berlin:20260218T120000
UID:261WR2827-20260218T093000@VHSDUISBURG
SUMMARY:Aquarellieren und Zeichnen am Morgen "Vom Motiv zum fertigen Bild" (261WR2827) 
LOCATION:Wohnen in Rumeln DU e.V.;Gemeinschaftsraum, Kirchfeldstr. 7, 47239 Duisburg
END:VEVENT
BEGIN:VEVENT
DTSTAMP:20260423T130822
DTSTART;TZID=Europe/Berlin:20260225T093000
DTEND;TZID=Europe/Berlin:20260225T120000
UID:261WR2827-20260225T093000@VHSDUISBURG
SUMMARY:Aquarellieren und Zeichnen am Morgen "Vom Motiv zum fertigen Bild" (261WR2827) 
LOCATION:Wohnen in Rumeln DU e.V.;Gemeinschaftsraum, Kirchfeldstr. 7, 47239 Duisburg
END:VEVENT
BEGIN:VEVENT
DTSTAMP:20260423T130822
DTSTART;TZID=Europe/Berlin:20260304T093000
DTEND;TZID=Europe/Berlin:20260304T120000
UID:261WR2827-20260304T093000@VHSDUISBURG
SUMMARY:Aquarellieren und Zeichnen am Morgen "Vom Motiv zum fertigen Bild" (261WR2827) 
LOCATION:Wohnen in Rumeln DU e.V.;Gemeinschaftsraum, Kirchfeldstr. 7, 47239 Duisburg
END:VEVENT
BEGIN:VEVENT
DTSTAMP:20260423T130822
DTSTART;TZID=Europe/Berlin:20260311T093000
DTEND;TZID=Europe/Berlin:20260311T120000
UID:261WR2827-20260311T093000@VHSDUISBURG
SUMMARY:Aquarellieren und Zeichnen am Morgen "Vom Motiv zum fertigen Bild" (261WR2827) 
LOCATION:Wohnen in Rumeln DU e.V.;Gemeinschaftsraum, Kirchfeldstr. 7, 47239 Duisburg
END:VEVENT
BEGIN:VEVENT
DTSTAMP:20260423T130822
DTSTART;TZID=Europe/Berlin:20260318T093000
DTEND;TZID=Europe/Berlin:20260318T120000
UID:261WR2827-20260318T093000@VHSDUISBURG
SUMMARY:Aquarellieren und Zeichnen am Morgen "Vom Motiv zum fertigen Bild" (261WR2827) 
LOCATION:Wohnen in Rumeln DU e.V.;Gemeinschaftsraum, Kirchfeldstr. 7, 47239 Duisburg
END:VEVENT
BEGIN:VEVENT
DTSTAMP:20260423T130822
DTSTART;TZID=Europe/Berlin:20260325T093000
DTEND;TZID=Europe/Berlin:20260325T120000
UID:261WR2827-20260325T093000@VHSDUISBURG
SUMMARY:Aquarellieren und Zeichnen am Morgen "Vom Motiv zum fertigen Bild" (261WR2827) 
LOCATION:Wohnen in Rumeln DU e.V.;Gemeinschaftsraum, Kirchfeldstr. 7, 47239 Duisburg
END:VEVENT
BEGIN:VEVENT
DTSTAMP:20260423T130822
DTSTART;TZID=Europe/Berlin:20260415T093000
DTEND;TZID=Europe/Berlin:20260415T120000
UID:261WR2827-20260415T093000@VHSDUISBURG
SUMMARY:Aquarellieren und Zeichnen am Morgen "Vom Motiv zum fertigen Bild" (261WR2827) 
LOCATION:Wohnen in Rumeln DU e.V.;Gemeinschaftsraum, Kirchfeldstr. 7, 47239 Duisburg
END:VEVENT
BEGIN:VEVENT
DTSTAMP:20260423T130822
DTSTART;TZID=Europe/Berlin:20260422T093000
DTEND;TZID=Europe/Berlin:20260422T120000
UID:261WR2827-20260422T093000@VHSDUISBURG
SUMMARY:Aquarellieren und Zeichnen am Morgen "Vom Motiv zum fertigen Bild" (261WR2827) 
LOCATION:Wohnen in Rumeln DU e.V.;Gemeinschaftsraum, Kirchfeldstr. 7, 47239 Duisburg
END:VEVENT
BEGIN:VEVENT
DTSTAMP:20260423T130822
DTSTART;TZID=Europe/Berlin:20260429T093000
DTEND;TZID=Europe/Berlin:20260429T120000
UID:261WR2827-20260429T093000@VHSDUISBURG
SUMMARY:Aquarellieren und Zeichnen am Morgen "Vom Motiv zum fertigen Bild" (261WR2827) 
LOCATION:Wohnen in Rumeln DU e.V.;Gemeinschaftsraum, Kirchfeldstr. 7, 47239 Duisburg
END:VEVENT
BEGIN:VEVENT
DTSTAMP:20260423T130822
DTSTART;TZID=Europe/Berlin:20260506T093000
DTEND;TZID=Europe/Berlin:20260506T120000
UID:261WR2827-20260506T093000@VHSDUISBURG
SUMMARY:Aquarellieren und Zeichnen am Morgen "Vom Motiv zum fertigen Bild" (261WR2827) 
LOCATION:Wohnen in Rumeln DU e.V.;Gemeinschaftsraum, Kirchfeldstr. 7, 47239 Duisburg
END:VEVENT
BEGIN:VEVENT
DTSTAMP:20260423T130822
DTSTART;TZID=Europe/Berlin:20260513T093000
DTEND;TZID=Europe/Berlin:20260513T120000
UID:261WR2827-20260513T093000@VHSDUISBURG
SUMMARY:Aquarellieren und Zeichnen am Morgen "Vom Motiv zum fertigen Bild" (261WR2827) 
LOCATION:Wohnen in Rumeln DU e.V.;Gemeinschaftsraum, Kirchfeldstr. 7, 47239 Duisburg
END:VEVENT
END:VCALENDAR