BEGIN:VCALENDAR
PRODID:http://www.kufer.de/kuferweb / DE
VERSION:2.0
METHOD:PUBLISH
CALSCALE:GREGORIAN
X-WR-TIMEZONE:Europe/Berlin
BEGIN:VTIMEZONE
TZID:Europe/Berlin
X-LIC-LOCATION:Europe/Berlin
BEGIN:DAYLIGHT
TZOFFSETFROM:+0100
TZOFFSETTO:+0200
TZNAME:CEST
DTSTART;TZID=Europe/Berlin:19700329T020000
RRULE:FREQ=YEARLY;INTERVAL=1;BYDAY=-1SU;BYMONTH=3
END:DAYLIGHT
BEGIN:STANDARD
TZOFFSETFROM:+0200
TZOFFSETTO:+0100
TZNAME:CET
DTSTART;TZID=Europe/Berlin:19701025T030000
RRULE:FREQ=YEARLY;INTERVAL=1;BYDAY=-1SU;BYMONTH=10
END:STANDARD
END:VTIMEZONE
BEGIN:VEVENT
DTSTAMP:20260423T103048
DTSTART;TZID=Europe/Berlin:20260205T180000
DTEND;TZID=Europe/Berlin:20260205T193000
UID:261SZ8320-20260205T180000@VHSDUISBURG
SUMMARY:Spanisch - A1 - Con gusto Nuevo A1 - ab Lektion 4 (261SZ8320) 
LOCATION:Gesamtschule Duisburg - Süd;OS 3 - R 221, Großenbaumer Allee 168 - 174, 47269 Duisburg
END:VEVENT
BEGIN:VEVENT
DTSTAMP:20260423T103048
DTSTART;TZID=Europe/Berlin:20260212T180000
DTEND;TZID=Europe/Berlin:20260212T193000
UID:261SZ8320-20260212T180000@VHSDUISBURG
SUMMARY:Spanisch - A1 - Con gusto Nuevo A1 - ab Lektion 4 (261SZ8320) 
LOCATION:Gesamtschule Duisburg - Süd;OS 3 - R 221, Großenbaumer Allee 168 - 174, 47269 Duisburg
END:VEVENT
BEGIN:VEVENT
DTSTAMP:20260423T103048
DTSTART;TZID=Europe/Berlin:20260219T180000
DTEND;TZID=Europe/Berlin:20260219T193000
UID:261SZ8320-20260219T180000@VHSDUISBURG
SUMMARY:Spanisch - A1 - Con gusto Nuevo A1 - ab Lektion 4 (261SZ8320) 
LOCATION:Gesamtschule Duisburg - Süd;OS 3 - R 221, Großenbaumer Allee 168 - 174, 47269 Duisburg
END:VEVENT
BEGIN:VEVENT
DTSTAMP:20260423T103048
DTSTART;TZID=Europe/Berlin:20260226T180000
DTEND;TZID=Europe/Berlin:20260226T193000
UID:261SZ8320-20260226T180000@VHSDUISBURG
SUMMARY:Spanisch - A1 - Con gusto Nuevo A1 - ab Lektion 4 (261SZ8320) 
LOCATION:Gesamtschule Duisburg - Süd;OS 3 - R 221, Großenbaumer Allee 168 - 174, 47269 Duisburg
END:VEVENT
BEGIN:VEVENT
DTSTAMP:20260423T103048
DTSTART;TZID=Europe/Berlin:20260305T180000
DTEND;TZID=Europe/Berlin:20260305T193000
UID:261SZ8320-20260305T180000@VHSDUISBURG
SUMMARY:Spanisch - A1 - Con gusto Nuevo A1 - ab Lektion 4 (261SZ8320) 
LOCATION:Gesamtschule Duisburg - Süd;OS 3 - R 221, Großenbaumer Allee 168 - 174, 47269 Duisburg
END:VEVENT
BEGIN:VEVENT
DTSTAMP:20260423T103048
DTSTART;TZID=Europe/Berlin:20260312T180000
DTEND;TZID=Europe/Berlin:20260312T193000
UID:261SZ8320-20260312T180000@VHSDUISBURG
SUMMARY:Spanisch - A1 - Con gusto Nuevo A1 - ab Lektion 4 (261SZ8320) 
LOCATION:Gesamtschule Duisburg - Süd;OS 3 - R 221, Großenbaumer Allee 168 - 174, 47269 Duisburg
END:VEVENT
BEGIN:VEVENT
DTSTAMP:20260423T103048
DTSTART;TZID=Europe/Berlin:20260319T180000
DTEND;TZID=Europe/Berlin:20260319T193000
UID:261SZ8320-20260319T180000@VHSDUISBURG
SUMMARY:Spanisch - A1 - Con gusto Nuevo A1 - ab Lektion 4 (261SZ8320) 
LOCATION:Gesamtschule Duisburg - Süd;OS 3 - R 221, Großenbaumer Allee 168 - 174, 47269 Duisburg
END:VEVENT
BEGIN:VEVENT
DTSTAMP:20260423T103048
DTSTART;TZID=Europe/Berlin:20260326T180000
DTEND;TZID=Europe/Berlin:20260326T193000
UID:261SZ8320-20260326T180000@VHSDUISBURG
SUMMARY:Spanisch - A1 - Con gusto Nuevo A1 - ab Lektion 4 (261SZ8320) 
LOCATION:Gesamtschule Duisburg - Süd;OS 3 - R 221, Großenbaumer Allee 168 - 174, 47269 Duisburg
END:VEVENT
BEGIN:VEVENT
DTSTAMP:20260423T103048
DTSTART;TZID=Europe/Berlin:20260423T180000
DTEND;TZID=Europe/Berlin:20260423T193000
UID:261SZ8320-20260423T180000@VHSDUISBURG
SUMMARY:Spanisch - A1 - Con gusto Nuevo A1 - ab Lektion 4 (261SZ8320) 
LOCATION:Gesamtschule Duisburg - Süd;OS 3 - R 221, Großenbaumer Allee 168 - 174, 47269 Duisburg
END:VEVENT
BEGIN:VEVENT
DTSTAMP:20260423T103048
DTSTART;TZID=Europe/Berlin:20260430T180000
DTEND;TZID=Europe/Berlin:20260430T193000
UID:261SZ8320-20260430T180000@VHSDUISBURG
SUMMARY:Spanisch - A1 - Con gusto Nuevo A1 - ab Lektion 4 (261SZ8320) 
LOCATION:Gesamtschule Duisburg - Süd;OS 3 - R 221, Großenbaumer Allee 168 - 174, 47269 Duisburg
END:VEVENT
BEGIN:VEVENT
DTSTAMP:20260423T103048
DTSTART;TZID=Europe/Berlin:20260507T180000
DTEND;TZID=Europe/Berlin:20260507T193000
UID:261SZ8320-20260507T180000@VHSDUISBURG
SUMMARY:Spanisch - A1 - Con gusto Nuevo A1 - ab Lektion 4 (261SZ8320) 
LOCATION:Gesamtschule Duisburg - Süd;OS 3 - R 221, Großenbaumer Allee 168 - 174, 47269 Duisburg
END:VEVENT
BEGIN:VEVENT
DTSTAMP:20260423T103048
DTSTART;TZID=Europe/Berlin:20260521T180000
DTEND;TZID=Europe/Berlin:20260521T193000
UID:261SZ8320-20260521T180000@VHSDUISBURG
SUMMARY:Spanisch - A1 - Con gusto Nuevo A1 - ab Lektion 4 (261SZ8320) 
LOCATION:Gesamtschule Duisburg - Süd;OS 3 - R 221, Großenbaumer Allee 168 - 174, 47269 Duisburg
END:VEVENT
BEGIN:VEVENT
DTSTAMP:20260423T103048
DTSTART;TZID=Europe/Berlin:20260528T180000
DTEND;TZID=Europe/Berlin:20260528T193000
UID:261SZ8320-20260528T180000@VHSDUISBURG
DESCRIPTION:NT
SUMMARY:Spanisch - A1 - Con gusto Nuevo A1 - ab Lektion 4 (261SZ8320) 
LOCATION:Gesamtschule Duisburg - Süd;OS 3 - R 221, Großenbaumer Allee 168 - 174, 47269 Duisburg
END:VEVENT
END:VCALENDAR