BEGIN:VCALENDAR
PRODID:http://www.kufer.de/kuferweb / DE
VERSION:2.0
METHOD:PUBLISH
CALSCALE:GREGORIAN
X-WR-TIMEZONE:Europe/Berlin
BEGIN:VTIMEZONE
TZID:Europe/Berlin
X-LIC-LOCATION:Europe/Berlin
BEGIN:DAYLIGHT
TZOFFSETFROM:+0100
TZOFFSETTO:+0200
TZNAME:CEST
DTSTART;TZID=Europe/Berlin:19700329T020000
RRULE:FREQ=YEARLY;INTERVAL=1;BYDAY=-1SU;BYMONTH=3
END:DAYLIGHT
BEGIN:STANDARD
TZOFFSETFROM:+0200
TZOFFSETTO:+0100
TZNAME:CET
DTSTART;TZID=Europe/Berlin:19701025T030000
RRULE:FREQ=YEARLY;INTERVAL=1;BYDAY=-1SU;BYMONTH=10
END:STANDARD
END:VTIMEZONE
BEGIN:VEVENT
DTSTAMP:20260423T103051
DTSTART;TZID=Europe/Berlin:20260202T091500
DTEND;TZID=Europe/Berlin:20260202T104500
UID:261SZ7516-20260202T091500@VHSDUISBURG
SUMMARY:Englisch - C1 Conversation - advanced (261SZ7516) 
LOCATION:Bezirksamt Duisburg Süd;Raum2, Sittardsberger Allee 14, 47249 Duisburg
END:VEVENT
BEGIN:VEVENT
DTSTAMP:20260423T103051
DTSTART;TZID=Europe/Berlin:20260209T091500
DTEND;TZID=Europe/Berlin:20260209T104500
UID:261SZ7516-20260209T091500@VHSDUISBURG
SUMMARY:Englisch - C1 Conversation - advanced (261SZ7516) 
LOCATION:Bezirksamt Duisburg Süd;Raum2, Sittardsberger Allee 14, 47249 Duisburg
END:VEVENT
BEGIN:VEVENT
DTSTAMP:20260423T103051
DTSTART;TZID=Europe/Berlin:20260223T091500
DTEND;TZID=Europe/Berlin:20260223T104500
UID:261SZ7516-20260223T091500@VHSDUISBURG
SUMMARY:Englisch - C1 Conversation - advanced (261SZ7516) 
LOCATION:Bezirksamt Duisburg Süd;Raum2, Sittardsberger Allee 14, 47249 Duisburg
END:VEVENT
BEGIN:VEVENT
DTSTAMP:20260423T103051
DTSTART;TZID=Europe/Berlin:20260302T091500
DTEND;TZID=Europe/Berlin:20260302T104500
UID:261SZ7516-20260302T091500@VHSDUISBURG
SUMMARY:Englisch - C1 Conversation - advanced (261SZ7516) 
LOCATION:Bezirksamt Duisburg Süd;Raum2, Sittardsberger Allee 14, 47249 Duisburg
END:VEVENT
BEGIN:VEVENT
DTSTAMP:20260423T103051
DTSTART;TZID=Europe/Berlin:20260309T091500
DTEND;TZID=Europe/Berlin:20260309T104500
UID:261SZ7516-20260309T091500@VHSDUISBURG
SUMMARY:Englisch - C1 Conversation - advanced (261SZ7516) 
LOCATION:Bezirksamt Duisburg Süd;Raum2, Sittardsberger Allee 14, 47249 Duisburg
END:VEVENT
BEGIN:VEVENT
DTSTAMP:20260423T103051
DTSTART;TZID=Europe/Berlin:20260316T091500
DTEND;TZID=Europe/Berlin:20260316T104500
UID:261SZ7516-20260316T091500@VHSDUISBURG
SUMMARY:Englisch - C1 Conversation - advanced (261SZ7516) 
LOCATION:Bezirksamt Duisburg Süd;Raum2, Sittardsberger Allee 14, 47249 Duisburg
END:VEVENT
BEGIN:VEVENT
DTSTAMP:20260423T103051
DTSTART;TZID=Europe/Berlin:20260323T091500
DTEND;TZID=Europe/Berlin:20260323T104500
UID:261SZ7516-20260323T091500@VHSDUISBURG
SUMMARY:Englisch - C1 Conversation - advanced (261SZ7516) 
LOCATION:Bezirksamt Duisburg Süd;Raum2, Sittardsberger Allee 14, 47249 Duisburg
END:VEVENT
BEGIN:VEVENT
DTSTAMP:20260423T103051
DTSTART;TZID=Europe/Berlin:20260413T091500
DTEND;TZID=Europe/Berlin:20260413T104500
UID:261SZ7516-20260413T091500@VHSDUISBURG
SUMMARY:Englisch - C1 Conversation - advanced (261SZ7516) 
LOCATION:Bezirksamt Duisburg Süd;Raum2, Sittardsberger Allee 14, 47249 Duisburg
END:VEVENT
BEGIN:VEVENT
DTSTAMP:20260423T103051
DTSTART;TZID=Europe/Berlin:20260420T091500
DTEND;TZID=Europe/Berlin:20260420T104500
UID:261SZ7516-20260420T091500@VHSDUISBURG
SUMMARY:Englisch - C1 Conversation - advanced (261SZ7516) 
LOCATION:Bezirksamt Duisburg Süd;Raum2, Sittardsberger Allee 14, 47249 Duisburg
END:VEVENT
BEGIN:VEVENT
DTSTAMP:20260423T103051
DTSTART;TZID=Europe/Berlin:20260427T091500
DTEND;TZID=Europe/Berlin:20260427T104500
UID:261SZ7516-20260427T091500@VHSDUISBURG
SUMMARY:Englisch - C1 Conversation - advanced (261SZ7516) 
LOCATION:Bezirksamt Duisburg Süd;Raum2, Sittardsberger Allee 14, 47249 Duisburg
END:VEVENT
BEGIN:VEVENT
DTSTAMP:20260423T103051
DTSTART;TZID=Europe/Berlin:20260504T091500
DTEND;TZID=Europe/Berlin:20260504T104500
UID:261SZ7516-20260504T091500@VHSDUISBURG
SUMMARY:Englisch - C1 Conversation - advanced (261SZ7516) 
LOCATION:Bezirksamt Duisburg Süd;Raum2, Sittardsberger Allee 14, 47249 Duisburg
END:VEVENT
BEGIN:VEVENT
DTSTAMP:20260423T103051
DTSTART;TZID=Europe/Berlin:20260511T091500
DTEND;TZID=Europe/Berlin:20260511T104500
UID:261SZ7516-20260511T091500@VHSDUISBURG
SUMMARY:Englisch - C1 Conversation - advanced (261SZ7516) 
LOCATION:Bezirksamt Duisburg Süd;Raum2, Sittardsberger Allee 14, 47249 Duisburg
END:VEVENT
BEGIN:VEVENT
DTSTAMP:20260423T103051
DTSTART;TZID=Europe/Berlin:20260518T091500
DTEND;TZID=Europe/Berlin:20260518T104500
UID:261SZ7516-20260518T091500@VHSDUISBURG
SUMMARY:Englisch - C1 Conversation - advanced (261SZ7516) 
LOCATION:Bezirksamt Duisburg Süd;Raum2, Sittardsberger Allee 14, 47249 Duisburg
END:VEVENT
END:VCALENDAR