BEGIN:VCALENDAR
PRODID:http://www.kufer.de/kuferweb / DE
VERSION:2.0
METHOD:PUBLISH
CALSCALE:GREGORIAN
X-WR-TIMEZONE:Europe/Berlin
BEGIN:VTIMEZONE
TZID:Europe/Berlin
X-LIC-LOCATION:Europe/Berlin
BEGIN:DAYLIGHT
TZOFFSETFROM:+0100
TZOFFSETTO:+0200
TZNAME:CEST
DTSTART;TZID=Europe/Berlin:19700329T020000
RRULE:FREQ=YEARLY;INTERVAL=1;BYDAY=-1SU;BYMONTH=3
END:DAYLIGHT
BEGIN:STANDARD
TZOFFSETFROM:+0200
TZOFFSETTO:+0100
TZNAME:CET
DTSTART;TZID=Europe/Berlin:19701025T030000
RRULE:FREQ=YEARLY;INTERVAL=1;BYDAY=-1SU;BYMONTH=10
END:STANDARD
END:VTIMEZONE
BEGIN:VEVENT
DTSTAMP:20260421T182539
DTSTART;TZID=Europe/Berlin:20260205T103000
DTEND;TZID=Europe/Berlin:20260205T113000
UID:261SZ6838-20260205T103000@VHSDUISBURG
SUMMARY:Fitness in der zweiten Lebenshälfte (261SZ6838) 
LOCATION:Karl-Martin-Haus;Kirchengemeinde, Münchener Str. 40 a, 47249 Duisburg
END:VEVENT
BEGIN:VEVENT
DTSTAMP:20260421T182539
DTSTART;TZID=Europe/Berlin:20260212T103000
DTEND;TZID=Europe/Berlin:20260212T113000
UID:261SZ6838-20260212T103000@VHSDUISBURG
SUMMARY:Fitness in der zweiten Lebenshälfte (261SZ6838) 
LOCATION:Karl-Martin-Haus;Kirchengemeinde, Münchener Str. 40 a, 47249 Duisburg
END:VEVENT
BEGIN:VEVENT
DTSTAMP:20260421T182539
DTSTART;TZID=Europe/Berlin:20260219T103000
DTEND;TZID=Europe/Berlin:20260219T113000
UID:261SZ6838-20260219T103000@VHSDUISBURG
SUMMARY:Fitness in der zweiten Lebenshälfte (261SZ6838) 
LOCATION:Karl-Martin-Haus;Kirchengemeinde, Münchener Str. 40 a, 47249 Duisburg
END:VEVENT
BEGIN:VEVENT
DTSTAMP:20260421T182539
DTSTART;TZID=Europe/Berlin:20260226T103000
DTEND;TZID=Europe/Berlin:20260226T113000
UID:261SZ6838-20260226T103000@VHSDUISBURG
SUMMARY:Fitness in der zweiten Lebenshälfte (261SZ6838) 
LOCATION:Karl-Martin-Haus;Kirchengemeinde, Münchener Str. 40 a, 47249 Duisburg
END:VEVENT
BEGIN:VEVENT
DTSTAMP:20260421T182539
DTSTART;TZID=Europe/Berlin:20260305T103000
DTEND;TZID=Europe/Berlin:20260305T113000
UID:261SZ6838-20260305T103000@VHSDUISBURG
SUMMARY:Fitness in der zweiten Lebenshälfte (261SZ6838) 
LOCATION:Karl-Martin-Haus;Kirchengemeinde, Münchener Str. 40 a, 47249 Duisburg
END:VEVENT
BEGIN:VEVENT
DTSTAMP:20260421T182539
DTSTART;TZID=Europe/Berlin:20260312T103000
DTEND;TZID=Europe/Berlin:20260312T113000
UID:261SZ6838-20260312T103000@VHSDUISBURG
SUMMARY:Fitness in der zweiten Lebenshälfte (261SZ6838) 
LOCATION:Karl-Martin-Haus;Kirchengemeinde, Münchener Str. 40 a, 47249 Duisburg
END:VEVENT
BEGIN:VEVENT
DTSTAMP:20260421T182539
DTSTART;TZID=Europe/Berlin:20260319T103000
DTEND;TZID=Europe/Berlin:20260319T113000
UID:261SZ6838-20260319T103000@VHSDUISBURG
SUMMARY:Fitness in der zweiten Lebenshälfte (261SZ6838) 
LOCATION:Karl-Martin-Haus;Kirchengemeinde, Münchener Str. 40 a, 47249 Duisburg
END:VEVENT
BEGIN:VEVENT
DTSTAMP:20260421T182539
DTSTART;TZID=Europe/Berlin:20260326T103000
DTEND;TZID=Europe/Berlin:20260326T113000
UID:261SZ6838-20260326T103000@VHSDUISBURG
SUMMARY:Fitness in der zweiten Lebenshälfte (261SZ6838) 
LOCATION:Karl-Martin-Haus;Kirchengemeinde, Münchener Str. 40 a, 47249 Duisburg
END:VEVENT
BEGIN:VEVENT
DTSTAMP:20260421T182539
DTSTART;TZID=Europe/Berlin:20260416T103000
DTEND;TZID=Europe/Berlin:20260416T113000
UID:261SZ6838-20260416T103000@VHSDUISBURG
SUMMARY:Fitness in der zweiten Lebenshälfte (261SZ6838) 
LOCATION:Karl-Martin-Haus;Kirchengemeinde, Münchener Str. 40 a, 47249 Duisburg
END:VEVENT
BEGIN:VEVENT
DTSTAMP:20260421T182539
DTSTART;TZID=Europe/Berlin:20260423T103000
DTEND;TZID=Europe/Berlin:20260423T113000
UID:261SZ6838-20260423T103000@VHSDUISBURG
SUMMARY:Fitness in der zweiten Lebenshälfte (261SZ6838) 
LOCATION:Karl-Martin-Haus;Kirchengemeinde, Münchener Str. 40 a, 47249 Duisburg
END:VEVENT
BEGIN:VEVENT
DTSTAMP:20260421T182539
DTSTART;TZID=Europe/Berlin:20260430T103000
DTEND;TZID=Europe/Berlin:20260430T113000
UID:261SZ6838-20260430T103000@VHSDUISBURG
SUMMARY:Fitness in der zweiten Lebenshälfte (261SZ6838) 
LOCATION:Karl-Martin-Haus;Kirchengemeinde, Münchener Str. 40 a, 47249 Duisburg
END:VEVENT
BEGIN:VEVENT
DTSTAMP:20260421T182539
DTSTART;TZID=Europe/Berlin:20260507T103000
DTEND;TZID=Europe/Berlin:20260507T113000
UID:261SZ6838-20260507T103000@VHSDUISBURG
SUMMARY:Fitness in der zweiten Lebenshälfte (261SZ6838) 
LOCATION:Karl-Martin-Haus;Kirchengemeinde, Münchener Str. 40 a, 47249 Duisburg
END:VEVENT
BEGIN:VEVENT
DTSTAMP:20260421T182539
DTSTART;TZID=Europe/Berlin:20260521T103000
DTEND;TZID=Europe/Berlin:20260521T113000
UID:261SZ6838-20260521T103000@VHSDUISBURG
SUMMARY:Fitness in der zweiten Lebenshälfte (261SZ6838) 
LOCATION:Karl-Martin-Haus;Kirchengemeinde, Münchener Str. 40 a, 47249 Duisburg
END:VEVENT
END:VCALENDAR