BEGIN:VCALENDAR
PRODID:http://www.kufer.de/kuferweb / DE
VERSION:2.0
METHOD:PUBLISH
CALSCALE:GREGORIAN
X-WR-TIMEZONE:Europe/Berlin
BEGIN:VTIMEZONE
TZID:Europe/Berlin
X-LIC-LOCATION:Europe/Berlin
BEGIN:DAYLIGHT
TZOFFSETFROM:+0100
TZOFFSETTO:+0200
TZNAME:CEST
DTSTART;TZID=Europe/Berlin:19700329T020000
RRULE:FREQ=YEARLY;INTERVAL=1;BYDAY=-1SU;BYMONTH=3
END:DAYLIGHT
BEGIN:STANDARD
TZOFFSETFROM:+0200
TZOFFSETTO:+0100
TZNAME:CET
DTSTART;TZID=Europe/Berlin:19701025T030000
RRULE:FREQ=YEARLY;INTERVAL=1;BYDAY=-1SU;BYMONTH=10
END:STANDARD
END:VTIMEZONE
BEGIN:VEVENT
DTSTAMP:20260421T131200
DTSTART;TZID=Europe/Berlin:20260203T154500
DTEND;TZID=Europe/Berlin:20260203T164500
UID:261SZ6837-20260203T154500@VHSDUISBURG
SUMMARY:Fitness in der zweiten Lebenshälfte (261SZ6837) 
LOCATION:Karl-Martin-Haus;Kirchengemeinde, Münchener Str. 40 a, 47249 Duisburg
END:VEVENT
BEGIN:VEVENT
DTSTAMP:20260421T131200
DTSTART;TZID=Europe/Berlin:20260217T154500
DTEND;TZID=Europe/Berlin:20260217T164500
UID:261SZ6837-20260217T154500@VHSDUISBURG
SUMMARY:Fitness in der zweiten Lebenshälfte (261SZ6837) 
LOCATION:Karl-Martin-Haus;Kirchengemeinde, Münchener Str. 40 a, 47249 Duisburg
END:VEVENT
BEGIN:VEVENT
DTSTAMP:20260421T131200
DTSTART;TZID=Europe/Berlin:20260224T154500
DTEND;TZID=Europe/Berlin:20260224T164500
UID:261SZ6837-20260224T154500@VHSDUISBURG
SUMMARY:Fitness in der zweiten Lebenshälfte (261SZ6837) 
LOCATION:Karl-Martin-Haus;Kirchengemeinde, Münchener Str. 40 a, 47249 Duisburg
END:VEVENT
BEGIN:VEVENT
DTSTAMP:20260421T131200
DTSTART;TZID=Europe/Berlin:20260303T154500
DTEND;TZID=Europe/Berlin:20260303T164500
UID:261SZ6837-20260303T154500@VHSDUISBURG
SUMMARY:Fitness in der zweiten Lebenshälfte (261SZ6837) 
LOCATION:Karl-Martin-Haus;Kirchengemeinde, Münchener Str. 40 a, 47249 Duisburg
END:VEVENT
BEGIN:VEVENT
DTSTAMP:20260421T131200
DTSTART;TZID=Europe/Berlin:20260310T154500
DTEND;TZID=Europe/Berlin:20260310T164500
UID:261SZ6837-20260310T154500@VHSDUISBURG
SUMMARY:Fitness in der zweiten Lebenshälfte (261SZ6837) 
LOCATION:Karl-Martin-Haus;Kirchengemeinde, Münchener Str. 40 a, 47249 Duisburg
END:VEVENT
BEGIN:VEVENT
DTSTAMP:20260421T131200
DTSTART;TZID=Europe/Berlin:20260317T154500
DTEND;TZID=Europe/Berlin:20260317T164500
UID:261SZ6837-20260317T154500@VHSDUISBURG
SUMMARY:Fitness in der zweiten Lebenshälfte (261SZ6837) 
LOCATION:Karl-Martin-Haus;Kirchengemeinde, Münchener Str. 40 a, 47249 Duisburg
END:VEVENT
BEGIN:VEVENT
DTSTAMP:20260421T131200
DTSTART;TZID=Europe/Berlin:20260324T154500
DTEND;TZID=Europe/Berlin:20260324T164500
UID:261SZ6837-20260324T154500@VHSDUISBURG
SUMMARY:Fitness in der zweiten Lebenshälfte (261SZ6837) 
LOCATION:Karl-Martin-Haus;Kirchengemeinde, Münchener Str. 40 a, 47249 Duisburg
END:VEVENT
BEGIN:VEVENT
DTSTAMP:20260421T131200
DTSTART;TZID=Europe/Berlin:20260414T154500
DTEND;TZID=Europe/Berlin:20260414T164500
UID:261SZ6837-20260414T154500@VHSDUISBURG
SUMMARY:Fitness in der zweiten Lebenshälfte (261SZ6837) 
LOCATION:Karl-Martin-Haus;Kirchengemeinde, Münchener Str. 40 a, 47249 Duisburg
END:VEVENT
BEGIN:VEVENT
DTSTAMP:20260421T131200
DTSTART;TZID=Europe/Berlin:20260421T154500
DTEND;TZID=Europe/Berlin:20260421T164500
UID:261SZ6837-20260421T154500@VHSDUISBURG
SUMMARY:Fitness in der zweiten Lebenshälfte (261SZ6837) 
LOCATION:Karl-Martin-Haus;Kirchengemeinde, Münchener Str. 40 a, 47249 Duisburg
END:VEVENT
BEGIN:VEVENT
DTSTAMP:20260421T131200
DTSTART;TZID=Europe/Berlin:20260428T154500
DTEND;TZID=Europe/Berlin:20260428T164500
UID:261SZ6837-20260428T154500@VHSDUISBURG
SUMMARY:Fitness in der zweiten Lebenshälfte (261SZ6837) 
LOCATION:Karl-Martin-Haus;Kirchengemeinde, Münchener Str. 40 a, 47249 Duisburg
END:VEVENT
BEGIN:VEVENT
DTSTAMP:20260421T131200
DTSTART;TZID=Europe/Berlin:20260505T154500
DTEND;TZID=Europe/Berlin:20260505T164500
UID:261SZ6837-20260505T154500@VHSDUISBURG
SUMMARY:Fitness in der zweiten Lebenshälfte (261SZ6837) 
LOCATION:Karl-Martin-Haus;Kirchengemeinde, Münchener Str. 40 a, 47249 Duisburg
END:VEVENT
BEGIN:VEVENT
DTSTAMP:20260421T131200
DTSTART;TZID=Europe/Berlin:20260512T154500
DTEND;TZID=Europe/Berlin:20260512T164500
UID:261SZ6837-20260512T154500@VHSDUISBURG
SUMMARY:Fitness in der zweiten Lebenshälfte (261SZ6837) 
LOCATION:Karl-Martin-Haus;Kirchengemeinde, Münchener Str. 40 a, 47249 Duisburg
END:VEVENT
BEGIN:VEVENT
DTSTAMP:20260421T131200
DTSTART;TZID=Europe/Berlin:20260519T154500
DTEND;TZID=Europe/Berlin:20260519T164500
UID:261SZ6837-20260519T154500@VHSDUISBURG
DESCRIPTION:NT für 10.02.
SUMMARY:Fitness in der zweiten Lebenshälfte (261SZ6837) 
LOCATION:Karl-Martin-Haus;Kirchengemeinde, Münchener Str. 40 a, 47249 Duisburg
END:VEVENT
END:VCALENDAR