BEGIN:VCALENDAR
PRODID:http://www.kufer.de/kuferweb / DE
VERSION:2.0
METHOD:PUBLISH
CALSCALE:GREGORIAN
X-WR-TIMEZONE:Europe/Berlin
BEGIN:VTIMEZONE
TZID:Europe/Berlin
X-LIC-LOCATION:Europe/Berlin
BEGIN:DAYLIGHT
TZOFFSETFROM:+0100
TZOFFSETTO:+0200
TZNAME:CEST
DTSTART;TZID=Europe/Berlin:19700329T020000
RRULE:FREQ=YEARLY;INTERVAL=1;BYDAY=-1SU;BYMONTH=3
END:DAYLIGHT
BEGIN:STANDARD
TZOFFSETFROM:+0200
TZOFFSETTO:+0100
TZNAME:CET
DTSTART;TZID=Europe/Berlin:19701025T030000
RRULE:FREQ=YEARLY;INTERVAL=1;BYDAY=-1SU;BYMONTH=10
END:STANDARD
END:VTIMEZONE
BEGIN:VEVENT
DTSTAMP:20260421T131200
DTSTART;TZID=Europe/Berlin:20260203T143000
DTEND;TZID=Europe/Berlin:20260203T153000
UID:261SZ6836-20260203T143000@VHSDUISBURG
SUMMARY:Fitness in der zweiten Lebenshälfte (261SZ6836) 
LOCATION:Karl-Martin-Haus;Kirchengemeinde, Münchener Str. 40 a, 47249 Duisburg
END:VEVENT
BEGIN:VEVENT
DTSTAMP:20260421T131200
DTSTART;TZID=Europe/Berlin:20260217T143000
DTEND;TZID=Europe/Berlin:20260217T153000
UID:261SZ6836-20260217T143000@VHSDUISBURG
SUMMARY:Fitness in der zweiten Lebenshälfte (261SZ6836) 
LOCATION:Karl-Martin-Haus;Kirchengemeinde, Münchener Str. 40 a, 47249 Duisburg
END:VEVENT
BEGIN:VEVENT
DTSTAMP:20260421T131200
DTSTART;TZID=Europe/Berlin:20260224T143000
DTEND;TZID=Europe/Berlin:20260224T153000
UID:261SZ6836-20260224T143000@VHSDUISBURG
SUMMARY:Fitness in der zweiten Lebenshälfte (261SZ6836) 
LOCATION:Karl-Martin-Haus;Kirchengemeinde, Münchener Str. 40 a, 47249 Duisburg
END:VEVENT
BEGIN:VEVENT
DTSTAMP:20260421T131200
DTSTART;TZID=Europe/Berlin:20260303T143000
DTEND;TZID=Europe/Berlin:20260303T153000
UID:261SZ6836-20260303T143000@VHSDUISBURG
SUMMARY:Fitness in der zweiten Lebenshälfte (261SZ6836) 
LOCATION:Karl-Martin-Haus;Kirchengemeinde, Münchener Str. 40 a, 47249 Duisburg
END:VEVENT
BEGIN:VEVENT
DTSTAMP:20260421T131200
DTSTART;TZID=Europe/Berlin:20260310T143000
DTEND;TZID=Europe/Berlin:20260310T153000
UID:261SZ6836-20260310T143000@VHSDUISBURG
SUMMARY:Fitness in der zweiten Lebenshälfte (261SZ6836) 
LOCATION:Karl-Martin-Haus;Kirchengemeinde, Münchener Str. 40 a, 47249 Duisburg
END:VEVENT
BEGIN:VEVENT
DTSTAMP:20260421T131200
DTSTART;TZID=Europe/Berlin:20260317T143000
DTEND;TZID=Europe/Berlin:20260317T153000
UID:261SZ6836-20260317T143000@VHSDUISBURG
SUMMARY:Fitness in der zweiten Lebenshälfte (261SZ6836) 
LOCATION:Karl-Martin-Haus;Kirchengemeinde, Münchener Str. 40 a, 47249 Duisburg
END:VEVENT
BEGIN:VEVENT
DTSTAMP:20260421T131200
DTSTART;TZID=Europe/Berlin:20260324T143000
DTEND;TZID=Europe/Berlin:20260324T153000
UID:261SZ6836-20260324T143000@VHSDUISBURG
SUMMARY:Fitness in der zweiten Lebenshälfte (261SZ6836) 
LOCATION:Karl-Martin-Haus;Kirchengemeinde, Münchener Str. 40 a, 47249 Duisburg
END:VEVENT
BEGIN:VEVENT
DTSTAMP:20260421T131200
DTSTART;TZID=Europe/Berlin:20260414T143000
DTEND;TZID=Europe/Berlin:20260414T153000
UID:261SZ6836-20260414T143000@VHSDUISBURG
SUMMARY:Fitness in der zweiten Lebenshälfte (261SZ6836) 
LOCATION:Karl-Martin-Haus;Kirchengemeinde, Münchener Str. 40 a, 47249 Duisburg
END:VEVENT
BEGIN:VEVENT
DTSTAMP:20260421T131200
DTSTART;TZID=Europe/Berlin:20260421T143000
DTEND;TZID=Europe/Berlin:20260421T153000
UID:261SZ6836-20260421T143000@VHSDUISBURG
SUMMARY:Fitness in der zweiten Lebenshälfte (261SZ6836) 
LOCATION:Karl-Martin-Haus;Kirchengemeinde, Münchener Str. 40 a, 47249 Duisburg
END:VEVENT
BEGIN:VEVENT
DTSTAMP:20260421T131200
DTSTART;TZID=Europe/Berlin:20260428T143000
DTEND;TZID=Europe/Berlin:20260428T153000
UID:261SZ6836-20260428T143000@VHSDUISBURG
SUMMARY:Fitness in der zweiten Lebenshälfte (261SZ6836) 
LOCATION:Karl-Martin-Haus;Kirchengemeinde, Münchener Str. 40 a, 47249 Duisburg
END:VEVENT
BEGIN:VEVENT
DTSTAMP:20260421T131200
DTSTART;TZID=Europe/Berlin:20260505T143000
DTEND;TZID=Europe/Berlin:20260505T153000
UID:261SZ6836-20260505T143000@VHSDUISBURG
SUMMARY:Fitness in der zweiten Lebenshälfte (261SZ6836) 
LOCATION:Karl-Martin-Haus;Kirchengemeinde, Münchener Str. 40 a, 47249 Duisburg
END:VEVENT
BEGIN:VEVENT
DTSTAMP:20260421T131200
DTSTART;TZID=Europe/Berlin:20260512T143000
DTEND;TZID=Europe/Berlin:20260512T153000
UID:261SZ6836-20260512T143000@VHSDUISBURG
SUMMARY:Fitness in der zweiten Lebenshälfte (261SZ6836) 
LOCATION:Karl-Martin-Haus;Kirchengemeinde, Münchener Str. 40 a, 47249 Duisburg
END:VEVENT
BEGIN:VEVENT
DTSTAMP:20260421T131200
DTSTART;TZID=Europe/Berlin:20260519T143000
DTEND;TZID=Europe/Berlin:20260519T153000
UID:261SZ6836-20260519T143000@VHSDUISBURG
DESCRIPTION:NT für 10.02.
SUMMARY:Fitness in der zweiten Lebenshälfte (261SZ6836) 
LOCATION:Karl-Martin-Haus;Kirchengemeinde, Münchener Str. 40 a, 47249 Duisburg
END:VEVENT
END:VCALENDAR