BEGIN:VCALENDAR
PRODID:http://www.kufer.de/kuferweb / DE
VERSION:2.0
METHOD:PUBLISH
CALSCALE:GREGORIAN
X-WR-TIMEZONE:Europe/Berlin
BEGIN:VTIMEZONE
TZID:Europe/Berlin
X-LIC-LOCATION:Europe/Berlin
BEGIN:DAYLIGHT
TZOFFSETFROM:+0100
TZOFFSETTO:+0200
TZNAME:CEST
DTSTART;TZID=Europe/Berlin:19700329T020000
RRULE:FREQ=YEARLY;INTERVAL=1;BYDAY=-1SU;BYMONTH=3
END:DAYLIGHT
BEGIN:STANDARD
TZOFFSETFROM:+0200
TZOFFSETTO:+0100
TZNAME:CET
DTSTART;TZID=Europe/Berlin:19701025T030000
RRULE:FREQ=YEARLY;INTERVAL=1;BYDAY=-1SU;BYMONTH=10
END:STANDARD
END:VTIMEZONE
BEGIN:VEVENT
DTSTAMP:20260421T195144
DTSTART;TZID=Europe/Berlin:20260204T170000
DTEND;TZID=Europe/Berlin:20260204T183000
UID:261SR6326-20260204T170000@VHSDUISBURG
SUMMARY:Hatha Yoga - Für Neulinge und Fortgeschrittene (261SR6326) 
LOCATION:Franziskushaus;Franziskushaus, Am Glockenturm 1, 47269 Duisburg
END:VEVENT
BEGIN:VEVENT
DTSTAMP:20260421T195144
DTSTART;TZID=Europe/Berlin:20260211T170000
DTEND;TZID=Europe/Berlin:20260211T183000
UID:261SR6326-20260211T170000@VHSDUISBURG
SUMMARY:Hatha Yoga - Für Neulinge und Fortgeschrittene (261SR6326) 
LOCATION:Franziskushaus;Franziskushaus, Am Glockenturm 1, 47269 Duisburg
END:VEVENT
BEGIN:VEVENT
DTSTAMP:20260421T195144
DTSTART;TZID=Europe/Berlin:20260225T170000
DTEND;TZID=Europe/Berlin:20260225T183000
UID:261SR6326-20260225T170000@VHSDUISBURG
SUMMARY:Hatha Yoga - Für Neulinge und Fortgeschrittene (261SR6326) 
LOCATION:Franziskushaus;Franziskushaus, Am Glockenturm 1, 47269 Duisburg
END:VEVENT
BEGIN:VEVENT
DTSTAMP:20260421T195144
DTSTART;TZID=Europe/Berlin:20260311T170000
DTEND;TZID=Europe/Berlin:20260311T183000
UID:261SR6326-20260311T170000@VHSDUISBURG
SUMMARY:Hatha Yoga - Für Neulinge und Fortgeschrittene (261SR6326) 
LOCATION:Franziskushaus;Franziskushaus, Am Glockenturm 1, 47269 Duisburg
END:VEVENT
BEGIN:VEVENT
DTSTAMP:20260421T195144
DTSTART;TZID=Europe/Berlin:20260318T170000
DTEND;TZID=Europe/Berlin:20260318T183000
UID:261SR6326-20260318T170000@VHSDUISBURG
SUMMARY:Hatha Yoga - Für Neulinge und Fortgeschrittene (261SR6326) 
LOCATION:Franziskushaus;Franziskushaus, Am Glockenturm 1, 47269 Duisburg
END:VEVENT
BEGIN:VEVENT
DTSTAMP:20260421T195144
DTSTART;TZID=Europe/Berlin:20260325T170000
DTEND;TZID=Europe/Berlin:20260325T183000
UID:261SR6326-20260325T170000@VHSDUISBURG
SUMMARY:Hatha Yoga - Für Neulinge und Fortgeschrittene (261SR6326) 
LOCATION:Franziskushaus;Franziskushaus, Am Glockenturm 1, 47269 Duisburg
END:VEVENT
BEGIN:VEVENT
DTSTAMP:20260421T195144
DTSTART;TZID=Europe/Berlin:20260422T170000
DTEND;TZID=Europe/Berlin:20260422T183000
UID:261SR6326-20260422T170000@VHSDUISBURG
SUMMARY:Hatha Yoga - Für Neulinge und Fortgeschrittene (261SR6326) 
LOCATION:Franziskushaus;Franziskushaus, Am Glockenturm 1, 47269 Duisburg
END:VEVENT
BEGIN:VEVENT
DTSTAMP:20260421T195144
DTSTART;TZID=Europe/Berlin:20260429T170000
DTEND;TZID=Europe/Berlin:20260429T183000
UID:261SR6326-20260429T170000@VHSDUISBURG
SUMMARY:Hatha Yoga - Für Neulinge und Fortgeschrittene (261SR6326) 
LOCATION:Franziskushaus;Franziskushaus, Am Glockenturm 1, 47269 Duisburg
END:VEVENT
BEGIN:VEVENT
DTSTAMP:20260421T195144
DTSTART;TZID=Europe/Berlin:20260506T170000
DTEND;TZID=Europe/Berlin:20260506T183000
UID:261SR6326-20260506T170000@VHSDUISBURG
SUMMARY:Hatha Yoga - Für Neulinge und Fortgeschrittene (261SR6326) 
LOCATION:Franziskushaus;Franziskushaus, Am Glockenturm 1, 47269 Duisburg
END:VEVENT
BEGIN:VEVENT
DTSTAMP:20260421T195144
DTSTART;TZID=Europe/Berlin:20260513T170000
DTEND;TZID=Europe/Berlin:20260513T183000
UID:261SR6326-20260513T170000@VHSDUISBURG
SUMMARY:Hatha Yoga - Für Neulinge und Fortgeschrittene (261SR6326) 
LOCATION:Franziskushaus;Franziskushaus, Am Glockenturm 1, 47269 Duisburg
END:VEVENT
BEGIN:VEVENT
DTSTAMP:20260421T195144
DTSTART;TZID=Europe/Berlin:20260520T170000
DTEND;TZID=Europe/Berlin:20260520T183000
UID:261SR6326-20260520T170000@VHSDUISBURG
DESCRIPTION:Ersatz für Ausfall am 18.02.2026
vom per Mail Franziskushaus bestätigt werden;24.02.26 (*BS):
SUMMARY:Hatha Yoga - Für Neulinge und Fortgeschrittene (261SR6326) 
LOCATION:Franziskushaus;Franziskushaus, Am Glockenturm 1, 47269 Duisburg
END:VEVENT
BEGIN:VEVENT
DTSTAMP:20260421T195144
DTSTART;TZID=Europe/Berlin:20260527T170000
DTEND;TZID=Europe/Berlin:20260527T183000
UID:261SR6326-20260527T170000@VHSDUISBURG
DESCRIPTION:Ersatz für Ausfall am 04.03.2026 / Franziskushaus hat Termin bestätigt
SUMMARY:Hatha Yoga - Für Neulinge und Fortgeschrittene (261SR6326) 
LOCATION:Franziskushaus;Franziskushaus, Am Glockenturm 1, 47269 Duisburg
END:VEVENT
BEGIN:VEVENT
DTSTAMP:20260421T195144
DTSTART;TZID=Europe/Berlin:20260603T170000
DTEND;TZID=Europe/Berlin:20260603T183000
UID:261SR6326-20260603T170000@VHSDUISBURG
DESCRIPTION:Ersatz für Ausfall am 15.04.2026; Franziskushaus muss den NT noch bestätigen; 14.04.26 (*FG)
SUMMARY:Hatha Yoga - Für Neulinge und Fortgeschrittene (261SR6326) 
LOCATION:Franziskushaus;Franziskushaus, Am Glockenturm 1, 47269 Duisburg
END:VEVENT
END:VCALENDAR