BEGIN:VCALENDAR
PRODID:http://www.kufer.de/kuferweb / DE
VERSION:2.0
METHOD:PUBLISH
CALSCALE:GREGORIAN
X-WR-TIMEZONE:Europe/Berlin
BEGIN:VTIMEZONE
TZID:Europe/Berlin
X-LIC-LOCATION:Europe/Berlin
BEGIN:DAYLIGHT
TZOFFSETFROM:+0100
TZOFFSETTO:+0200
TZNAME:CEST
DTSTART;TZID=Europe/Berlin:19700329T020000
RRULE:FREQ=YEARLY;INTERVAL=1;BYDAY=-1SU;BYMONTH=3
END:DAYLIGHT
BEGIN:STANDARD
TZOFFSETFROM:+0200
TZOFFSETTO:+0100
TZNAME:CET
DTSTART;TZID=Europe/Berlin:19701025T030000
RRULE:FREQ=YEARLY;INTERVAL=1;BYDAY=-1SU;BYMONTH=10
END:STANDARD
END:VTIMEZONE
BEGIN:VEVENT
DTSTAMP:20260421T085306
DTSTART;TZID=Europe/Berlin:20260225T160000
DTEND;TZID=Europe/Berlin:20260225T173000
UID:261SR2803-20260225T160000@VHSDUISBURG
SUMMARY:Perspektivisches Freihandzeichnen (261SR2803) 
LOCATION:Bezirksamt Duisburg Süd;Raum1, Sittardsberger Allee 14, 47249 Duisburg
END:VEVENT
BEGIN:VEVENT
DTSTAMP:20260421T085306
DTSTART;TZID=Europe/Berlin:20260310T160000
DTEND;TZID=Europe/Berlin:20260310T173000
UID:261SR2803-20260310T160000@VHSDUISBURG
SUMMARY:Perspektivisches Freihandzeichnen (261SR2803) 
LOCATION:Bezirksamt Duisburg Süd;Raum1, Sittardsberger Allee 14, 47249 Duisburg
END:VEVENT
BEGIN:VEVENT
DTSTAMP:20260421T085306
DTSTART;TZID=Europe/Berlin:20260317T160000
DTEND;TZID=Europe/Berlin:20260317T173000
UID:261SR2803-20260317T160000@VHSDUISBURG
SUMMARY:Perspektivisches Freihandzeichnen (261SR2803) 
LOCATION:Bezirksamt Duisburg Süd;Raum1, Sittardsberger Allee 14, 47249 Duisburg
END:VEVENT
BEGIN:VEVENT
DTSTAMP:20260421T085306
DTSTART;TZID=Europe/Berlin:20260324T160000
DTEND;TZID=Europe/Berlin:20260324T173000
UID:261SR2803-20260324T160000@VHSDUISBURG
SUMMARY:Perspektivisches Freihandzeichnen (261SR2803) 
LOCATION:Bezirksamt Duisburg Süd;Raum1, Sittardsberger Allee 14, 47249 Duisburg
END:VEVENT
BEGIN:VEVENT
DTSTAMP:20260421T085306
DTSTART;TZID=Europe/Berlin:20260421T160000
DTEND;TZID=Europe/Berlin:20260421T173000
UID:261SR2803-20260421T160000@VHSDUISBURG
SUMMARY:Perspektivisches Freihandzeichnen (261SR2803) 
LOCATION:Bezirksamt Duisburg Süd;Raum1, Sittardsberger Allee 14, 47249 Duisburg
END:VEVENT
BEGIN:VEVENT
DTSTAMP:20260421T085306
DTSTART;TZID=Europe/Berlin:20260428T160000
DTEND;TZID=Europe/Berlin:20260428T173000
UID:261SR2803-20260428T160000@VHSDUISBURG
SUMMARY:Perspektivisches Freihandzeichnen (261SR2803) 
LOCATION:Bezirksamt Duisburg Süd;Raum1, Sittardsberger Allee 14, 47249 Duisburg
END:VEVENT
BEGIN:VEVENT
DTSTAMP:20260421T085306
DTSTART;TZID=Europe/Berlin:20260505T160000
DTEND;TZID=Europe/Berlin:20260505T173000
UID:261SR2803-20260505T160000@VHSDUISBURG
SUMMARY:Perspektivisches Freihandzeichnen (261SR2803) 
LOCATION:Bezirksamt Duisburg Süd;Raum1, Sittardsberger Allee 14, 47249 Duisburg
END:VEVENT
BEGIN:VEVENT
DTSTAMP:20260421T085306
DTSTART;TZID=Europe/Berlin:20260512T160000
DTEND;TZID=Europe/Berlin:20260512T173000
UID:261SR2803-20260512T160000@VHSDUISBURG
SUMMARY:Perspektivisches Freihandzeichnen (261SR2803) 
LOCATION:Bezirksamt Duisburg Süd;Raum1, Sittardsberger Allee 14, 47249 Duisburg
END:VEVENT
BEGIN:VEVENT
DTSTAMP:20260421T085306
DTSTART;TZID=Europe/Berlin:20260519T160000
DTEND;TZID=Europe/Berlin:20260519T173000
UID:261SR2803-20260519T160000@VHSDUISBURG
DESCRIPTION:Ersatz für Ausfall am 04.02.2026
SUMMARY:Perspektivisches Freihandzeichnen (261SR2803) 
LOCATION:Bezirksamt Duisburg Süd;Raum1, Sittardsberger Allee 14, 47249 Duisburg
END:VEVENT
BEGIN:VEVENT
DTSTAMP:20260421T085306
DTSTART;TZID=Europe/Berlin:20260526T160000
DTEND;TZID=Europe/Berlin:20260526T173000
UID:261SR2803-20260526T160000@VHSDUISBURG
DESCRIPTION:NT f. d. 14.4. (früherer Feldinhalt: Kurskürzung); 14.04.26 (*FG)
SUMMARY:Perspektivisches Freihandzeichnen (261SR2803) 
LOCATION:Bezirksamt Duisburg Süd;Raum1, Sittardsberger Allee 14, 47249 Duisburg
END:VEVENT
END:VCALENDAR