BEGIN:VCALENDAR
PRODID:http://www.kufer.de/kuferweb / DE
VERSION:2.0
METHOD:PUBLISH
CALSCALE:GREGORIAN
X-WR-TIMEZONE:Europe/Berlin
BEGIN:VTIMEZONE
TZID:Europe/Berlin
X-LIC-LOCATION:Europe/Berlin
BEGIN:DAYLIGHT
TZOFFSETFROM:+0100
TZOFFSETTO:+0200
TZNAME:CEST
DTSTART;TZID=Europe/Berlin:19700329T020000
RRULE:FREQ=YEARLY;INTERVAL=1;BYDAY=-1SU;BYMONTH=3
END:DAYLIGHT
BEGIN:STANDARD
TZOFFSETFROM:+0200
TZOFFSETTO:+0100
TZNAME:CET
DTSTART;TZID=Europe/Berlin:19701025T030000
RRULE:FREQ=YEARLY;INTERVAL=1;BYDAY=-1SU;BYMONTH=10
END:STANDARD
END:VTIMEZONE
BEGIN:VEVENT
DTSTAMP:20260422T135959
DTSTART;TZID=Europe/Berlin:20260204T183000
DTEND;TZID=Europe/Berlin:20260204T210000
UID:261NZ8272-20260204T183000@VHSDUISBURG
SUMMARY:Italienisch - B2 - Konversation (261NZ8272) 
LOCATION:VHS Parallelstraße;Raum1, Parallelstraße 7, 47166 Duisburg
END:VEVENT
BEGIN:VEVENT
DTSTAMP:20260422T135959
DTSTART;TZID=Europe/Berlin:20260211T183000
DTEND;TZID=Europe/Berlin:20260211T210000
UID:261NZ8272-20260211T183000@VHSDUISBURG
SUMMARY:Italienisch - B2 - Konversation (261NZ8272) 
LOCATION:VHS Parallelstraße;Raum1, Parallelstraße 7, 47166 Duisburg
END:VEVENT
BEGIN:VEVENT
DTSTAMP:20260422T135959
DTSTART;TZID=Europe/Berlin:20260218T183000
DTEND;TZID=Europe/Berlin:20260218T210000
UID:261NZ8272-20260218T183000@VHSDUISBURG
SUMMARY:Italienisch - B2 - Konversation (261NZ8272) 
LOCATION:VHS Parallelstraße;Raum1, Parallelstraße 7, 47166 Duisburg
END:VEVENT
BEGIN:VEVENT
DTSTAMP:20260422T135959
DTSTART;TZID=Europe/Berlin:20260225T183000
DTEND;TZID=Europe/Berlin:20260225T210000
UID:261NZ8272-20260225T183000@VHSDUISBURG
SUMMARY:Italienisch - B2 - Konversation (261NZ8272) 
LOCATION:VHS Parallelstraße;Raum1, Parallelstraße 7, 47166 Duisburg
END:VEVENT
BEGIN:VEVENT
DTSTAMP:20260422T135959
DTSTART;TZID=Europe/Berlin:20260304T183000
DTEND;TZID=Europe/Berlin:20260304T210000
UID:261NZ8272-20260304T183000@VHSDUISBURG
SUMMARY:Italienisch - B2 - Konversation (261NZ8272) 
LOCATION:VHS Parallelstraße;Raum1, Parallelstraße 7, 47166 Duisburg
END:VEVENT
BEGIN:VEVENT
DTSTAMP:20260422T135959
DTSTART;TZID=Europe/Berlin:20260318T183000
DTEND;TZID=Europe/Berlin:20260318T210000
UID:261NZ8272-20260318T183000@VHSDUISBURG
SUMMARY:Italienisch - B2 - Konversation (261NZ8272) 
LOCATION:VHS Parallelstraße;Raum1, Parallelstraße 7, 47166 Duisburg
END:VEVENT
BEGIN:VEVENT
DTSTAMP:20260422T135959
DTSTART;TZID=Europe/Berlin:20260325T183000
DTEND;TZID=Europe/Berlin:20260325T210000
UID:261NZ8272-20260325T183000@VHSDUISBURG
SUMMARY:Italienisch - B2 - Konversation (261NZ8272) 
LOCATION:VHS Parallelstraße;Raum1, Parallelstraße 7, 47166 Duisburg
END:VEVENT
BEGIN:VEVENT
DTSTAMP:20260422T135959
DTSTART;TZID=Europe/Berlin:20260415T183000
DTEND;TZID=Europe/Berlin:20260415T210000
UID:261NZ8272-20260415T183000@VHSDUISBURG
SUMMARY:Italienisch - B2 - Konversation (261NZ8272) 
LOCATION:VHS Parallelstraße;Raum1, Parallelstraße 7, 47166 Duisburg
END:VEVENT
BEGIN:VEVENT
DTSTAMP:20260422T135959
DTSTART;TZID=Europe/Berlin:20260422T183000
DTEND;TZID=Europe/Berlin:20260422T210000
UID:261NZ8272-20260422T183000@VHSDUISBURG
SUMMARY:Italienisch - B2 - Konversation (261NZ8272) 
LOCATION:VHS Parallelstraße;Raum1, Parallelstraße 7, 47166 Duisburg
END:VEVENT
BEGIN:VEVENT
DTSTAMP:20260422T135959
DTSTART;TZID=Europe/Berlin:20260429T183000
DTEND;TZID=Europe/Berlin:20260429T210000
UID:261NZ8272-20260429T183000@VHSDUISBURG
DESCRIPTION:NT für den 11.3.26
SUMMARY:Italienisch - B2 - Konversation (261NZ8272) 
LOCATION:VHS Parallelstraße;Raum1, Parallelstraße 7, 47166 Duisburg
END:VEVENT
END:VCALENDAR