BEGIN:VCALENDAR
PRODID:http://www.kufer.de/kuferweb / DE
VERSION:2.0
METHOD:PUBLISH
CALSCALE:GREGORIAN
X-WR-TIMEZONE:Europe/Berlin
BEGIN:VTIMEZONE
TZID:Europe/Berlin
X-LIC-LOCATION:Europe/Berlin
BEGIN:DAYLIGHT
TZOFFSETFROM:+0100
TZOFFSETTO:+0200
TZNAME:CEST
DTSTART;TZID=Europe/Berlin:19700329T020000
RRULE:FREQ=YEARLY;INTERVAL=1;BYDAY=-1SU;BYMONTH=3
END:DAYLIGHT
BEGIN:STANDARD
TZOFFSETFROM:+0200
TZOFFSETTO:+0100
TZNAME:CET
DTSTART;TZID=Europe/Berlin:19701025T030000
RRULE:FREQ=YEARLY;INTERVAL=1;BYDAY=-1SU;BYMONTH=10
END:STANDARD
END:VTIMEZONE
BEGIN:VEVENT
DTSTAMP:20260421T142340
DTSTART;TZID=Europe/Berlin:20260202T100000
DTEND;TZID=Europe/Berlin:20260202T113000
UID:261NZ6806-20260202T100000@VHSDUISBURG
SUMMARY:Fitness in der zweiten Lebenshälfte (261NZ6806) 
LOCATION:Musikschule Parallelstraße;Raum 4, Parallelstr. 5-7, 47166 Duisburg
END:VEVENT
BEGIN:VEVENT
DTSTAMP:20260421T142340
DTSTART;TZID=Europe/Berlin:20260209T100000
DTEND;TZID=Europe/Berlin:20260209T113000
UID:261NZ6806-20260209T100000@VHSDUISBURG
SUMMARY:Fitness in der zweiten Lebenshälfte (261NZ6806) 
LOCATION:Musikschule Parallelstraße;Raum 4, Parallelstr. 5-7, 47166 Duisburg
END:VEVENT
BEGIN:VEVENT
DTSTAMP:20260421T142340
DTSTART;TZID=Europe/Berlin:20260223T100000
DTEND;TZID=Europe/Berlin:20260223T113000
UID:261NZ6806-20260223T100000@VHSDUISBURG
SUMMARY:Fitness in der zweiten Lebenshälfte (261NZ6806) 
LOCATION:Musikschule Parallelstraße;Raum 4, Parallelstr. 5-7, 47166 Duisburg
END:VEVENT
BEGIN:VEVENT
DTSTAMP:20260421T142340
DTSTART;TZID=Europe/Berlin:20260302T100000
DTEND;TZID=Europe/Berlin:20260302T113000
UID:261NZ6806-20260302T100000@VHSDUISBURG
SUMMARY:Fitness in der zweiten Lebenshälfte (261NZ6806) 
LOCATION:Musikschule Parallelstraße;Raum 4, Parallelstr. 5-7, 47166 Duisburg
END:VEVENT
BEGIN:VEVENT
DTSTAMP:20260421T142340
DTSTART;TZID=Europe/Berlin:20260309T100000
DTEND;TZID=Europe/Berlin:20260309T113000
UID:261NZ6806-20260309T100000@VHSDUISBURG
SUMMARY:Fitness in der zweiten Lebenshälfte (261NZ6806) 
LOCATION:Musikschule Parallelstraße;Raum 4, Parallelstr. 5-7, 47166 Duisburg
END:VEVENT
BEGIN:VEVENT
DTSTAMP:20260421T142340
DTSTART;TZID=Europe/Berlin:20260316T100000
DTEND;TZID=Europe/Berlin:20260316T113000
UID:261NZ6806-20260316T100000@VHSDUISBURG
SUMMARY:Fitness in der zweiten Lebenshälfte (261NZ6806) 
LOCATION:Musikschule Parallelstraße;Raum 4, Parallelstr. 5-7, 47166 Duisburg
END:VEVENT
BEGIN:VEVENT
DTSTAMP:20260421T142340
DTSTART;TZID=Europe/Berlin:20260323T100000
DTEND;TZID=Europe/Berlin:20260323T113000
UID:261NZ6806-20260323T100000@VHSDUISBURG
SUMMARY:Fitness in der zweiten Lebenshälfte (261NZ6806) 
LOCATION:Musikschule Parallelstraße;Raum 4, Parallelstr. 5-7, 47166 Duisburg
END:VEVENT
BEGIN:VEVENT
DTSTAMP:20260421T142340
DTSTART;TZID=Europe/Berlin:20260413T100000
DTEND;TZID=Europe/Berlin:20260413T113000
UID:261NZ6806-20260413T100000@VHSDUISBURG
SUMMARY:Fitness in der zweiten Lebenshälfte (261NZ6806) 
LOCATION:Musikschule Parallelstraße;Raum 4, Parallelstr. 5-7, 47166 Duisburg
END:VEVENT
BEGIN:VEVENT
DTSTAMP:20260421T142340
DTSTART;TZID=Europe/Berlin:20260420T100000
DTEND;TZID=Europe/Berlin:20260420T113000
UID:261NZ6806-20260420T100000@VHSDUISBURG
SUMMARY:Fitness in der zweiten Lebenshälfte (261NZ6806) 
LOCATION:Musikschule Parallelstraße;Raum 4, Parallelstr. 5-7, 47166 Duisburg
END:VEVENT
BEGIN:VEVENT
DTSTAMP:20260421T142340
DTSTART;TZID=Europe/Berlin:20260427T100000
DTEND;TZID=Europe/Berlin:20260427T113000
UID:261NZ6806-20260427T100000@VHSDUISBURG
SUMMARY:Fitness in der zweiten Lebenshälfte (261NZ6806) 
LOCATION:Musikschule Parallelstraße;Raum 4, Parallelstr. 5-7, 47166 Duisburg
END:VEVENT
BEGIN:VEVENT
DTSTAMP:20260421T142340
DTSTART;TZID=Europe/Berlin:20260504T100000
DTEND;TZID=Europe/Berlin:20260504T113000
UID:261NZ6806-20260504T100000@VHSDUISBURG
SUMMARY:Fitness in der zweiten Lebenshälfte (261NZ6806) 
LOCATION:Musikschule Parallelstraße;Raum 4, Parallelstr. 5-7, 47166 Duisburg
END:VEVENT
BEGIN:VEVENT
DTSTAMP:20260421T142340
DTSTART;TZID=Europe/Berlin:20260511T100000
DTEND;TZID=Europe/Berlin:20260511T113000
UID:261NZ6806-20260511T100000@VHSDUISBURG
SUMMARY:Fitness in der zweiten Lebenshälfte (261NZ6806) 
LOCATION:Musikschule Parallelstraße;Raum 4, Parallelstr. 5-7, 47166 Duisburg
END:VEVENT
BEGIN:VEVENT
DTSTAMP:20260421T142340
DTSTART;TZID=Europe/Berlin:20260518T100000
DTEND;TZID=Europe/Berlin:20260518T113000
UID:261NZ6806-20260518T100000@VHSDUISBURG
SUMMARY:Fitness in der zweiten Lebenshälfte (261NZ6806) 
LOCATION:Musikschule Parallelstraße;Raum 4, Parallelstr. 5-7, 47166 Duisburg
END:VEVENT
END:VCALENDAR