BEGIN:VCALENDAR
PRODID:http://www.kufer.de/kuferweb / DE
VERSION:2.0
METHOD:PUBLISH
CALSCALE:GREGORIAN
X-WR-TIMEZONE:Europe/Berlin
BEGIN:VTIMEZONE
TZID:Europe/Berlin
X-LIC-LOCATION:Europe/Berlin
BEGIN:DAYLIGHT
TZOFFSETFROM:+0100
TZOFFSETTO:+0200
TZNAME:CEST
DTSTART;TZID=Europe/Berlin:19700329T020000
RRULE:FREQ=YEARLY;INTERVAL=1;BYDAY=-1SU;BYMONTH=3
END:DAYLIGHT
BEGIN:STANDARD
TZOFFSETFROM:+0200
TZOFFSETTO:+0100
TZNAME:CET
DTSTART;TZID=Europe/Berlin:19701025T030000
RRULE:FREQ=YEARLY;INTERVAL=1;BYDAY=-1SU;BYMONTH=10
END:STANDARD
END:VTIMEZONE
BEGIN:VEVENT
DTSTAMP:20260421T170149
DTSTART;TZID=Europe/Berlin:20260203T110000
DTEND;TZID=Europe/Berlin:20260203T123000
UID:261NR9305-20260203T110000@VHSDUISBURG
SUMMARY:Sprach- und Begegnungscafe für Zugewanderte In Kooperation mit dem Stadtteilbüro Stark im Norden in Marxloh (261NR9305) 
LOCATION:Stadtteilbüro Marxloh;Stadtteilbüro Marxloh, Kaiser-Friedrich-Str. 34, 47169 Duisburg
END:VEVENT
BEGIN:VEVENT
DTSTAMP:20260421T170149
DTSTART;TZID=Europe/Berlin:20260210T110000
DTEND;TZID=Europe/Berlin:20260210T123000
UID:261NR9305-20260210T110000@VHSDUISBURG
SUMMARY:Sprach- und Begegnungscafe für Zugewanderte In Kooperation mit dem Stadtteilbüro Stark im Norden in Marxloh (261NR9305) 
LOCATION:Stadtteilbüro Marxloh;Stadtteilbüro Marxloh, Kaiser-Friedrich-Str. 34, 47169 Duisburg
END:VEVENT
BEGIN:VEVENT
DTSTAMP:20260421T170149
DTSTART;TZID=Europe/Berlin:20260217T110000
DTEND;TZID=Europe/Berlin:20260217T123000
UID:261NR9305-20260217T110000@VHSDUISBURG
SUMMARY:Sprach- und Begegnungscafe für Zugewanderte In Kooperation mit dem Stadtteilbüro Stark im Norden in Marxloh (261NR9305) 
LOCATION:Stadtteilbüro Marxloh;Stadtteilbüro Marxloh, Kaiser-Friedrich-Str. 34, 47169 Duisburg
END:VEVENT
BEGIN:VEVENT
DTSTAMP:20260421T170149
DTSTART;TZID=Europe/Berlin:20260224T110000
DTEND;TZID=Europe/Berlin:20260224T123000
UID:261NR9305-20260224T110000@VHSDUISBURG
SUMMARY:Sprach- und Begegnungscafe für Zugewanderte In Kooperation mit dem Stadtteilbüro Stark im Norden in Marxloh (261NR9305) 
LOCATION:Stadtteilbüro Marxloh;Stadtteilbüro Marxloh, Kaiser-Friedrich-Str. 34, 47169 Duisburg
END:VEVENT
BEGIN:VEVENT
DTSTAMP:20260421T170149
DTSTART;TZID=Europe/Berlin:20260303T110000
DTEND;TZID=Europe/Berlin:20260303T123000
UID:261NR9305-20260303T110000@VHSDUISBURG
SUMMARY:Sprach- und Begegnungscafe für Zugewanderte In Kooperation mit dem Stadtteilbüro Stark im Norden in Marxloh (261NR9305) 
LOCATION:Stadtteilbüro Marxloh;Stadtteilbüro Marxloh, Kaiser-Friedrich-Str. 34, 47169 Duisburg
END:VEVENT
BEGIN:VEVENT
DTSTAMP:20260421T170149
DTSTART;TZID=Europe/Berlin:20260310T110000
DTEND;TZID=Europe/Berlin:20260310T123000
UID:261NR9305-20260310T110000@VHSDUISBURG
SUMMARY:Sprach- und Begegnungscafe für Zugewanderte In Kooperation mit dem Stadtteilbüro Stark im Norden in Marxloh (261NR9305) 
LOCATION:Stadtteilbüro Marxloh;Stadtteilbüro Marxloh, Kaiser-Friedrich-Str. 34, 47169 Duisburg
END:VEVENT
BEGIN:VEVENT
DTSTAMP:20260421T170149
DTSTART;TZID=Europe/Berlin:20260319T110000
DTEND;TZID=Europe/Berlin:20260319T123000
UID:261NR9305-20260319T110000@VHSDUISBURG
DESCRIPTION:NT für den 17.3.26
SUMMARY:Sprach- und Begegnungscafe für Zugewanderte In Kooperation mit dem Stadtteilbüro Stark im Norden in Marxloh (261NR9305) 
LOCATION:Stadtteilbüro Marxloh;Stadtteilbüro Marxloh, Kaiser-Friedrich-Str. 34, 47169 Duisburg
END:VEVENT
BEGIN:VEVENT
DTSTAMP:20260421T170149
DTSTART;TZID=Europe/Berlin:20260326T110000
DTEND;TZID=Europe/Berlin:20260326T123000
UID:261NR9305-20260326T110000@VHSDUISBURG
DESCRIPTION:NT für den 24.3.26
SUMMARY:Sprach- und Begegnungscafe für Zugewanderte In Kooperation mit dem Stadtteilbüro Stark im Norden in Marxloh (261NR9305) 
LOCATION:Stadtteilbüro Marxloh;Stadtteilbüro Marxloh, Kaiser-Friedrich-Str. 34, 47169 Duisburg
END:VEVENT
BEGIN:VEVENT
DTSTAMP:20260421T170149
DTSTART;TZID=Europe/Berlin:20260414T110000
DTEND;TZID=Europe/Berlin:20260414T123000
UID:261NR9305-20260414T110000@VHSDUISBURG
SUMMARY:Sprach- und Begegnungscafe für Zugewanderte In Kooperation mit dem Stadtteilbüro Stark im Norden in Marxloh (261NR9305) 
LOCATION:Stadtteilbüro Marxloh;Stadtteilbüro Marxloh, Kaiser-Friedrich-Str. 34, 47169 Duisburg
END:VEVENT
BEGIN:VEVENT
DTSTAMP:20260421T170149
DTSTART;TZID=Europe/Berlin:20260421T110000
DTEND;TZID=Europe/Berlin:20260421T123000
UID:261NR9305-20260421T110000@VHSDUISBURG
SUMMARY:Sprach- und Begegnungscafe für Zugewanderte In Kooperation mit dem Stadtteilbüro Stark im Norden in Marxloh (261NR9305) 
LOCATION:Stadtteilbüro Marxloh;Stadtteilbüro Marxloh, Kaiser-Friedrich-Str. 34, 47169 Duisburg
END:VEVENT
BEGIN:VEVENT
DTSTAMP:20260421T170149
DTSTART;TZID=Europe/Berlin:20260428T110000
DTEND;TZID=Europe/Berlin:20260428T123000
UID:261NR9305-20260428T110000@VHSDUISBURG
SUMMARY:Sprach- und Begegnungscafe für Zugewanderte In Kooperation mit dem Stadtteilbüro Stark im Norden in Marxloh (261NR9305) 
LOCATION:Stadtteilbüro Marxloh;Stadtteilbüro Marxloh, Kaiser-Friedrich-Str. 34, 47169 Duisburg
END:VEVENT
BEGIN:VEVENT
DTSTAMP:20260421T170149
DTSTART;TZID=Europe/Berlin:20260505T110000
DTEND;TZID=Europe/Berlin:20260505T123000
UID:261NR9305-20260505T110000@VHSDUISBURG
SUMMARY:Sprach- und Begegnungscafe für Zugewanderte In Kooperation mit dem Stadtteilbüro Stark im Norden in Marxloh (261NR9305) 
LOCATION:Stadtteilbüro Marxloh;Stadtteilbüro Marxloh, Kaiser-Friedrich-Str. 34, 47169 Duisburg
END:VEVENT
BEGIN:VEVENT
DTSTAMP:20260421T170149
DTSTART;TZID=Europe/Berlin:20260512T110000
DTEND;TZID=Europe/Berlin:20260512T123000
UID:261NR9305-20260512T110000@VHSDUISBURG
SUMMARY:Sprach- und Begegnungscafe für Zugewanderte In Kooperation mit dem Stadtteilbüro Stark im Norden in Marxloh (261NR9305) 
LOCATION:Stadtteilbüro Marxloh;Stadtteilbüro Marxloh, Kaiser-Friedrich-Str. 34, 47169 Duisburg
END:VEVENT
BEGIN:VEVENT
DTSTAMP:20260421T170149
DTSTART;TZID=Europe/Berlin:20260519T110000
DTEND;TZID=Europe/Berlin:20260519T123000
UID:261NR9305-20260519T110000@VHSDUISBURG
SUMMARY:Sprach- und Begegnungscafe für Zugewanderte In Kooperation mit dem Stadtteilbüro Stark im Norden in Marxloh (261NR9305) 
LOCATION:Stadtteilbüro Marxloh;Stadtteilbüro Marxloh, Kaiser-Friedrich-Str. 34, 47169 Duisburg
END:VEVENT
BEGIN:VEVENT
DTSTAMP:20260421T170149
DTSTART;TZID=Europe/Berlin:20260602T110000
DTEND;TZID=Europe/Berlin:20260602T123000
UID:261NR9305-20260602T110000@VHSDUISBURG
SUMMARY:Sprach- und Begegnungscafe für Zugewanderte In Kooperation mit dem Stadtteilbüro Stark im Norden in Marxloh (261NR9305) 
LOCATION:Stadtteilbüro Marxloh;Stadtteilbüro Marxloh, Kaiser-Friedrich-Str. 34, 47169 Duisburg
END:VEVENT
BEGIN:VEVENT
DTSTAMP:20260421T170149
DTSTART;TZID=Europe/Berlin:20260609T110000
DTEND;TZID=Europe/Berlin:20260609T123000
UID:261NR9305-20260609T110000@VHSDUISBURG
SUMMARY:Sprach- und Begegnungscafe für Zugewanderte In Kooperation mit dem Stadtteilbüro Stark im Norden in Marxloh (261NR9305) 
LOCATION:Stadtteilbüro Marxloh;Stadtteilbüro Marxloh, Kaiser-Friedrich-Str. 34, 47169 Duisburg
END:VEVENT
BEGIN:VEVENT
DTSTAMP:20260421T170149
DTSTART;TZID=Europe/Berlin:20260616T110000
DTEND;TZID=Europe/Berlin:20260616T123000
UID:261NR9305-20260616T110000@VHSDUISBURG
SUMMARY:Sprach- und Begegnungscafe für Zugewanderte In Kooperation mit dem Stadtteilbüro Stark im Norden in Marxloh (261NR9305) 
LOCATION:Stadtteilbüro Marxloh;Stadtteilbüro Marxloh, Kaiser-Friedrich-Str. 34, 47169 Duisburg
END:VEVENT
END:VCALENDAR