BEGIN:VCALENDAR
PRODID:http://www.kufer.de/kuferweb / DE
VERSION:2.0
METHOD:PUBLISH
CALSCALE:GREGORIAN
X-WR-TIMEZONE:Europe/Berlin
BEGIN:VTIMEZONE
TZID:Europe/Berlin
X-LIC-LOCATION:Europe/Berlin
BEGIN:DAYLIGHT
TZOFFSETFROM:+0100
TZOFFSETTO:+0200
TZNAME:CEST
DTSTART;TZID=Europe/Berlin:19700329T020000
RRULE:FREQ=YEARLY;INTERVAL=1;BYDAY=-1SU;BYMONTH=3
END:DAYLIGHT
BEGIN:STANDARD
TZOFFSETFROM:+0200
TZOFFSETTO:+0100
TZNAME:CET
DTSTART;TZID=Europe/Berlin:19701025T030000
RRULE:FREQ=YEARLY;INTERVAL=1;BYDAY=-1SU;BYMONTH=10
END:STANDARD
END:VTIMEZONE
BEGIN:VEVENT
DTSTAMP:20260421T202121
DTSTART;TZID=Europe/Berlin:20260203T090000
DTEND;TZID=Europe/Berlin:20260203T103000
UID:261NR9304-20260203T090000@VHSDUISBURG
SUMMARY:Sprach- und Begegnungscafe für Zugewanderte In Kooperation mit dem Stadtteilbüro Stark im Norden in Alt-Hamborn (261NR9304) 
LOCATION:Stadtteilbüro Stark im Norden, Hamborner Altmarkt 8, 47166 Duisburg
END:VEVENT
BEGIN:VEVENT
DTSTAMP:20260421T202121
DTSTART;TZID=Europe/Berlin:20260210T090000
DTEND;TZID=Europe/Berlin:20260210T103000
UID:261NR9304-20260210T090000@VHSDUISBURG
SUMMARY:Sprach- und Begegnungscafe für Zugewanderte In Kooperation mit dem Stadtteilbüro Stark im Norden in Alt-Hamborn (261NR9304) 
LOCATION:Stadtteilbüro Stark im Norden, Hamborner Altmarkt 8, 47166 Duisburg
END:VEVENT
BEGIN:VEVENT
DTSTAMP:20260421T202121
DTSTART;TZID=Europe/Berlin:20260217T090000
DTEND;TZID=Europe/Berlin:20260217T103000
UID:261NR9304-20260217T090000@VHSDUISBURG
SUMMARY:Sprach- und Begegnungscafe für Zugewanderte In Kooperation mit dem Stadtteilbüro Stark im Norden in Alt-Hamborn (261NR9304) 
LOCATION:Stadtteilbüro Stark im Norden, Hamborner Altmarkt 8, 47166 Duisburg
END:VEVENT
BEGIN:VEVENT
DTSTAMP:20260421T202121
DTSTART;TZID=Europe/Berlin:20260224T090000
DTEND;TZID=Europe/Berlin:20260224T103000
UID:261NR9304-20260224T090000@VHSDUISBURG
SUMMARY:Sprach- und Begegnungscafe für Zugewanderte In Kooperation mit dem Stadtteilbüro Stark im Norden in Alt-Hamborn (261NR9304) 
LOCATION:Stadtteilbüro Stark im Norden, Hamborner Altmarkt 8, 47166 Duisburg
END:VEVENT
BEGIN:VEVENT
DTSTAMP:20260421T202121
DTSTART;TZID=Europe/Berlin:20260303T090000
DTEND;TZID=Europe/Berlin:20260303T103000
UID:261NR9304-20260303T090000@VHSDUISBURG
SUMMARY:Sprach- und Begegnungscafe für Zugewanderte In Kooperation mit dem Stadtteilbüro Stark im Norden in Alt-Hamborn (261NR9304) 
LOCATION:Stadtteilbüro Stark im Norden, Hamborner Altmarkt 8, 47166 Duisburg
END:VEVENT
BEGIN:VEVENT
DTSTAMP:20260421T202121
DTSTART;TZID=Europe/Berlin:20260310T090000
DTEND;TZID=Europe/Berlin:20260310T103000
UID:261NR9304-20260310T090000@VHSDUISBURG
SUMMARY:Sprach- und Begegnungscafe für Zugewanderte In Kooperation mit dem Stadtteilbüro Stark im Norden in Alt-Hamborn (261NR9304) 
LOCATION:Stadtteilbüro Stark im Norden, Hamborner Altmarkt 8, 47166 Duisburg
END:VEVENT
BEGIN:VEVENT
DTSTAMP:20260421T202121
DTSTART;TZID=Europe/Berlin:20260319T090000
DTEND;TZID=Europe/Berlin:20260319T103000
UID:261NR9304-20260319T090000@VHSDUISBURG
DESCRIPTION:NT für den 17.3
SUMMARY:Sprach- und Begegnungscafe für Zugewanderte In Kooperation mit dem Stadtteilbüro Stark im Norden in Alt-Hamborn (261NR9304) 
LOCATION:Stadtteilbüro Stark im Norden, Hamborner Altmarkt 8, 47166 Duisburg
END:VEVENT
BEGIN:VEVENT
DTSTAMP:20260421T202121
DTSTART;TZID=Europe/Berlin:20260326T090000
DTEND;TZID=Europe/Berlin:20260326T103000
UID:261NR9304-20260326T090000@VHSDUISBURG
DESCRIPTION:NT für den 24.3.26
SUMMARY:Sprach- und Begegnungscafe für Zugewanderte In Kooperation mit dem Stadtteilbüro Stark im Norden in Alt-Hamborn (261NR9304) 
LOCATION:Stadtteilbüro Stark im Norden, Hamborner Altmarkt 8, 47166 Duisburg
END:VEVENT
BEGIN:VEVENT
DTSTAMP:20260421T202121
DTSTART;TZID=Europe/Berlin:20260414T090000
DTEND;TZID=Europe/Berlin:20260414T103000
UID:261NR9304-20260414T090000@VHSDUISBURG
SUMMARY:Sprach- und Begegnungscafe für Zugewanderte In Kooperation mit dem Stadtteilbüro Stark im Norden in Alt-Hamborn (261NR9304) 
LOCATION:Stadtteilbüro Stark im Norden, Hamborner Altmarkt 8, 47166 Duisburg
END:VEVENT
BEGIN:VEVENT
DTSTAMP:20260421T202121
DTSTART;TZID=Europe/Berlin:20260421T090000
DTEND;TZID=Europe/Berlin:20260421T103000
UID:261NR9304-20260421T090000@VHSDUISBURG
SUMMARY:Sprach- und Begegnungscafe für Zugewanderte In Kooperation mit dem Stadtteilbüro Stark im Norden in Alt-Hamborn (261NR9304) 
LOCATION:Stadtteilbüro Stark im Norden, Hamborner Altmarkt 8, 47166 Duisburg
END:VEVENT
BEGIN:VEVENT
DTSTAMP:20260421T202121
DTSTART;TZID=Europe/Berlin:20260428T090000
DTEND;TZID=Europe/Berlin:20260428T103000
UID:261NR9304-20260428T090000@VHSDUISBURG
SUMMARY:Sprach- und Begegnungscafe für Zugewanderte In Kooperation mit dem Stadtteilbüro Stark im Norden in Alt-Hamborn (261NR9304) 
LOCATION:Stadtteilbüro Stark im Norden, Hamborner Altmarkt 8, 47166 Duisburg
END:VEVENT
BEGIN:VEVENT
DTSTAMP:20260421T202121
DTSTART;TZID=Europe/Berlin:20260505T090000
DTEND;TZID=Europe/Berlin:20260505T103000
UID:261NR9304-20260505T090000@VHSDUISBURG
SUMMARY:Sprach- und Begegnungscafe für Zugewanderte In Kooperation mit dem Stadtteilbüro Stark im Norden in Alt-Hamborn (261NR9304) 
LOCATION:Stadtteilbüro Stark im Norden, Hamborner Altmarkt 8, 47166 Duisburg
END:VEVENT
BEGIN:VEVENT
DTSTAMP:20260421T202121
DTSTART;TZID=Europe/Berlin:20260512T090000
DTEND;TZID=Europe/Berlin:20260512T103000
UID:261NR9304-20260512T090000@VHSDUISBURG
SUMMARY:Sprach- und Begegnungscafe für Zugewanderte In Kooperation mit dem Stadtteilbüro Stark im Norden in Alt-Hamborn (261NR9304) 
LOCATION:Stadtteilbüro Stark im Norden, Hamborner Altmarkt 8, 47166 Duisburg
END:VEVENT
BEGIN:VEVENT
DTSTAMP:20260421T202121
DTSTART;TZID=Europe/Berlin:20260519T090000
DTEND;TZID=Europe/Berlin:20260519T103000
UID:261NR9304-20260519T090000@VHSDUISBURG
SUMMARY:Sprach- und Begegnungscafe für Zugewanderte In Kooperation mit dem Stadtteilbüro Stark im Norden in Alt-Hamborn (261NR9304) 
LOCATION:Stadtteilbüro Stark im Norden, Hamborner Altmarkt 8, 47166 Duisburg
END:VEVENT
BEGIN:VEVENT
DTSTAMP:20260421T202121
DTSTART;TZID=Europe/Berlin:20260602T090000
DTEND;TZID=Europe/Berlin:20260602T103000
UID:261NR9304-20260602T090000@VHSDUISBURG
SUMMARY:Sprach- und Begegnungscafe für Zugewanderte In Kooperation mit dem Stadtteilbüro Stark im Norden in Alt-Hamborn (261NR9304) 
LOCATION:Stadtteilbüro Stark im Norden, Hamborner Altmarkt 8, 47166 Duisburg
END:VEVENT
BEGIN:VEVENT
DTSTAMP:20260421T202121
DTSTART;TZID=Europe/Berlin:20260609T090000
DTEND;TZID=Europe/Berlin:20260609T103000
UID:261NR9304-20260609T090000@VHSDUISBURG
SUMMARY:Sprach- und Begegnungscafe für Zugewanderte In Kooperation mit dem Stadtteilbüro Stark im Norden in Alt-Hamborn (261NR9304) 
LOCATION:Stadtteilbüro Stark im Norden, Hamborner Altmarkt 8, 47166 Duisburg
END:VEVENT
BEGIN:VEVENT
DTSTAMP:20260421T202121
DTSTART;TZID=Europe/Berlin:20260616T090000
DTEND;TZID=Europe/Berlin:20260616T103000
UID:261NR9304-20260616T090000@VHSDUISBURG
SUMMARY:Sprach- und Begegnungscafe für Zugewanderte In Kooperation mit dem Stadtteilbüro Stark im Norden in Alt-Hamborn (261NR9304) 
LOCATION:Stadtteilbüro Stark im Norden, Hamborner Altmarkt 8, 47166 Duisburg
END:VEVENT
BEGIN:VEVENT
DTSTAMP:20260421T202121
DTSTART;TZID=Europe/Berlin:20260623T090000
DTEND;TZID=Europe/Berlin:20260623T103000
UID:261NR9304-20260623T090000@VHSDUISBURG
SUMMARY:Sprach- und Begegnungscafe für Zugewanderte In Kooperation mit dem Stadtteilbüro Stark im Norden in Alt-Hamborn (261NR9304) 
LOCATION:Stadtteilbüro Stark im Norden, Hamborner Altmarkt 8, 47166 Duisburg
END:VEVENT
END:VCALENDAR