BEGIN:VCALENDAR
PRODID:http://www.kufer.de/kuferweb / DE
VERSION:2.0
METHOD:PUBLISH
CALSCALE:GREGORIAN
X-WR-TIMEZONE:Europe/Berlin
BEGIN:VTIMEZONE
TZID:Europe/Berlin
X-LIC-LOCATION:Europe/Berlin
BEGIN:DAYLIGHT
TZOFFSETFROM:+0100
TZOFFSETTO:+0200
TZNAME:CEST
DTSTART;TZID=Europe/Berlin:19700329T020000
RRULE:FREQ=YEARLY;INTERVAL=1;BYDAY=-1SU;BYMONTH=3
END:DAYLIGHT
BEGIN:STANDARD
TZOFFSETFROM:+0200
TZOFFSETTO:+0100
TZNAME:CET
DTSTART;TZID=Europe/Berlin:19701025T030000
RRULE:FREQ=YEARLY;INTERVAL=1;BYDAY=-1SU;BYMONTH=10
END:STANDARD
END:VTIMEZONE
BEGIN:VEVENT
DTSTAMP:20260422T002941
DTSTART;TZID=Europe/Berlin:20260203T210000
DTEND;TZID=Europe/Berlin:20260203T220000
UID:261NR6693-20260203T210000@VHSDUISBURG
SUMMARY:Aquafitness (261NR6693) 
LOCATION:GGS Beeckerwerth;Lehrschwimmbecken, Heisterbacher Straße 9, 47139 Duisburg
END:VEVENT
BEGIN:VEVENT
DTSTAMP:20260422T002941
DTSTART;TZID=Europe/Berlin:20260224T210000
DTEND;TZID=Europe/Berlin:20260224T220000
UID:261NR6693-20260224T210000@VHSDUISBURG
SUMMARY:Aquafitness (261NR6693) 
LOCATION:GGS Beeckerwerth;Lehrschwimmbecken, Heisterbacher Straße 9, 47139 Duisburg
END:VEVENT
BEGIN:VEVENT
DTSTAMP:20260422T002941
DTSTART;TZID=Europe/Berlin:20260324T210000
DTEND;TZID=Europe/Berlin:20260324T220000
UID:261NR6693-20260324T210000@VHSDUISBURG
SUMMARY:Aquafitness (261NR6693) 
LOCATION:GGS Beeckerwerth;Lehrschwimmbecken, Heisterbacher Straße 9, 47139 Duisburg
END:VEVENT
BEGIN:VEVENT
DTSTAMP:20260422T002941
DTSTART;TZID=Europe/Berlin:20260414T210000
DTEND;TZID=Europe/Berlin:20260414T220000
UID:261NR6693-20260414T210000@VHSDUISBURG
SUMMARY:Aquafitness (261NR6693) 
LOCATION:GGS Beeckerwerth;Lehrschwimmbecken, Heisterbacher Straße 9, 47139 Duisburg
END:VEVENT
BEGIN:VEVENT
DTSTAMP:20260422T002941
DTSTART;TZID=Europe/Berlin:20260421T210000
DTEND;TZID=Europe/Berlin:20260421T220000
UID:261NR6693-20260421T210000@VHSDUISBURG
SUMMARY:Aquafitness (261NR6693) 
LOCATION:GGS Beeckerwerth;Lehrschwimmbecken, Heisterbacher Straße 9, 47139 Duisburg
END:VEVENT
BEGIN:VEVENT
DTSTAMP:20260422T002941
DTSTART;TZID=Europe/Berlin:20260428T210000
DTEND;TZID=Europe/Berlin:20260428T220000
UID:261NR6693-20260428T210000@VHSDUISBURG
SUMMARY:Aquafitness (261NR6693) 
LOCATION:GGS Beeckerwerth;Lehrschwimmbecken, Heisterbacher Straße 9, 47139 Duisburg
END:VEVENT
BEGIN:VEVENT
DTSTAMP:20260422T002941
DTSTART;TZID=Europe/Berlin:20260505T210000
DTEND;TZID=Europe/Berlin:20260505T220000
UID:261NR6693-20260505T210000@VHSDUISBURG
SUMMARY:Aquafitness (261NR6693) 
LOCATION:GGS Beeckerwerth;Lehrschwimmbecken, Heisterbacher Straße 9, 47139 Duisburg
END:VEVENT
BEGIN:VEVENT
DTSTAMP:20260422T002941
DTSTART;TZID=Europe/Berlin:20260512T210000
DTEND;TZID=Europe/Berlin:20260512T220000
UID:261NR6693-20260512T210000@VHSDUISBURG
SUMMARY:Aquafitness (261NR6693) 
LOCATION:GGS Beeckerwerth;Lehrschwimmbecken, Heisterbacher Straße 9, 47139 Duisburg
END:VEVENT
BEGIN:VEVENT
DTSTAMP:20260422T002941
DTSTART;TZID=Europe/Berlin:20260519T210000
DTEND;TZID=Europe/Berlin:20260519T220000
UID:261NR6693-20260519T210000@VHSDUISBURG
DESCRIPTION:NT für den 10.2.26
SUMMARY:Aquafitness (261NR6693) 
LOCATION:GGS Beeckerwerth;Lehrschwimmbecken, Heisterbacher Straße 9, 47139 Duisburg
END:VEVENT
BEGIN:VEVENT
DTSTAMP:20260422T002941
DTSTART;TZID=Europe/Berlin:20260602T210000
DTEND;TZID=Europe/Berlin:20260602T220000
UID:261NR6693-20260602T210000@VHSDUISBURG
DESCRIPTION:NT für den 3.3.26
SUMMARY:Aquafitness (261NR6693) 
LOCATION:GGS Beeckerwerth;Lehrschwimmbecken, Heisterbacher Straße 9, 47139 Duisburg
END:VEVENT
BEGIN:VEVENT
DTSTAMP:20260422T002941
DTSTART;TZID=Europe/Berlin:20260609T210000
DTEND;TZID=Europe/Berlin:20260609T220000
UID:261NR6693-20260609T210000@VHSDUISBURG
DESCRIPTION:NT für den 10.3.26
SUMMARY:Aquafitness (261NR6693) 
LOCATION:GGS Beeckerwerth;Lehrschwimmbecken, Heisterbacher Straße 9, 47139 Duisburg
END:VEVENT
BEGIN:VEVENT
DTSTAMP:20260422T002941
DTSTART;TZID=Europe/Berlin:20260616T210000
DTEND;TZID=Europe/Berlin:20260616T220000
UID:261NR6693-20260616T210000@VHSDUISBURG
DESCRIPTION:NT für den 17.3.26
SUMMARY:Aquafitness (261NR6693) 
LOCATION:GGS Beeckerwerth;Lehrschwimmbecken, Heisterbacher Straße 9, 47139 Duisburg
END:VEVENT
END:VCALENDAR