BEGIN:VCALENDAR
PRODID:http://www.kufer.de/kuferweb / DE
VERSION:2.0
METHOD:PUBLISH
CALSCALE:GREGORIAN
X-WR-TIMEZONE:Europe/Berlin
BEGIN:VTIMEZONE
TZID:Europe/Berlin
X-LIC-LOCATION:Europe/Berlin
BEGIN:DAYLIGHT
TZOFFSETFROM:+0100
TZOFFSETTO:+0200
TZNAME:CEST
DTSTART;TZID=Europe/Berlin:19700329T020000
RRULE:FREQ=YEARLY;INTERVAL=1;BYDAY=-1SU;BYMONTH=3
END:DAYLIGHT
BEGIN:STANDARD
TZOFFSETFROM:+0200
TZOFFSETTO:+0100
TZNAME:CET
DTSTART;TZID=Europe/Berlin:19701025T030000
RRULE:FREQ=YEARLY;INTERVAL=1;BYDAY=-1SU;BYMONTH=10
END:STANDARD
END:VTIMEZONE
BEGIN:VEVENT
DTSTAMP:20260423T114651
DTSTART;TZID=Europe/Berlin:20260203T190000
DTEND;TZID=Europe/Berlin:20260203T200000
UID:261NR6691-20260203T190000@VHSDUISBURG
SUMMARY:Aquafitness (261NR6691) 
LOCATION:GGS Beeckerwerth;Lehrschwimmbecken, Heisterbacher Straße 9, 47139 Duisburg
END:VEVENT
BEGIN:VEVENT
DTSTAMP:20260423T114651
DTSTART;TZID=Europe/Berlin:20260224T190000
DTEND;TZID=Europe/Berlin:20260224T200000
UID:261NR6691-20260224T190000@VHSDUISBURG
SUMMARY:Aquafitness (261NR6691) 
LOCATION:GGS Beeckerwerth;Lehrschwimmbecken, Heisterbacher Straße 9, 47139 Duisburg
END:VEVENT
BEGIN:VEVENT
DTSTAMP:20260423T114651
DTSTART;TZID=Europe/Berlin:20260324T190000
DTEND;TZID=Europe/Berlin:20260324T200000
UID:261NR6691-20260324T190000@VHSDUISBURG
SUMMARY:Aquafitness (261NR6691) 
LOCATION:GGS Beeckerwerth;Lehrschwimmbecken, Heisterbacher Straße 9, 47139 Duisburg
END:VEVENT
BEGIN:VEVENT
DTSTAMP:20260423T114651
DTSTART;TZID=Europe/Berlin:20260414T190000
DTEND;TZID=Europe/Berlin:20260414T200000
UID:261NR6691-20260414T190000@VHSDUISBURG
SUMMARY:Aquafitness (261NR6691) 
LOCATION:GGS Beeckerwerth;Lehrschwimmbecken, Heisterbacher Straße 9, 47139 Duisburg
END:VEVENT
BEGIN:VEVENT
DTSTAMP:20260423T114651
DTSTART;TZID=Europe/Berlin:20260421T190000
DTEND;TZID=Europe/Berlin:20260421T200000
UID:261NR6691-20260421T190000@VHSDUISBURG
SUMMARY:Aquafitness (261NR6691) 
LOCATION:GGS Beeckerwerth;Lehrschwimmbecken, Heisterbacher Straße 9, 47139 Duisburg
END:VEVENT
BEGIN:VEVENT
DTSTAMP:20260423T114651
DTSTART;TZID=Europe/Berlin:20260428T190000
DTEND;TZID=Europe/Berlin:20260428T200000
UID:261NR6691-20260428T190000@VHSDUISBURG
SUMMARY:Aquafitness (261NR6691) 
LOCATION:GGS Beeckerwerth;Lehrschwimmbecken, Heisterbacher Straße 9, 47139 Duisburg
END:VEVENT
BEGIN:VEVENT
DTSTAMP:20260423T114651
DTSTART;TZID=Europe/Berlin:20260505T190000
DTEND;TZID=Europe/Berlin:20260505T200000
UID:261NR6691-20260505T190000@VHSDUISBURG
SUMMARY:Aquafitness (261NR6691) 
LOCATION:GGS Beeckerwerth;Lehrschwimmbecken, Heisterbacher Straße 9, 47139 Duisburg
END:VEVENT
BEGIN:VEVENT
DTSTAMP:20260423T114651
DTSTART;TZID=Europe/Berlin:20260512T190000
DTEND;TZID=Europe/Berlin:20260512T200000
UID:261NR6691-20260512T190000@VHSDUISBURG
SUMMARY:Aquafitness (261NR6691) 
LOCATION:GGS Beeckerwerth;Lehrschwimmbecken, Heisterbacher Straße 9, 47139 Duisburg
END:VEVENT
BEGIN:VEVENT
DTSTAMP:20260423T114651
DTSTART;TZID=Europe/Berlin:20260519T190000
DTEND;TZID=Europe/Berlin:20260519T200000
UID:261NR6691-20260519T190000@VHSDUISBURG
DESCRIPTION:NT für den 10.2.26
SUMMARY:Aquafitness (261NR6691) 
LOCATION:GGS Beeckerwerth;Lehrschwimmbecken, Heisterbacher Straße 9, 47139 Duisburg
END:VEVENT
BEGIN:VEVENT
DTSTAMP:20260423T114651
DTSTART;TZID=Europe/Berlin:20260602T190000
DTEND;TZID=Europe/Berlin:20260602T200000
UID:261NR6691-20260602T190000@VHSDUISBURG
DESCRIPTION:NT für den 3.3.26
SUMMARY:Aquafitness (261NR6691) 
LOCATION:GGS Beeckerwerth;Lehrschwimmbecken, Heisterbacher Straße 9, 47139 Duisburg
END:VEVENT
BEGIN:VEVENT
DTSTAMP:20260423T114651
DTSTART;TZID=Europe/Berlin:20260609T190000
DTEND;TZID=Europe/Berlin:20260609T200000
UID:261NR6691-20260609T190000@VHSDUISBURG
DESCRIPTION:NT für den 10.3.26
SUMMARY:Aquafitness (261NR6691) 
LOCATION:GGS Beeckerwerth;Lehrschwimmbecken, Heisterbacher Straße 9, 47139 Duisburg
END:VEVENT
BEGIN:VEVENT
DTSTAMP:20260423T114651
DTSTART;TZID=Europe/Berlin:20260616T190000
DTEND;TZID=Europe/Berlin:20260616T200000
UID:261NR6691-20260616T190000@VHSDUISBURG
DESCRIPTION:NT für den 17.3.26
SUMMARY:Aquafitness (261NR6691) 
LOCATION:GGS Beeckerwerth;Lehrschwimmbecken, Heisterbacher Straße 9, 47139 Duisburg
END:VEVENT
END:VCALENDAR