BEGIN:VCALENDAR
PRODID:http://www.kufer.de/kuferweb / DE
VERSION:2.0
METHOD:PUBLISH
CALSCALE:GREGORIAN
X-WR-TIMEZONE:Europe/Berlin
BEGIN:VTIMEZONE
TZID:Europe/Berlin
X-LIC-LOCATION:Europe/Berlin
BEGIN:DAYLIGHT
TZOFFSETFROM:+0100
TZOFFSETTO:+0200
TZNAME:CEST
DTSTART;TZID=Europe/Berlin:19700329T020000
RRULE:FREQ=YEARLY;INTERVAL=1;BYDAY=-1SU;BYMONTH=3
END:DAYLIGHT
BEGIN:STANDARD
TZOFFSETFROM:+0200
TZOFFSETTO:+0100
TZNAME:CET
DTSTART;TZID=Europe/Berlin:19701025T030000
RRULE:FREQ=YEARLY;INTERVAL=1;BYDAY=-1SU;BYMONTH=10
END:STANDARD
END:VTIMEZONE
BEGIN:VEVENT
DTSTAMP:20260421T202102
DTSTART;TZID=Europe/Berlin:20260204T181500
DTEND;TZID=Europe/Berlin:20260204T191500
UID:261NR6665-20260204T181500@VHSDUISBURG
SUMMARY:Wassergymnastik (261NR6665) 
LOCATION:GGS Unter den Kastanien;Lehrschwimmbecken, Unter den Kastanien 28, 47179 Duisburg
END:VEVENT
BEGIN:VEVENT
DTSTAMP:20260421T202102
DTSTART;TZID=Europe/Berlin:20260218T181500
DTEND;TZID=Europe/Berlin:20260218T191500
UID:261NR6665-20260218T181500@VHSDUISBURG
SUMMARY:Wassergymnastik (261NR6665) 
LOCATION:GGS Unter den Kastanien;Lehrschwimmbecken, Unter den Kastanien 28, 47179 Duisburg
END:VEVENT
BEGIN:VEVENT
DTSTAMP:20260421T202102
DTSTART;TZID=Europe/Berlin:20260225T181500
DTEND;TZID=Europe/Berlin:20260225T191500
UID:261NR6665-20260225T181500@VHSDUISBURG
SUMMARY:Wassergymnastik (261NR6665) 
LOCATION:GGS Unter den Kastanien;Lehrschwimmbecken, Unter den Kastanien 28, 47179 Duisburg
END:VEVENT
BEGIN:VEVENT
DTSTAMP:20260421T202102
DTSTART;TZID=Europe/Berlin:20260304T181500
DTEND;TZID=Europe/Berlin:20260304T191500
UID:261NR6665-20260304T181500@VHSDUISBURG
SUMMARY:Wassergymnastik (261NR6665) 
LOCATION:GGS Unter den Kastanien;Lehrschwimmbecken, Unter den Kastanien 28, 47179 Duisburg
END:VEVENT
BEGIN:VEVENT
DTSTAMP:20260421T202102
DTSTART;TZID=Europe/Berlin:20260311T181500
DTEND;TZID=Europe/Berlin:20260311T191500
UID:261NR6665-20260311T181500@VHSDUISBURG
SUMMARY:Wassergymnastik (261NR6665) 
LOCATION:GGS Unter den Kastanien;Lehrschwimmbecken, Unter den Kastanien 28, 47179 Duisburg
END:VEVENT
BEGIN:VEVENT
DTSTAMP:20260421T202102
DTSTART;TZID=Europe/Berlin:20260318T181500
DTEND;TZID=Europe/Berlin:20260318T191500
UID:261NR6665-20260318T181500@VHSDUISBURG
SUMMARY:Wassergymnastik (261NR6665) 
LOCATION:GGS Unter den Kastanien;Lehrschwimmbecken, Unter den Kastanien 28, 47179 Duisburg
END:VEVENT
BEGIN:VEVENT
DTSTAMP:20260421T202102
DTSTART;TZID=Europe/Berlin:20260325T181500
DTEND;TZID=Europe/Berlin:20260325T191500
UID:261NR6665-20260325T181500@VHSDUISBURG
SUMMARY:Wassergymnastik (261NR6665) 
LOCATION:GGS Unter den Kastanien;Lehrschwimmbecken, Unter den Kastanien 28, 47179 Duisburg
END:VEVENT
BEGIN:VEVENT
DTSTAMP:20260421T202102
DTSTART;TZID=Europe/Berlin:20260415T181500
DTEND;TZID=Europe/Berlin:20260415T191500
UID:261NR6665-20260415T181500@VHSDUISBURG
SUMMARY:Wassergymnastik (261NR6665) 
LOCATION:GGS Unter den Kastanien;Lehrschwimmbecken, Unter den Kastanien 28, 47179 Duisburg
END:VEVENT
BEGIN:VEVENT
DTSTAMP:20260421T202102
DTSTART;TZID=Europe/Berlin:20260422T181500
DTEND;TZID=Europe/Berlin:20260422T191500
UID:261NR6665-20260422T181500@VHSDUISBURG
SUMMARY:Wassergymnastik (261NR6665) 
LOCATION:GGS Unter den Kastanien;Lehrschwimmbecken, Unter den Kastanien 28, 47179 Duisburg
END:VEVENT
BEGIN:VEVENT
DTSTAMP:20260421T202102
DTSTART;TZID=Europe/Berlin:20260429T181500
DTEND;TZID=Europe/Berlin:20260429T191500
UID:261NR6665-20260429T181500@VHSDUISBURG
SUMMARY:Wassergymnastik (261NR6665) 
LOCATION:GGS Unter den Kastanien;Lehrschwimmbecken, Unter den Kastanien 28, 47179 Duisburg
END:VEVENT
BEGIN:VEVENT
DTSTAMP:20260421T202102
DTSTART;TZID=Europe/Berlin:20260506T181500
DTEND;TZID=Europe/Berlin:20260506T191500
UID:261NR6665-20260506T181500@VHSDUISBURG
SUMMARY:Wassergymnastik (261NR6665) 
LOCATION:GGS Unter den Kastanien;Lehrschwimmbecken, Unter den Kastanien 28, 47179 Duisburg
END:VEVENT
BEGIN:VEVENT
DTSTAMP:20260421T202102
DTSTART;TZID=Europe/Berlin:20260513T181500
DTEND;TZID=Europe/Berlin:20260513T191500
UID:261NR6665-20260513T181500@VHSDUISBURG
SUMMARY:Wassergymnastik (261NR6665) 
LOCATION:GGS Unter den Kastanien;Lehrschwimmbecken, Unter den Kastanien 28, 47179 Duisburg
END:VEVENT
BEGIN:VEVENT
DTSTAMP:20260421T202102
DTSTART;TZID=Europe/Berlin:20260520T181500
DTEND;TZID=Europe/Berlin:20260520T191500
UID:261NR6665-20260520T181500@VHSDUISBURG
DESCRIPTION:NT für den 11.2.26
SUMMARY:Wassergymnastik (261NR6665) 
LOCATION:GGS Unter den Kastanien;Lehrschwimmbecken, Unter den Kastanien 28, 47179 Duisburg
END:VEVENT
END:VCALENDAR