BEGIN:VCALENDAR
PRODID:http://www.kufer.de/kuferweb / DE
VERSION:2.0
METHOD:PUBLISH
CALSCALE:GREGORIAN
X-WR-TIMEZONE:Europe/Berlin
BEGIN:VTIMEZONE
TZID:Europe/Berlin
X-LIC-LOCATION:Europe/Berlin
BEGIN:DAYLIGHT
TZOFFSETFROM:+0100
TZOFFSETTO:+0200
TZNAME:CEST
DTSTART;TZID=Europe/Berlin:19700329T020000
RRULE:FREQ=YEARLY;INTERVAL=1;BYDAY=-1SU;BYMONTH=3
END:DAYLIGHT
BEGIN:STANDARD
TZOFFSETFROM:+0200
TZOFFSETTO:+0100
TZNAME:CET
DTSTART;TZID=Europe/Berlin:19701025T030000
RRULE:FREQ=YEARLY;INTERVAL=1;BYDAY=-1SU;BYMONTH=10
END:STANDARD
END:VTIMEZONE
BEGIN:VEVENT
DTSTAMP:20260421T094850
DTSTART;TZID=Europe/Berlin:20260202T191500
DTEND;TZID=Europe/Berlin:20260202T201500
UID:261NR6659-20260202T191500@VHSDUISBURG
SUMMARY:Wassergymnastik (261NR6659) 
LOCATION:GGS Unter den Kastanien;Lehrschwimmbecken, Unter den Kastanien 28, 47179 Duisburg
END:VEVENT
BEGIN:VEVENT
DTSTAMP:20260421T094850
DTSTART;TZID=Europe/Berlin:20260223T191500
DTEND;TZID=Europe/Berlin:20260223T201500
UID:261NR6659-20260223T191500@VHSDUISBURG
SUMMARY:Wassergymnastik (261NR6659) 
LOCATION:GGS Unter den Kastanien;Lehrschwimmbecken, Unter den Kastanien 28, 47179 Duisburg
END:VEVENT
BEGIN:VEVENT
DTSTAMP:20260421T094850
DTSTART;TZID=Europe/Berlin:20260302T191500
DTEND;TZID=Europe/Berlin:20260302T201500
UID:261NR6659-20260302T191500@VHSDUISBURG
SUMMARY:Wassergymnastik (261NR6659) 
LOCATION:GGS Unter den Kastanien;Lehrschwimmbecken, Unter den Kastanien 28, 47179 Duisburg
END:VEVENT
BEGIN:VEVENT
DTSTAMP:20260421T094850
DTSTART;TZID=Europe/Berlin:20260309T191500
DTEND;TZID=Europe/Berlin:20260309T201500
UID:261NR6659-20260309T191500@VHSDUISBURG
SUMMARY:Wassergymnastik (261NR6659) 
LOCATION:GGS Unter den Kastanien;Lehrschwimmbecken, Unter den Kastanien 28, 47179 Duisburg
END:VEVENT
BEGIN:VEVENT
DTSTAMP:20260421T094850
DTSTART;TZID=Europe/Berlin:20260316T191500
DTEND;TZID=Europe/Berlin:20260316T201500
UID:261NR6659-20260316T191500@VHSDUISBURG
SUMMARY:Wassergymnastik (261NR6659) 
LOCATION:GGS Unter den Kastanien;Lehrschwimmbecken, Unter den Kastanien 28, 47179 Duisburg
END:VEVENT
BEGIN:VEVENT
DTSTAMP:20260421T094850
DTSTART;TZID=Europe/Berlin:20260323T191500
DTEND;TZID=Europe/Berlin:20260323T201500
UID:261NR6659-20260323T191500@VHSDUISBURG
SUMMARY:Wassergymnastik (261NR6659) 
LOCATION:GGS Unter den Kastanien;Lehrschwimmbecken, Unter den Kastanien 28, 47179 Duisburg
END:VEVENT
BEGIN:VEVENT
DTSTAMP:20260421T094850
DTSTART;TZID=Europe/Berlin:20260420T191500
DTEND;TZID=Europe/Berlin:20260420T201500
UID:261NR6659-20260420T191500@VHSDUISBURG
SUMMARY:Wassergymnastik (261NR6659) 
LOCATION:GGS Unter den Kastanien;Lehrschwimmbecken, Unter den Kastanien 28, 47179 Duisburg
END:VEVENT
BEGIN:VEVENT
DTSTAMP:20260421T094850
DTSTART;TZID=Europe/Berlin:20260427T191500
DTEND;TZID=Europe/Berlin:20260427T201500
UID:261NR6659-20260427T191500@VHSDUISBURG
DESCRIPTION:NT für den 9.2.26
SUMMARY:Wassergymnastik (261NR6659) 
LOCATION:GGS Unter den Kastanien;Lehrschwimmbecken, Unter den Kastanien 28, 47179 Duisburg
END:VEVENT
END:VCALENDAR