BEGIN:VCALENDAR
PRODID:http://www.kufer.de/kuferweb / DE
VERSION:2.0
METHOD:PUBLISH
CALSCALE:GREGORIAN
X-WR-TIMEZONE:Europe/Berlin
BEGIN:VTIMEZONE
TZID:Europe/Berlin
X-LIC-LOCATION:Europe/Berlin
BEGIN:DAYLIGHT
TZOFFSETFROM:+0100
TZOFFSETTO:+0200
TZNAME:CEST
DTSTART;TZID=Europe/Berlin:19700329T020000
RRULE:FREQ=YEARLY;INTERVAL=1;BYDAY=-1SU;BYMONTH=3
END:DAYLIGHT
BEGIN:STANDARD
TZOFFSETFROM:+0200
TZOFFSETTO:+0100
TZNAME:CET
DTSTART;TZID=Europe/Berlin:19701025T030000
RRULE:FREQ=YEARLY;INTERVAL=1;BYDAY=-1SU;BYMONTH=10
END:STANDARD
END:VTIMEZONE
BEGIN:VEVENT
DTSTAMP:20260423T115558
DTSTART;TZID=Europe/Berlin:20260504T171500
DTEND;TZID=Europe/Berlin:20260504T181500
UID:261NR6657A-20260504T171500@VHSDUISBURG
SUMMARY:Wassergymnastik (261NR6657A) 
LOCATION:GGS Unter den Kastanien;Lehrschwimmbecken, Unter den Kastanien 28, 47179 Duisburg
END:VEVENT
BEGIN:VEVENT
DTSTAMP:20260423T115558
DTSTART;TZID=Europe/Berlin:20260511T171500
DTEND;TZID=Europe/Berlin:20260511T181500
UID:261NR6657A-20260511T171500@VHSDUISBURG
SUMMARY:Wassergymnastik (261NR6657A) 
LOCATION:GGS Unter den Kastanien;Lehrschwimmbecken, Unter den Kastanien 28, 47179 Duisburg
END:VEVENT
BEGIN:VEVENT
DTSTAMP:20260423T115558
DTSTART;TZID=Europe/Berlin:20260518T171500
DTEND;TZID=Europe/Berlin:20260518T181500
UID:261NR6657A-20260518T171500@VHSDUISBURG
SUMMARY:Wassergymnastik (261NR6657A) 
LOCATION:GGS Unter den Kastanien;Lehrschwimmbecken, Unter den Kastanien 28, 47179 Duisburg
END:VEVENT
BEGIN:VEVENT
DTSTAMP:20260423T115558
DTSTART;TZID=Europe/Berlin:20260608T171500
DTEND;TZID=Europe/Berlin:20260608T181500
UID:261NR6657A-20260608T171500@VHSDUISBURG
SUMMARY:Wassergymnastik (261NR6657A) 
LOCATION:GGS Unter den Kastanien;Lehrschwimmbecken, Unter den Kastanien 28, 47179 Duisburg
END:VEVENT
BEGIN:VEVENT
DTSTAMP:20260423T115558
DTSTART;TZID=Europe/Berlin:20260615T171500
DTEND;TZID=Europe/Berlin:20260615T181500
UID:261NR6657A-20260615T171500@VHSDUISBURG
SUMMARY:Wassergymnastik (261NR6657A) 
LOCATION:GGS Unter den Kastanien;Lehrschwimmbecken, Unter den Kastanien 28, 47179 Duisburg
END:VEVENT
BEGIN:VEVENT
DTSTAMP:20260423T115558
DTSTART;TZID=Europe/Berlin:20260622T171500
DTEND;TZID=Europe/Berlin:20260622T181500
UID:261NR6657A-20260622T171500@VHSDUISBURG
SUMMARY:Wassergymnastik (261NR6657A) 
LOCATION:GGS Unter den Kastanien;Lehrschwimmbecken, Unter den Kastanien 28, 47179 Duisburg
END:VEVENT
BEGIN:VEVENT
DTSTAMP:20260423T115558
DTSTART;TZID=Europe/Berlin:20260629T171500
DTEND;TZID=Europe/Berlin:20260629T181500
UID:261NR6657A-20260629T171500@VHSDUISBURG
SUMMARY:Wassergymnastik (261NR6657A) 
LOCATION:GGS Unter den Kastanien;Lehrschwimmbecken, Unter den Kastanien 28, 47179 Duisburg
END:VEVENT
BEGIN:VEVENT
DTSTAMP:20260423T115558
DTSTART;TZID=Europe/Berlin:20260706T171500
DTEND;TZID=Europe/Berlin:20260706T181500
UID:261NR6657A-20260706T171500@VHSDUISBURG
DESCRIPTION:NT für den 27.4.26
SUMMARY:Wassergymnastik (261NR6657A) 
LOCATION:GGS Unter den Kastanien;Lehrschwimmbecken, Unter den Kastanien 28, 47179 Duisburg
END:VEVENT
END:VCALENDAR