BEGIN:VCALENDAR
PRODID:http://www.kufer.de/kuferweb / DE
VERSION:2.0
METHOD:PUBLISH
CALSCALE:GREGORIAN
X-WR-TIMEZONE:Europe/Berlin
BEGIN:VTIMEZONE
TZID:Europe/Berlin
X-LIC-LOCATION:Europe/Berlin
BEGIN:DAYLIGHT
TZOFFSETFROM:+0100
TZOFFSETTO:+0200
TZNAME:CEST
DTSTART;TZID=Europe/Berlin:19700329T020000
RRULE:FREQ=YEARLY;INTERVAL=1;BYDAY=-1SU;BYMONTH=3
END:DAYLIGHT
BEGIN:STANDARD
TZOFFSETFROM:+0200
TZOFFSETTO:+0100
TZNAME:CET
DTSTART;TZID=Europe/Berlin:19701025T030000
RRULE:FREQ=YEARLY;INTERVAL=1;BYDAY=-1SU;BYMONTH=10
END:STANDARD
END:VTIMEZONE
BEGIN:VEVENT
DTSTAMP:20260423T114652
DTSTART;TZID=Europe/Berlin:20260202T171500
DTEND;TZID=Europe/Berlin:20260202T181500
UID:261NR6657-20260202T171500@VHSDUISBURG
SUMMARY:Wassergymnastik (261NR6657) 
LOCATION:GGS Unter den Kastanien;Lehrschwimmbecken, Unter den Kastanien 28, 47179 Duisburg
END:VEVENT
BEGIN:VEVENT
DTSTAMP:20260423T114652
DTSTART;TZID=Europe/Berlin:20260223T171500
DTEND;TZID=Europe/Berlin:20260223T181500
UID:261NR6657-20260223T171500@VHSDUISBURG
SUMMARY:Wassergymnastik (261NR6657) 
LOCATION:GGS Unter den Kastanien;Lehrschwimmbecken, Unter den Kastanien 28, 47179 Duisburg
END:VEVENT
BEGIN:VEVENT
DTSTAMP:20260423T114652
DTSTART;TZID=Europe/Berlin:20260302T171500
DTEND;TZID=Europe/Berlin:20260302T181500
UID:261NR6657-20260302T171500@VHSDUISBURG
SUMMARY:Wassergymnastik (261NR6657) 
LOCATION:GGS Unter den Kastanien;Lehrschwimmbecken, Unter den Kastanien 28, 47179 Duisburg
END:VEVENT
BEGIN:VEVENT
DTSTAMP:20260423T114652
DTSTART;TZID=Europe/Berlin:20260309T171500
DTEND;TZID=Europe/Berlin:20260309T181500
UID:261NR6657-20260309T171500@VHSDUISBURG
SUMMARY:Wassergymnastik (261NR6657) 
LOCATION:GGS Unter den Kastanien;Lehrschwimmbecken, Unter den Kastanien 28, 47179 Duisburg
END:VEVENT
BEGIN:VEVENT
DTSTAMP:20260423T114652
DTSTART;TZID=Europe/Berlin:20260316T171500
DTEND;TZID=Europe/Berlin:20260316T181500
UID:261NR6657-20260316T171500@VHSDUISBURG
SUMMARY:Wassergymnastik (261NR6657) 
LOCATION:GGS Unter den Kastanien;Lehrschwimmbecken, Unter den Kastanien 28, 47179 Duisburg
END:VEVENT
BEGIN:VEVENT
DTSTAMP:20260423T114652
DTSTART;TZID=Europe/Berlin:20260323T171500
DTEND;TZID=Europe/Berlin:20260323T181500
UID:261NR6657-20260323T171500@VHSDUISBURG
SUMMARY:Wassergymnastik (261NR6657) 
LOCATION:GGS Unter den Kastanien;Lehrschwimmbecken, Unter den Kastanien 28, 47179 Duisburg
END:VEVENT
BEGIN:VEVENT
DTSTAMP:20260423T114652
DTSTART;TZID=Europe/Berlin:20260420T171500
DTEND;TZID=Europe/Berlin:20260420T181500
UID:261NR6657-20260420T171500@VHSDUISBURG
SUMMARY:Wassergymnastik (261NR6657) 
LOCATION:GGS Unter den Kastanien;Lehrschwimmbecken, Unter den Kastanien 28, 47179 Duisburg
END:VEVENT
BEGIN:VEVENT
DTSTAMP:20260423T114652
DTSTART;TZID=Europe/Berlin:20260427T171500
DTEND;TZID=Europe/Berlin:20260427T181500
UID:261NR6657-20260427T171500@VHSDUISBURG
DESCRIPTION:NT für den 9.2.26
SUMMARY:Wassergymnastik (261NR6657) 
LOCATION:GGS Unter den Kastanien;Lehrschwimmbecken, Unter den Kastanien 28, 47179 Duisburg
END:VEVENT
END:VCALENDAR