BEGIN:VCALENDAR
PRODID:http://www.kufer.de/kuferweb / DE
VERSION:2.0
METHOD:PUBLISH
CALSCALE:GREGORIAN
X-WR-TIMEZONE:Europe/Berlin
BEGIN:VTIMEZONE
TZID:Europe/Berlin
X-LIC-LOCATION:Europe/Berlin
BEGIN:DAYLIGHT
TZOFFSETFROM:+0100
TZOFFSETTO:+0200
TZNAME:CEST
DTSTART;TZID=Europe/Berlin:19700329T020000
RRULE:FREQ=YEARLY;INTERVAL=1;BYDAY=-1SU;BYMONTH=3
END:DAYLIGHT
BEGIN:STANDARD
TZOFFSETFROM:+0200
TZOFFSETTO:+0100
TZNAME:CET
DTSTART;TZID=Europe/Berlin:19701025T030000
RRULE:FREQ=YEARLY;INTERVAL=1;BYDAY=-1SU;BYMONTH=10
END:STANDARD
END:VTIMEZONE
BEGIN:VEVENT
DTSTAMP:20260423T115531
DTSTART;TZID=Europe/Berlin:20260304T190000
DTEND;TZID=Europe/Berlin:20260304T200000
UID:261NR6573-20260304T190000@VHSDUISBURG
SUMMARY:Zumba®-Fitness (261NR6573) 
LOCATION:Allwetterbad Walsum;Gymnastikraum1, Scholte-Rahm-Straße 16, 47178 Duisburg
END:VEVENT
BEGIN:VEVENT
DTSTAMP:20260423T115531
DTSTART;TZID=Europe/Berlin:20260311T190000
DTEND;TZID=Europe/Berlin:20260311T200000
UID:261NR6573-20260311T190000@VHSDUISBURG
SUMMARY:Zumba®-Fitness (261NR6573) 
LOCATION:Allwetterbad Walsum;Gymnastikraum1, Scholte-Rahm-Straße 16, 47178 Duisburg
END:VEVENT
BEGIN:VEVENT
DTSTAMP:20260423T115531
DTSTART;TZID=Europe/Berlin:20260325T190000
DTEND;TZID=Europe/Berlin:20260325T200000
UID:261NR6573-20260325T190000@VHSDUISBURG
SUMMARY:Zumba®-Fitness (261NR6573) 
LOCATION:Allwetterbad Walsum;Gymnastikraum1, Scholte-Rahm-Straße 16, 47178 Duisburg
END:VEVENT
BEGIN:VEVENT
DTSTAMP:20260423T115531
DTSTART;TZID=Europe/Berlin:20260415T190000
DTEND;TZID=Europe/Berlin:20260415T200000
UID:261NR6573-20260415T190000@VHSDUISBURG
SUMMARY:Zumba®-Fitness (261NR6573) 
LOCATION:Allwetterbad Walsum;Gymnastikraum1, Scholte-Rahm-Straße 16, 47178 Duisburg
END:VEVENT
BEGIN:VEVENT
DTSTAMP:20260423T115531
DTSTART;TZID=Europe/Berlin:20260422T190000
DTEND;TZID=Europe/Berlin:20260422T200000
UID:261NR6573-20260422T190000@VHSDUISBURG
SUMMARY:Zumba®-Fitness (261NR6573) 
LOCATION:Allwetterbad Walsum;Gymnastikraum1, Scholte-Rahm-Straße 16, 47178 Duisburg
END:VEVENT
BEGIN:VEVENT
DTSTAMP:20260423T115531
DTSTART;TZID=Europe/Berlin:20260429T190000
DTEND;TZID=Europe/Berlin:20260429T200000
UID:261NR6573-20260429T190000@VHSDUISBURG
SUMMARY:Zumba®-Fitness (261NR6573) 
LOCATION:Allwetterbad Walsum;Gymnastikraum1, Scholte-Rahm-Straße 16, 47178 Duisburg
END:VEVENT
BEGIN:VEVENT
DTSTAMP:20260423T115531
DTSTART;TZID=Europe/Berlin:20260506T190000
DTEND;TZID=Europe/Berlin:20260506T200000
UID:261NR6573-20260506T190000@VHSDUISBURG
SUMMARY:Zumba®-Fitness (261NR6573) 
LOCATION:Allwetterbad Walsum;Gymnastikraum1, Scholte-Rahm-Straße 16, 47178 Duisburg
END:VEVENT
BEGIN:VEVENT
DTSTAMP:20260423T115531
DTSTART;TZID=Europe/Berlin:20260513T190000
DTEND;TZID=Europe/Berlin:20260513T200000
UID:261NR6573-20260513T190000@VHSDUISBURG
SUMMARY:Zumba®-Fitness (261NR6573) 
LOCATION:Allwetterbad Walsum;Gymnastikraum1, Scholte-Rahm-Straße 16, 47178 Duisburg
END:VEVENT
BEGIN:VEVENT
DTSTAMP:20260423T115531
DTSTART;TZID=Europe/Berlin:20260520T190000
DTEND;TZID=Europe/Berlin:20260520T200000
UID:261NR6573-20260520T190000@VHSDUISBURG
SUMMARY:Zumba®-Fitness (261NR6573) 
LOCATION:Allwetterbad Walsum;Gymnastikraum1, Scholte-Rahm-Straße 16, 47178 Duisburg
END:VEVENT
BEGIN:VEVENT
DTSTAMP:20260423T115531
DTSTART;TZID=Europe/Berlin:20260527T190000
DTEND;TZID=Europe/Berlin:20260527T200000
UID:261NR6573-20260527T190000@VHSDUISBURG
SUMMARY:Zumba®-Fitness (261NR6573) 
LOCATION:Allwetterbad Walsum;Gymnastikraum1, Scholte-Rahm-Straße 16, 47178 Duisburg
END:VEVENT
BEGIN:VEVENT
DTSTAMP:20260423T115531
DTSTART;TZID=Europe/Berlin:20260603T190000
DTEND;TZID=Europe/Berlin:20260603T200000
UID:261NR6573-20260603T190000@VHSDUISBURG
SUMMARY:Zumba®-Fitness (261NR6573) 
LOCATION:Allwetterbad Walsum;Gymnastikraum1, Scholte-Rahm-Straße 16, 47178 Duisburg
END:VEVENT
BEGIN:VEVENT
DTSTAMP:20260423T115531
DTSTART;TZID=Europe/Berlin:20260610T190000
DTEND;TZID=Europe/Berlin:20260610T200000
UID:261NR6573-20260610T190000@VHSDUISBURG
SUMMARY:Zumba®-Fitness (261NR6573) 
LOCATION:Allwetterbad Walsum;Gymnastikraum1, Scholte-Rahm-Straße 16, 47178 Duisburg
END:VEVENT
BEGIN:VEVENT
DTSTAMP:20260423T115531
DTSTART;TZID=Europe/Berlin:20260617T190000
DTEND;TZID=Europe/Berlin:20260617T200000
UID:261NR6573-20260617T190000@VHSDUISBURG
DESCRIPTION:NT für den 18.3.26
SUMMARY:Zumba®-Fitness (261NR6573) 
LOCATION:Allwetterbad Walsum;Gymnastikraum1, Scholte-Rahm-Straße 16, 47178 Duisburg
END:VEVENT
END:VCALENDAR