BEGIN:VCALENDAR
PRODID:http://www.kufer.de/kuferweb / DE
VERSION:2.0
METHOD:PUBLISH
CALSCALE:GREGORIAN
X-WR-TIMEZONE:Europe/Berlin
BEGIN:VTIMEZONE
TZID:Europe/Berlin
X-LIC-LOCATION:Europe/Berlin
BEGIN:DAYLIGHT
TZOFFSETFROM:+0100
TZOFFSETTO:+0200
TZNAME:CEST
DTSTART;TZID=Europe/Berlin:19700329T020000
RRULE:FREQ=YEARLY;INTERVAL=1;BYDAY=-1SU;BYMONTH=3
END:DAYLIGHT
BEGIN:STANDARD
TZOFFSETFROM:+0200
TZOFFSETTO:+0100
TZNAME:CET
DTSTART;TZID=Europe/Berlin:19701025T030000
RRULE:FREQ=YEARLY;INTERVAL=1;BYDAY=-1SU;BYMONTH=10
END:STANDARD
END:VTIMEZONE
BEGIN:VEVENT
DTSTAMP:20260421T214431
DTSTART;TZID=Europe/Berlin:20260203T173000
DTEND;TZID=Europe/Berlin:20260203T190000
UID:261NR6334-20260203T173000@VHSDUISBURG
DESCRIPTION:04.02.26 (*BC): Halle verschlossen- KL+TN aber vor Ort
SUMMARY:Yoga 50+ (261NR6334) 
LOCATION:Sporthalle Beckersloh;Gymnastikraum, Beckersloh 13, 47179 Duisburg
END:VEVENT
BEGIN:VEVENT
DTSTAMP:20260421T214431
DTSTART;TZID=Europe/Berlin:20260210T173000
DTEND;TZID=Europe/Berlin:20260210T190000
UID:261NR6334-20260210T173000@VHSDUISBURG
SUMMARY:Yoga 50+ (261NR6334) 
LOCATION:Sporthalle Beckersloh;Gymnastikraum, Beckersloh 13, 47179 Duisburg
END:VEVENT
BEGIN:VEVENT
DTSTAMP:20260421T214431
DTSTART;TZID=Europe/Berlin:20260224T173000
DTEND;TZID=Europe/Berlin:20260224T190000
UID:261NR6334-20260224T173000@VHSDUISBURG
SUMMARY:Yoga 50+ (261NR6334) 
LOCATION:Sporthalle Beckersloh;Gymnastikraum, Beckersloh 13, 47179 Duisburg
END:VEVENT
BEGIN:VEVENT
DTSTAMP:20260421T214431
DTSTART;TZID=Europe/Berlin:20260303T173000
DTEND;TZID=Europe/Berlin:20260303T190000
UID:261NR6334-20260303T173000@VHSDUISBURG
SUMMARY:Yoga 50+ (261NR6334) 
LOCATION:Sporthalle Beckersloh;Gymnastikraum, Beckersloh 13, 47179 Duisburg
END:VEVENT
BEGIN:VEVENT
DTSTAMP:20260421T214431
DTSTART;TZID=Europe/Berlin:20260310T173000
DTEND;TZID=Europe/Berlin:20260310T190000
UID:261NR6334-20260310T173000@VHSDUISBURG
SUMMARY:Yoga 50+ (261NR6334) 
LOCATION:Sporthalle Beckersloh;Gymnastikraum, Beckersloh 13, 47179 Duisburg
END:VEVENT
BEGIN:VEVENT
DTSTAMP:20260421T214431
DTSTART;TZID=Europe/Berlin:20260317T173000
DTEND;TZID=Europe/Berlin:20260317T190000
UID:261NR6334-20260317T173000@VHSDUISBURG
SUMMARY:Yoga 50+ (261NR6334) 
LOCATION:Sporthalle Beckersloh;Gymnastikraum, Beckersloh 13, 47179 Duisburg
END:VEVENT
BEGIN:VEVENT
DTSTAMP:20260421T214431
DTSTART;TZID=Europe/Berlin:20260324T173000
DTEND;TZID=Europe/Berlin:20260324T190000
UID:261NR6334-20260324T173000@VHSDUISBURG
SUMMARY:Yoga 50+ (261NR6334) 
LOCATION:Sporthalle Beckersloh;Gymnastikraum, Beckersloh 13, 47179 Duisburg
END:VEVENT
BEGIN:VEVENT
DTSTAMP:20260421T214431
DTSTART;TZID=Europe/Berlin:20260421T173000
DTEND;TZID=Europe/Berlin:20260421T190000
UID:261NR6334-20260421T173000@VHSDUISBURG
SUMMARY:Yoga 50+ (261NR6334) 
LOCATION:Sporthalle Beckersloh;Gymnastikraum, Beckersloh 13, 47179 Duisburg
END:VEVENT
BEGIN:VEVENT
DTSTAMP:20260421T214431
DTSTART;TZID=Europe/Berlin:20260428T173000
DTEND;TZID=Europe/Berlin:20260428T190000
UID:261NR6334-20260428T173000@VHSDUISBURG
SUMMARY:Yoga 50+ (261NR6334) 
LOCATION:Sporthalle Beckersloh;Gymnastikraum, Beckersloh 13, 47179 Duisburg
END:VEVENT
BEGIN:VEVENT
DTSTAMP:20260421T214431
DTSTART;TZID=Europe/Berlin:20260505T173000
DTEND;TZID=Europe/Berlin:20260505T190000
UID:261NR6334-20260505T173000@VHSDUISBURG
SUMMARY:Yoga 50+ (261NR6334) 
LOCATION:Sporthalle Beckersloh;Gymnastikraum, Beckersloh 13, 47179 Duisburg
END:VEVENT
BEGIN:VEVENT
DTSTAMP:20260421T214431
DTSTART;TZID=Europe/Berlin:20260512T173000
DTEND;TZID=Europe/Berlin:20260512T190000
UID:261NR6334-20260512T173000@VHSDUISBURG
SUMMARY:Yoga 50+ (261NR6334) 
LOCATION:Sporthalle Beckersloh;Gymnastikraum, Beckersloh 13, 47179 Duisburg
END:VEVENT
BEGIN:VEVENT
DTSTAMP:20260421T214431
DTSTART;TZID=Europe/Berlin:20260519T173000
DTEND;TZID=Europe/Berlin:20260519T190000
UID:261NR6334-20260519T173000@VHSDUISBURG
DESCRIPTION:04.02.26 (*BC): NT für den 3.2.26
SUMMARY:Yoga 50+ (261NR6334) 
LOCATION:Sporthalle Beckersloh;Gymnastikraum, Beckersloh 13, 47179 Duisburg
END:VEVENT
BEGIN:VEVENT
DTSTAMP:20260421T214431
DTSTART;TZID=Europe/Berlin:20260602T173000
DTEND;TZID=Europe/Berlin:20260602T190000
UID:261NR6334-20260602T173000@VHSDUISBURG
DESCRIPTION:NT  für den 17.2.26
SUMMARY:Yoga 50+ (261NR6334) 
LOCATION:Sporthalle Beckersloh;Gymnastikraum, Beckersloh 13, 47179 Duisburg
END:VEVENT
BEGIN:VEVENT
DTSTAMP:20260421T214431
DTSTART;TZID=Europe/Berlin:20260609T173000
DTEND;TZID=Europe/Berlin:20260609T190000
UID:261NR6334-20260609T173000@VHSDUISBURG
DESCRIPTION:NT für den 14.426
SUMMARY:Yoga 50+ (261NR6334) 
LOCATION:Sporthalle Beckersloh;Gymnastikraum, Beckersloh 13, 47179 Duisburg
END:VEVENT
END:VCALENDAR