BEGIN:VCALENDAR
PRODID:http://www.kufer.de/kuferweb / DE
VERSION:2.0
METHOD:PUBLISH
CALSCALE:GREGORIAN
X-WR-TIMEZONE:Europe/Berlin
BEGIN:VTIMEZONE
TZID:Europe/Berlin
X-LIC-LOCATION:Europe/Berlin
BEGIN:DAYLIGHT
TZOFFSETFROM:+0100
TZOFFSETTO:+0200
TZNAME:CEST
DTSTART;TZID=Europe/Berlin:19700329T020000
RRULE:FREQ=YEARLY;INTERVAL=1;BYDAY=-1SU;BYMONTH=3
END:DAYLIGHT
BEGIN:STANDARD
TZOFFSETFROM:+0200
TZOFFSETTO:+0100
TZNAME:CET
DTSTART;TZID=Europe/Berlin:19701025T030000
RRULE:FREQ=YEARLY;INTERVAL=1;BYDAY=-1SU;BYMONTH=10
END:STANDARD
END:VTIMEZONE
BEGIN:VEVENT
DTSTAMP:20260421T153229
DTSTART;TZID=Europe/Berlin:20260202T123000
DTEND;TZID=Europe/Berlin:20260202T131500
UID:261NR5449-20260202T123000@VHSDUISBURG
SUMMARY:Sicherer Umgang mit dem Smartphone - Aufbaukurs (261NR5449) 
LOCATION:VHS Parallelstraße;Raum1, Parallelstraße 7, 47166 Duisburg
END:VEVENT
BEGIN:VEVENT
DTSTAMP:20260421T153229
DTSTART;TZID=Europe/Berlin:20260209T123000
DTEND;TZID=Europe/Berlin:20260209T131500
UID:261NR5449-20260209T123000@VHSDUISBURG
SUMMARY:Sicherer Umgang mit dem Smartphone - Aufbaukurs (261NR5449) 
LOCATION:VHS Parallelstraße;Raum1, Parallelstraße 7, 47166 Duisburg
END:VEVENT
BEGIN:VEVENT
DTSTAMP:20260421T153229
DTSTART;TZID=Europe/Berlin:20260223T123000
DTEND;TZID=Europe/Berlin:20260223T131500
UID:261NR5449-20260223T123000@VHSDUISBURG
SUMMARY:Sicherer Umgang mit dem Smartphone - Aufbaukurs (261NR5449) 
LOCATION:VHS Parallelstraße;Raum1, Parallelstraße 7, 47166 Duisburg
END:VEVENT
BEGIN:VEVENT
DTSTAMP:20260421T153229
DTSTART;TZID=Europe/Berlin:20260302T123000
DTEND;TZID=Europe/Berlin:20260302T131500
UID:261NR5449-20260302T123000@VHSDUISBURG
SUMMARY:Sicherer Umgang mit dem Smartphone - Aufbaukurs (261NR5449) 
LOCATION:VHS Parallelstraße;Raum1, Parallelstraße 7, 47166 Duisburg
END:VEVENT
BEGIN:VEVENT
DTSTAMP:20260421T153229
DTSTART;TZID=Europe/Berlin:20260309T123000
DTEND;TZID=Europe/Berlin:20260309T131500
UID:261NR5449-20260309T123000@VHSDUISBURG
SUMMARY:Sicherer Umgang mit dem Smartphone - Aufbaukurs (261NR5449) 
LOCATION:VHS Parallelstraße;Raum1, Parallelstraße 7, 47166 Duisburg
END:VEVENT
BEGIN:VEVENT
DTSTAMP:20260421T153229
DTSTART;TZID=Europe/Berlin:20260316T123000
DTEND;TZID=Europe/Berlin:20260316T131500
UID:261NR5449-20260316T123000@VHSDUISBURG
SUMMARY:Sicherer Umgang mit dem Smartphone - Aufbaukurs (261NR5449) 
LOCATION:VHS Parallelstraße;Raum1, Parallelstraße 7, 47166 Duisburg
END:VEVENT
BEGIN:VEVENT
DTSTAMP:20260421T153229
DTSTART;TZID=Europe/Berlin:20260323T123000
DTEND;TZID=Europe/Berlin:20260323T131500
UID:261NR5449-20260323T123000@VHSDUISBURG
SUMMARY:Sicherer Umgang mit dem Smartphone - Aufbaukurs (261NR5449) 
LOCATION:VHS Parallelstraße;Raum1, Parallelstraße 7, 47166 Duisburg
END:VEVENT
BEGIN:VEVENT
DTSTAMP:20260421T153229
DTSTART;TZID=Europe/Berlin:20260413T123000
DTEND;TZID=Europe/Berlin:20260413T131500
UID:261NR5449-20260413T123000@VHSDUISBURG
SUMMARY:Sicherer Umgang mit dem Smartphone - Aufbaukurs (261NR5449) 
LOCATION:VHS Parallelstraße;Raum1, Parallelstraße 7, 47166 Duisburg
END:VEVENT
BEGIN:VEVENT
DTSTAMP:20260421T153229
DTSTART;TZID=Europe/Berlin:20260420T123000
DTEND;TZID=Europe/Berlin:20260420T131500
UID:261NR5449-20260420T123000@VHSDUISBURG
SUMMARY:Sicherer Umgang mit dem Smartphone - Aufbaukurs (261NR5449) 
LOCATION:VHS Parallelstraße;Raum1, Parallelstraße 7, 47166 Duisburg
END:VEVENT
BEGIN:VEVENT
DTSTAMP:20260421T153229
DTSTART;TZID=Europe/Berlin:20260427T123000
DTEND;TZID=Europe/Berlin:20260427T131500
UID:261NR5449-20260427T123000@VHSDUISBURG
SUMMARY:Sicherer Umgang mit dem Smartphone - Aufbaukurs (261NR5449) 
LOCATION:VHS Parallelstraße;Raum1, Parallelstraße 7, 47166 Duisburg
END:VEVENT
BEGIN:VEVENT
DTSTAMP:20260421T153229
DTSTART;TZID=Europe/Berlin:20260504T123000
DTEND;TZID=Europe/Berlin:20260504T131500
UID:261NR5449-20260504T123000@VHSDUISBURG
SUMMARY:Sicherer Umgang mit dem Smartphone - Aufbaukurs (261NR5449) 
LOCATION:VHS Parallelstraße;Raum1, Parallelstraße 7, 47166 Duisburg
END:VEVENT
BEGIN:VEVENT
DTSTAMP:20260421T153229
DTSTART;TZID=Europe/Berlin:20260511T123000
DTEND;TZID=Europe/Berlin:20260511T131500
UID:261NR5449-20260511T123000@VHSDUISBURG
SUMMARY:Sicherer Umgang mit dem Smartphone - Aufbaukurs (261NR5449) 
LOCATION:VHS Parallelstraße;Raum1, Parallelstraße 7, 47166 Duisburg
END:VEVENT
END:VCALENDAR