BEGIN:VCALENDAR
PRODID:http://www.kufer.de/kuferweb / DE
VERSION:2.0
METHOD:PUBLISH
CALSCALE:GREGORIAN
X-WR-TIMEZONE:Europe/Berlin
BEGIN:VTIMEZONE
TZID:Europe/Berlin
X-LIC-LOCATION:Europe/Berlin
BEGIN:DAYLIGHT
TZOFFSETFROM:+0100
TZOFFSETTO:+0200
TZNAME:CEST
DTSTART;TZID=Europe/Berlin:19700329T020000
RRULE:FREQ=YEARLY;INTERVAL=1;BYDAY=-1SU;BYMONTH=3
END:DAYLIGHT
BEGIN:STANDARD
TZOFFSETFROM:+0200
TZOFFSETTO:+0100
TZNAME:CET
DTSTART;TZID=Europe/Berlin:19701025T030000
RRULE:FREQ=YEARLY;INTERVAL=1;BYDAY=-1SU;BYMONTH=10
END:STANDARD
END:VTIMEZONE
BEGIN:VEVENT
DTSTAMP:20260421T170021
DTSTART;TZID=Europe/Berlin:20260202T133000
DTEND;TZID=Europe/Berlin:20260202T141500
UID:261NR5448-20260202T133000@VHSDUISBURG
SUMMARY:Sicherer Umgang mit dem Smartphone Einführung für Seniorinnen und Senioren (261NR5448) 
LOCATION:VHS Parallelstraße;Raum1, Parallelstraße 7, 47166 Duisburg
END:VEVENT
BEGIN:VEVENT
DTSTAMP:20260421T170021
DTSTART;TZID=Europe/Berlin:20260209T133000
DTEND;TZID=Europe/Berlin:20260209T141500
UID:261NR5448-20260209T133000@VHSDUISBURG
SUMMARY:Sicherer Umgang mit dem Smartphone Einführung für Seniorinnen und Senioren (261NR5448) 
LOCATION:VHS Parallelstraße;Raum1, Parallelstraße 7, 47166 Duisburg
END:VEVENT
BEGIN:VEVENT
DTSTAMP:20260421T170021
DTSTART;TZID=Europe/Berlin:20260223T133000
DTEND;TZID=Europe/Berlin:20260223T141500
UID:261NR5448-20260223T133000@VHSDUISBURG
SUMMARY:Sicherer Umgang mit dem Smartphone Einführung für Seniorinnen und Senioren (261NR5448) 
LOCATION:VHS Parallelstraße;Raum1, Parallelstraße 7, 47166 Duisburg
END:VEVENT
BEGIN:VEVENT
DTSTAMP:20260421T170021
DTSTART;TZID=Europe/Berlin:20260302T133000
DTEND;TZID=Europe/Berlin:20260302T141500
UID:261NR5448-20260302T133000@VHSDUISBURG
SUMMARY:Sicherer Umgang mit dem Smartphone Einführung für Seniorinnen und Senioren (261NR5448) 
LOCATION:VHS Parallelstraße;Raum1, Parallelstraße 7, 47166 Duisburg
END:VEVENT
BEGIN:VEVENT
DTSTAMP:20260421T170021
DTSTART;TZID=Europe/Berlin:20260309T133000
DTEND;TZID=Europe/Berlin:20260309T141500
UID:261NR5448-20260309T133000@VHSDUISBURG
SUMMARY:Sicherer Umgang mit dem Smartphone Einführung für Seniorinnen und Senioren (261NR5448) 
LOCATION:VHS Parallelstraße;Raum1, Parallelstraße 7, 47166 Duisburg
END:VEVENT
BEGIN:VEVENT
DTSTAMP:20260421T170021
DTSTART;TZID=Europe/Berlin:20260316T133000
DTEND;TZID=Europe/Berlin:20260316T141500
UID:261NR5448-20260316T133000@VHSDUISBURG
SUMMARY:Sicherer Umgang mit dem Smartphone Einführung für Seniorinnen und Senioren (261NR5448) 
LOCATION:VHS Parallelstraße;Raum1, Parallelstraße 7, 47166 Duisburg
END:VEVENT
BEGIN:VEVENT
DTSTAMP:20260421T170021
DTSTART;TZID=Europe/Berlin:20260323T133000
DTEND;TZID=Europe/Berlin:20260323T141500
UID:261NR5448-20260323T133000@VHSDUISBURG
SUMMARY:Sicherer Umgang mit dem Smartphone Einführung für Seniorinnen und Senioren (261NR5448) 
LOCATION:VHS Parallelstraße;Raum1, Parallelstraße 7, 47166 Duisburg
END:VEVENT
BEGIN:VEVENT
DTSTAMP:20260421T170021
DTSTART;TZID=Europe/Berlin:20260413T133000
DTEND;TZID=Europe/Berlin:20260413T141500
UID:261NR5448-20260413T133000@VHSDUISBURG
SUMMARY:Sicherer Umgang mit dem Smartphone Einführung für Seniorinnen und Senioren (261NR5448) 
LOCATION:VHS Parallelstraße;Raum1, Parallelstraße 7, 47166 Duisburg
END:VEVENT
BEGIN:VEVENT
DTSTAMP:20260421T170021
DTSTART;TZID=Europe/Berlin:20260420T133000
DTEND;TZID=Europe/Berlin:20260420T141500
UID:261NR5448-20260420T133000@VHSDUISBURG
SUMMARY:Sicherer Umgang mit dem Smartphone Einführung für Seniorinnen und Senioren (261NR5448) 
LOCATION:VHS Parallelstraße;Raum1, Parallelstraße 7, 47166 Duisburg
END:VEVENT
BEGIN:VEVENT
DTSTAMP:20260421T170021
DTSTART;TZID=Europe/Berlin:20260427T133000
DTEND;TZID=Europe/Berlin:20260427T141500
UID:261NR5448-20260427T133000@VHSDUISBURG
SUMMARY:Sicherer Umgang mit dem Smartphone Einführung für Seniorinnen und Senioren (261NR5448) 
LOCATION:VHS Parallelstraße;Raum1, Parallelstraße 7, 47166 Duisburg
END:VEVENT
BEGIN:VEVENT
DTSTAMP:20260421T170021
DTSTART;TZID=Europe/Berlin:20260504T133000
DTEND;TZID=Europe/Berlin:20260504T141500
UID:261NR5448-20260504T133000@VHSDUISBURG
SUMMARY:Sicherer Umgang mit dem Smartphone Einführung für Seniorinnen und Senioren (261NR5448) 
LOCATION:VHS Parallelstraße;Raum1, Parallelstraße 7, 47166 Duisburg
END:VEVENT
BEGIN:VEVENT
DTSTAMP:20260421T170021
DTSTART;TZID=Europe/Berlin:20260511T133000
DTEND;TZID=Europe/Berlin:20260511T141500
UID:261NR5448-20260511T133000@VHSDUISBURG
SUMMARY:Sicherer Umgang mit dem Smartphone Einführung für Seniorinnen und Senioren (261NR5448) 
LOCATION:VHS Parallelstraße;Raum1, Parallelstraße 7, 47166 Duisburg
END:VEVENT
END:VCALENDAR