BEGIN:VCALENDAR
PRODID:http://www.kufer.de/kuferweb / DE
VERSION:2.0
METHOD:PUBLISH
CALSCALE:GREGORIAN
X-WR-TIMEZONE:Europe/Berlin
BEGIN:VTIMEZONE
TZID:Europe/Berlin
X-LIC-LOCATION:Europe/Berlin
BEGIN:DAYLIGHT
TZOFFSETFROM:+0100
TZOFFSETTO:+0200
TZNAME:CEST
DTSTART;TZID=Europe/Berlin:19700329T020000
RRULE:FREQ=YEARLY;INTERVAL=1;BYDAY=-1SU;BYMONTH=3
END:DAYLIGHT
BEGIN:STANDARD
TZOFFSETFROM:+0200
TZOFFSETTO:+0100
TZNAME:CET
DTSTART;TZID=Europe/Berlin:19701025T030000
RRULE:FREQ=YEARLY;INTERVAL=1;BYDAY=-1SU;BYMONTH=10
END:STANDARD
END:VTIMEZONE
BEGIN:VEVENT
DTSTAMP:20260421T094042
DTSTART;TZID=Europe/Berlin:20260204T170000
DTEND;TZID=Europe/Berlin:20260204T183000
UID:261NR3802-20260204T170000@VHSDUISBURG
SUMMARY:Lesen und Schreiben 1-3 (261NR3802) 
LOCATION:VHS Parallelstraße;Raum3, Parallelstraße 7, 47166 Duisburg
END:VEVENT
BEGIN:VEVENT
DTSTAMP:20260421T094042
DTSTART;TZID=Europe/Berlin:20260206T150000
DTEND;TZID=Europe/Berlin:20260206T163000
UID:261NR3802-20260206T150000@VHSDUISBURG
SUMMARY:Lesen und Schreiben 1-3 (261NR3802) 
LOCATION:VHS Parallelstraße;Raum3, Parallelstraße 7, 47166 Duisburg
END:VEVENT
BEGIN:VEVENT
DTSTAMP:20260421T094042
DTSTART;TZID=Europe/Berlin:20260211T170000
DTEND;TZID=Europe/Berlin:20260211T183000
UID:261NR3802-20260211T170000@VHSDUISBURG
SUMMARY:Lesen und Schreiben 1-3 (261NR3802) 
LOCATION:VHS Parallelstraße;Raum3, Parallelstraße 7, 47166 Duisburg
END:VEVENT
BEGIN:VEVENT
DTSTAMP:20260421T094042
DTSTART;TZID=Europe/Berlin:20260213T150000
DTEND;TZID=Europe/Berlin:20260213T163000
UID:261NR3802-20260213T150000@VHSDUISBURG
SUMMARY:Lesen und Schreiben 1-3 (261NR3802) 
LOCATION:VHS Parallelstraße;Raum3, Parallelstraße 7, 47166 Duisburg
END:VEVENT
BEGIN:VEVENT
DTSTAMP:20260421T094042
DTSTART;TZID=Europe/Berlin:20260220T150000
DTEND;TZID=Europe/Berlin:20260220T163000
UID:261NR3802-20260220T150000@VHSDUISBURG
SUMMARY:Lesen und Schreiben 1-3 (261NR3802) 
LOCATION:VHS Parallelstraße;Raum3, Parallelstraße 7, 47166 Duisburg
END:VEVENT
BEGIN:VEVENT
DTSTAMP:20260421T094042
DTSTART;TZID=Europe/Berlin:20260225T161500
DTEND;TZID=Europe/Berlin:20260225T174500
UID:261NR3802-20260225T161500@VHSDUISBURG
SUMMARY:Lesen und Schreiben 1-3 (261NR3802) 
LOCATION:VHS Parallelstraße;Raum3, Parallelstraße 7, 47166 Duisburg
END:VEVENT
BEGIN:VEVENT
DTSTAMP:20260421T094042
DTSTART;TZID=Europe/Berlin:20260304T161500
DTEND;TZID=Europe/Berlin:20260304T174500
UID:261NR3802-20260304T161500@VHSDUISBURG
SUMMARY:Lesen und Schreiben 1-3 (261NR3802) 
LOCATION:VHS Parallelstraße;Raum3, Parallelstraße 7, 47166 Duisburg
END:VEVENT
BEGIN:VEVENT
DTSTAMP:20260421T094042
DTSTART;TZID=Europe/Berlin:20260306T150000
DTEND;TZID=Europe/Berlin:20260306T163000
UID:261NR3802-20260306T150000@VHSDUISBURG
SUMMARY:Lesen und Schreiben 1-3 (261NR3802) 
LOCATION:VHS Parallelstraße;Raum3, Parallelstraße 7, 47166 Duisburg
END:VEVENT
BEGIN:VEVENT
DTSTAMP:20260421T094042
DTSTART;TZID=Europe/Berlin:20260311T161500
DTEND;TZID=Europe/Berlin:20260311T174500
UID:261NR3802-20260311T161500@VHSDUISBURG
SUMMARY:Lesen und Schreiben 1-3 (261NR3802) 
LOCATION:VHS Parallelstraße;Raum3, Parallelstraße 7, 47166 Duisburg
END:VEVENT
BEGIN:VEVENT
DTSTAMP:20260421T094042
DTSTART;TZID=Europe/Berlin:20260313T150000
DTEND;TZID=Europe/Berlin:20260313T163000
UID:261NR3802-20260313T150000@VHSDUISBURG
SUMMARY:Lesen und Schreiben 1-3 (261NR3802) 
LOCATION:VHS Parallelstraße;Raum3, Parallelstraße 7, 47166 Duisburg
END:VEVENT
BEGIN:VEVENT
DTSTAMP:20260421T094042
DTSTART;TZID=Europe/Berlin:20260318T161500
DTEND;TZID=Europe/Berlin:20260318T174500
UID:261NR3802-20260318T161500@VHSDUISBURG
SUMMARY:Lesen und Schreiben 1-3 (261NR3802) 
LOCATION:VHS Parallelstraße;Raum3, Parallelstraße 7, 47166 Duisburg
END:VEVENT
BEGIN:VEVENT
DTSTAMP:20260421T094042
DTSTART;TZID=Europe/Berlin:20260320T150000
DTEND;TZID=Europe/Berlin:20260320T163000
UID:261NR3802-20260320T150000@VHSDUISBURG
SUMMARY:Lesen und Schreiben 1-3 (261NR3802) 
LOCATION:VHS Parallelstraße;Raum3, Parallelstraße 7, 47166 Duisburg
END:VEVENT
BEGIN:VEVENT
DTSTAMP:20260421T094042
DTSTART;TZID=Europe/Berlin:20260325T170000
DTEND;TZID=Europe/Berlin:20260325T183000
UID:261NR3802-20260325T170000@VHSDUISBURG
SUMMARY:Lesen und Schreiben 1-3 (261NR3802) 
LOCATION:VHS Parallelstraße;Raum3, Parallelstraße 7, 47166 Duisburg
END:VEVENT
BEGIN:VEVENT
DTSTAMP:20260421T094042
DTSTART;TZID=Europe/Berlin:20260327T150000
DTEND;TZID=Europe/Berlin:20260327T163000
UID:261NR3802-20260327T150000@VHSDUISBURG
SUMMARY:Lesen und Schreiben 1-3 (261NR3802) 
LOCATION:VHS Parallelstraße;Raum3, Parallelstraße 7, 47166 Duisburg
END:VEVENT
BEGIN:VEVENT
DTSTAMP:20260421T094042
DTSTART;TZID=Europe/Berlin:20260415T170000
DTEND;TZID=Europe/Berlin:20260415T183000
UID:261NR3802-20260415T170000@VHSDUISBURG
SUMMARY:Lesen und Schreiben 1-3 (261NR3802) 
LOCATION:VHS Parallelstraße;Raum3, Parallelstraße 7, 47166 Duisburg
END:VEVENT
BEGIN:VEVENT
DTSTAMP:20260421T094042
DTSTART;TZID=Europe/Berlin:20260422T170000
DTEND;TZID=Europe/Berlin:20260422T183000
UID:261NR3802-20260422T170000@VHSDUISBURG
SUMMARY:Lesen und Schreiben 1-3 (261NR3802) 
LOCATION:VHS Parallelstraße;Raum3, Parallelstraße 7, 47166 Duisburg
END:VEVENT
BEGIN:VEVENT
DTSTAMP:20260421T094042
DTSTART;TZID=Europe/Berlin:20260424T150000
DTEND;TZID=Europe/Berlin:20260424T163000
UID:261NR3802-20260424T150000@VHSDUISBURG
SUMMARY:Lesen und Schreiben 1-3 (261NR3802) 
LOCATION:VHS Parallelstraße;Raum3, Parallelstraße 7, 47166 Duisburg
END:VEVENT
BEGIN:VEVENT
DTSTAMP:20260421T094042
DTSTART;TZID=Europe/Berlin:20260429T170000
DTEND;TZID=Europe/Berlin:20260429T183000
UID:261NR3802-20260429T170000@VHSDUISBURG
SUMMARY:Lesen und Schreiben 1-3 (261NR3802) 
LOCATION:VHS Parallelstraße;Raum3, Parallelstraße 7, 47166 Duisburg
END:VEVENT
BEGIN:VEVENT
DTSTAMP:20260421T094042
DTSTART;TZID=Europe/Berlin:20260506T170000
DTEND;TZID=Europe/Berlin:20260506T183000
UID:261NR3802-20260506T170000@VHSDUISBURG
SUMMARY:Lesen und Schreiben 1-3 (261NR3802) 
LOCATION:VHS Parallelstraße;Raum3, Parallelstraße 7, 47166 Duisburg
END:VEVENT
BEGIN:VEVENT
DTSTAMP:20260421T094042
DTSTART;TZID=Europe/Berlin:20260508T150000
DTEND;TZID=Europe/Berlin:20260508T163000
UID:261NR3802-20260508T150000@VHSDUISBURG
SUMMARY:Lesen und Schreiben 1-3 (261NR3802) 
LOCATION:VHS Parallelstraße;Raum3, Parallelstraße 7, 47166 Duisburg
END:VEVENT
BEGIN:VEVENT
DTSTAMP:20260421T094042
DTSTART;TZID=Europe/Berlin:20260513T170000
DTEND;TZID=Europe/Berlin:20260513T183000
UID:261NR3802-20260513T170000@VHSDUISBURG
SUMMARY:Lesen und Schreiben 1-3 (261NR3802) 
LOCATION:VHS Parallelstraße;Raum3, Parallelstraße 7, 47166 Duisburg
END:VEVENT
BEGIN:VEVENT
DTSTAMP:20260421T094042
DTSTART;TZID=Europe/Berlin:20260515T150000
DTEND;TZID=Europe/Berlin:20260515T163000
UID:261NR3802-20260515T150000@VHSDUISBURG
SUMMARY:Lesen und Schreiben 1-3 (261NR3802) 
LOCATION:VHS Parallelstraße;Raum3, Parallelstraße 7, 47166 Duisburg
END:VEVENT
BEGIN:VEVENT
DTSTAMP:20260421T094042
DTSTART;TZID=Europe/Berlin:20260520T170000
DTEND;TZID=Europe/Berlin:20260520T183000
UID:261NR3802-20260520T170000@VHSDUISBURG
SUMMARY:Lesen und Schreiben 1-3 (261NR3802) 
LOCATION:VHS Parallelstraße;Raum3, Parallelstraße 7, 47166 Duisburg
END:VEVENT
BEGIN:VEVENT
DTSTAMP:20260421T094042
DTSTART;TZID=Europe/Berlin:20260522T170000
DTEND;TZID=Europe/Berlin:20260522T183000
UID:261NR3802-20260522T170000@VHSDUISBURG
DESCRIPTION:NT für den 18.2.26
SUMMARY:Lesen und Schreiben 1-3 (261NR3802) 
LOCATION:VHS Parallelstraße;Raum3, Parallelstraße 7, 47166 Duisburg
END:VEVENT
BEGIN:VEVENT
DTSTAMP:20260421T094042
DTSTART;TZID=Europe/Berlin:20260527T150000
DTEND;TZID=Europe/Berlin:20260527T163000
UID:261NR3802-20260527T150000@VHSDUISBURG
DESCRIPTION:NT für den 27.2.26
SUMMARY:Lesen und Schreiben 1-3 (261NR3802) 
LOCATION:VHS Parallelstraße;Raum3, Parallelstraße 7, 47166 Duisburg
END:VEVENT
BEGIN:VEVENT
DTSTAMP:20260421T094042
DTSTART;TZID=Europe/Berlin:20260529T170000
DTEND;TZID=Europe/Berlin:20260529T183000
UID:261NR3802-20260529T170000@VHSDUISBURG
DESCRIPTION:Ersatz für Ausfall am 17.04.2026
SUMMARY:Lesen und Schreiben 1-3 (261NR3802) 
LOCATION:VHS Parallelstraße;Raum3, Parallelstraße 7, 47166 Duisburg
END:VEVENT
END:VCALENDAR