BEGIN:VCALENDAR
PRODID:http://www.kufer.de/kuferweb / DE
VERSION:2.0
METHOD:PUBLISH
CALSCALE:GREGORIAN
X-WR-TIMEZONE:Europe/Berlin
BEGIN:VTIMEZONE
TZID:Europe/Berlin
X-LIC-LOCATION:Europe/Berlin
BEGIN:DAYLIGHT
TZOFFSETFROM:+0100
TZOFFSETTO:+0200
TZNAME:CEST
DTSTART;TZID=Europe/Berlin:19700329T020000
RRULE:FREQ=YEARLY;INTERVAL=1;BYDAY=-1SU;BYMONTH=3
END:DAYLIGHT
BEGIN:STANDARD
TZOFFSETFROM:+0200
TZOFFSETTO:+0100
TZNAME:CET
DTSTART;TZID=Europe/Berlin:19701025T030000
RRULE:FREQ=YEARLY;INTERVAL=1;BYDAY=-1SU;BYMONTH=10
END:STANDARD
END:VTIMEZONE
BEGIN:VEVENT
DTSTAMP:20260423T183037
DTSTART;TZID=Europe/Berlin:20260203T184500
DTEND;TZID=Europe/Berlin:20260203T201500
UID:261NR2733-20260203T184500@VHSDUISBURG
SUMMARY:Schottischer Tanz (261NR2733) 
LOCATION:GGS Humboldtstraße;Turnhalle, Humboldtstraße 8, 47166 Duisburg
END:VEVENT
BEGIN:VEVENT
DTSTAMP:20260423T183037
DTSTART;TZID=Europe/Berlin:20260210T184500
DTEND;TZID=Europe/Berlin:20260210T201500
UID:261NR2733-20260210T184500@VHSDUISBURG
SUMMARY:Schottischer Tanz (261NR2733) 
LOCATION:GGS Humboldtstraße;Turnhalle, Humboldtstraße 8, 47166 Duisburg
END:VEVENT
BEGIN:VEVENT
DTSTAMP:20260423T183037
DTSTART;TZID=Europe/Berlin:20260217T184500
DTEND;TZID=Europe/Berlin:20260217T201500
UID:261NR2733-20260217T184500@VHSDUISBURG
SUMMARY:Schottischer Tanz (261NR2733) 
LOCATION:GGS Humboldtstraße;Turnhalle, Humboldtstraße 8, 47166 Duisburg
END:VEVENT
BEGIN:VEVENT
DTSTAMP:20260423T183037
DTSTART;TZID=Europe/Berlin:20260224T184500
DTEND;TZID=Europe/Berlin:20260224T201500
UID:261NR2733-20260224T184500@VHSDUISBURG
SUMMARY:Schottischer Tanz (261NR2733) 
LOCATION:GGS Humboldtstraße;Turnhalle, Humboldtstraße 8, 47166 Duisburg
END:VEVENT
BEGIN:VEVENT
DTSTAMP:20260423T183037
DTSTART;TZID=Europe/Berlin:20260303T184500
DTEND;TZID=Europe/Berlin:20260303T201500
UID:261NR2733-20260303T184500@VHSDUISBURG
SUMMARY:Schottischer Tanz (261NR2733) 
LOCATION:GGS Humboldtstraße;Turnhalle, Humboldtstraße 8, 47166 Duisburg
END:VEVENT
BEGIN:VEVENT
DTSTAMP:20260423T183037
DTSTART;TZID=Europe/Berlin:20260310T184500
DTEND;TZID=Europe/Berlin:20260310T201500
UID:261NR2733-20260310T184500@VHSDUISBURG
SUMMARY:Schottischer Tanz (261NR2733) 
LOCATION:GGS Humboldtstraße;Turnhalle, Humboldtstraße 8, 47166 Duisburg
END:VEVENT
BEGIN:VEVENT
DTSTAMP:20260423T183037
DTSTART;TZID=Europe/Berlin:20260317T184500
DTEND;TZID=Europe/Berlin:20260317T201500
UID:261NR2733-20260317T184500@VHSDUISBURG
SUMMARY:Schottischer Tanz (261NR2733) 
LOCATION:GGS Humboldtstraße;Turnhalle, Humboldtstraße 8, 47166 Duisburg
END:VEVENT
BEGIN:VEVENT
DTSTAMP:20260423T183037
DTSTART;TZID=Europe/Berlin:20260324T184500
DTEND;TZID=Europe/Berlin:20260324T201500
UID:261NR2733-20260324T184500@VHSDUISBURG
SUMMARY:Schottischer Tanz (261NR2733) 
LOCATION:GGS Humboldtstraße;Turnhalle, Humboldtstraße 8, 47166 Duisburg
END:VEVENT
BEGIN:VEVENT
DTSTAMP:20260423T183037
DTSTART;TZID=Europe/Berlin:20260512T184500
DTEND;TZID=Europe/Berlin:20260512T201500
UID:261NR2733-20260512T184500@VHSDUISBURG
SUMMARY:Schottischer Tanz (261NR2733) 
LOCATION:GGS Humboldtstraße;Turnhalle, Humboldtstraße 8, 47166 Duisburg
END:VEVENT
BEGIN:VEVENT
DTSTAMP:20260423T183037
DTSTART;TZID=Europe/Berlin:20260519T184500
DTEND;TZID=Europe/Berlin:20260519T201500
UID:261NR2733-20260519T184500@VHSDUISBURG
DESCRIPTION:NT
SUMMARY:Schottischer Tanz (261NR2733) 
LOCATION:GGS Humboldtstraße;Turnhalle, Humboldtstraße 8, 47166 Duisburg
END:VEVENT
BEGIN:VEVENT
DTSTAMP:20260423T183037
DTSTART;TZID=Europe/Berlin:20260602T184500
DTEND;TZID=Europe/Berlin:20260602T201500
UID:261NR2733-20260602T184500@VHSDUISBURG
DESCRIPTION:NT
SUMMARY:Schottischer Tanz (261NR2733) 
LOCATION:GGS Humboldtstraße;Turnhalle, Humboldtstraße 8, 47166 Duisburg
END:VEVENT
BEGIN:VEVENT
DTSTAMP:20260423T183037
DTSTART;TZID=Europe/Berlin:20260609T184500
DTEND;TZID=Europe/Berlin:20260609T201500
UID:261NR2733-20260609T184500@VHSDUISBURG
DESCRIPTION:NT
SUMMARY:Schottischer Tanz (261NR2733) 
LOCATION:GGS Humboldtstraße;Turnhalle, Humboldtstraße 8, 47166 Duisburg
END:VEVENT
BEGIN:VEVENT
DTSTAMP:20260423T183037
DTSTART;TZID=Europe/Berlin:20260616T184500
DTEND;TZID=Europe/Berlin:20260616T201500
UID:261NR2733-20260616T184500@VHSDUISBURG
DESCRIPTION:NT
SUMMARY:Schottischer Tanz (261NR2733) 
LOCATION:GGS Humboldtstraße;Turnhalle, Humboldtstraße 8, 47166 Duisburg
END:VEVENT
END:VCALENDAR