BEGIN:VCALENDAR
PRODID:http://www.kufer.de/kuferweb / DE
VERSION:2.0
METHOD:PUBLISH
CALSCALE:GREGORIAN
X-WR-TIMEZONE:Europe/Berlin
BEGIN:VTIMEZONE
TZID:Europe/Berlin
X-LIC-LOCATION:Europe/Berlin
BEGIN:DAYLIGHT
TZOFFSETFROM:+0100
TZOFFSETTO:+0200
TZNAME:CEST
DTSTART;TZID=Europe/Berlin:19700329T020000
RRULE:FREQ=YEARLY;INTERVAL=1;BYDAY=-1SU;BYMONTH=3
END:DAYLIGHT
BEGIN:STANDARD
TZOFFSETFROM:+0200
TZOFFSETTO:+0100
TZNAME:CET
DTSTART;TZID=Europe/Berlin:19701025T030000
RRULE:FREQ=YEARLY;INTERVAL=1;BYDAY=-1SU;BYMONTH=10
END:STANDARD
END:VTIMEZONE
BEGIN:VEVENT
DTSTAMP:20260423T210902
DTSTART;TZID=Europe/Berlin:20260206T193000
DTEND;TZID=Europe/Berlin:20260206T220000
UID:261NR2545-20260206T193000@VHSDUISBURG
SUMMARY:Übungsstunden für das Afrikanische Trommeln (261NR2545) 
LOCATION:Musikschule Parallelstraße;Raum 4, Parallelstr. 5-7, 47166 Duisburg
END:VEVENT
BEGIN:VEVENT
DTSTAMP:20260423T210902
DTSTART;TZID=Europe/Berlin:20260213T193000
DTEND;TZID=Europe/Berlin:20260213T220000
UID:261NR2545-20260213T193000@VHSDUISBURG
SUMMARY:Übungsstunden für das Afrikanische Trommeln (261NR2545) 
LOCATION:Musikschule Parallelstraße;Raum 4, Parallelstr. 5-7, 47166 Duisburg
END:VEVENT
BEGIN:VEVENT
DTSTAMP:20260423T210902
DTSTART;TZID=Europe/Berlin:20260220T193000
DTEND;TZID=Europe/Berlin:20260220T220000
UID:261NR2545-20260220T193000@VHSDUISBURG
SUMMARY:Übungsstunden für das Afrikanische Trommeln (261NR2545) 
LOCATION:Musikschule Parallelstraße;Raum 4, Parallelstr. 5-7, 47166 Duisburg
END:VEVENT
BEGIN:VEVENT
DTSTAMP:20260423T210902
DTSTART;TZID=Europe/Berlin:20260227T193000
DTEND;TZID=Europe/Berlin:20260227T220000
UID:261NR2545-20260227T193000@VHSDUISBURG
SUMMARY:Übungsstunden für das Afrikanische Trommeln (261NR2545) 
LOCATION:Musikschule Parallelstraße;Raum 4, Parallelstr. 5-7, 47166 Duisburg
END:VEVENT
BEGIN:VEVENT
DTSTAMP:20260423T210902
DTSTART;TZID=Europe/Berlin:20260306T193000
DTEND;TZID=Europe/Berlin:20260306T220000
UID:261NR2545-20260306T193000@VHSDUISBURG
SUMMARY:Übungsstunden für das Afrikanische Trommeln (261NR2545) 
LOCATION:Musikschule Parallelstraße;Raum 4, Parallelstr. 5-7, 47166 Duisburg
END:VEVENT
BEGIN:VEVENT
DTSTAMP:20260423T210902
DTSTART;TZID=Europe/Berlin:20260313T193000
DTEND;TZID=Europe/Berlin:20260313T220000
UID:261NR2545-20260313T193000@VHSDUISBURG
SUMMARY:Übungsstunden für das Afrikanische Trommeln (261NR2545) 
LOCATION:Musikschule Parallelstraße;Raum 4, Parallelstr. 5-7, 47166 Duisburg
END:VEVENT
BEGIN:VEVENT
DTSTAMP:20260423T210902
DTSTART;TZID=Europe/Berlin:20260320T193000
DTEND;TZID=Europe/Berlin:20260320T220000
UID:261NR2545-20260320T193000@VHSDUISBURG
SUMMARY:Übungsstunden für das Afrikanische Trommeln (261NR2545) 
LOCATION:Musikschule Parallelstraße;Raum 4, Parallelstr. 5-7, 47166 Duisburg
END:VEVENT
BEGIN:VEVENT
DTSTAMP:20260423T210902
DTSTART;TZID=Europe/Berlin:20260327T193000
DTEND;TZID=Europe/Berlin:20260327T220000
UID:261NR2545-20260327T193000@VHSDUISBURG
SUMMARY:Übungsstunden für das Afrikanische Trommeln (261NR2545) 
LOCATION:Musikschule Parallelstraße;Raum 4, Parallelstr. 5-7, 47166 Duisburg
END:VEVENT
BEGIN:VEVENT
DTSTAMP:20260423T210902
DTSTART;TZID=Europe/Berlin:20260417T193000
DTEND;TZID=Europe/Berlin:20260417T220000
UID:261NR2545-20260417T193000@VHSDUISBURG
SUMMARY:Übungsstunden für das Afrikanische Trommeln (261NR2545) 
LOCATION:Musikschule Parallelstraße;Raum 4, Parallelstr. 5-7, 47166 Duisburg
END:VEVENT
BEGIN:VEVENT
DTSTAMP:20260423T210902
DTSTART;TZID=Europe/Berlin:20260424T193000
DTEND;TZID=Europe/Berlin:20260424T220000
UID:261NR2545-20260424T193000@VHSDUISBURG
SUMMARY:Übungsstunden für das Afrikanische Trommeln (261NR2545) 
LOCATION:Musikschule Parallelstraße;Raum 4, Parallelstr. 5-7, 47166 Duisburg
END:VEVENT
BEGIN:VEVENT
DTSTAMP:20260423T210902
DTSTART;TZID=Europe/Berlin:20260508T193000
DTEND;TZID=Europe/Berlin:20260508T220000
UID:261NR2545-20260508T193000@VHSDUISBURG
SUMMARY:Übungsstunden für das Afrikanische Trommeln (261NR2545) 
LOCATION:Musikschule Parallelstraße;Raum 4, Parallelstr. 5-7, 47166 Duisburg
END:VEVENT
BEGIN:VEVENT
DTSTAMP:20260423T210902
DTSTART;TZID=Europe/Berlin:20260515T193000
DTEND;TZID=Europe/Berlin:20260515T220000
UID:261NR2545-20260515T193000@VHSDUISBURG
SUMMARY:Übungsstunden für das Afrikanische Trommeln (261NR2545) 
LOCATION:Musikschule Parallelstraße;Raum 4, Parallelstr. 5-7, 47166 Duisburg
END:VEVENT
BEGIN:VEVENT
DTSTAMP:20260423T210902
DTSTART;TZID=Europe/Berlin:20260522T193000
DTEND;TZID=Europe/Berlin:20260522T220000
UID:261NR2545-20260522T193000@VHSDUISBURG
SUMMARY:Übungsstunden für das Afrikanische Trommeln (261NR2545) 
LOCATION:Musikschule Parallelstraße;Raum 4, Parallelstr. 5-7, 47166 Duisburg
END:VEVENT
END:VCALENDAR