BEGIN:VCALENDAR
PRODID:http://www.kufer.de/kuferweb / DE
VERSION:2.0
METHOD:PUBLISH
CALSCALE:GREGORIAN
X-WR-TIMEZONE:Europe/Berlin
BEGIN:VTIMEZONE
TZID:Europe/Berlin
X-LIC-LOCATION:Europe/Berlin
BEGIN:DAYLIGHT
TZOFFSETFROM:+0100
TZOFFSETTO:+0200
TZNAME:CEST
DTSTART;TZID=Europe/Berlin:19700329T020000
RRULE:FREQ=YEARLY;INTERVAL=1;BYDAY=-1SU;BYMONTH=3
END:DAYLIGHT
BEGIN:STANDARD
TZOFFSETFROM:+0200
TZOFFSETTO:+0100
TZNAME:CET
DTSTART;TZID=Europe/Berlin:19701025T030000
RRULE:FREQ=YEARLY;INTERVAL=1;BYDAY=-1SU;BYMONTH=10
END:STANDARD
END:VTIMEZONE
BEGIN:VEVENT
DTSTAMP:20260424T004224
DTSTART;TZID=Europe/Berlin:20260206T103000
DTEND;TZID=Europe/Berlin:20260206T120000
UID:261NR2233-20260206T103000@VHSDUISBURG
SUMMARY:"Von Büchern & Menschen!" Literaturkreis am Freitagmorgen (261NR2233) 
LOCATION:VHS Parallelstraße;Raum6, Parallelstraße 7, 47166 Duisburg
END:VEVENT
BEGIN:VEVENT
DTSTAMP:20260424T004224
DTSTART;TZID=Europe/Berlin:20260213T103000
DTEND;TZID=Europe/Berlin:20260213T120000
UID:261NR2233-20260213T103000@VHSDUISBURG
SUMMARY:"Von Büchern & Menschen!" Literaturkreis am Freitagmorgen (261NR2233) 
LOCATION:VHS Parallelstraße;Raum6, Parallelstraße 7, 47166 Duisburg
END:VEVENT
BEGIN:VEVENT
DTSTAMP:20260424T004224
DTSTART;TZID=Europe/Berlin:20260220T103000
DTEND;TZID=Europe/Berlin:20260220T120000
UID:261NR2233-20260220T103000@VHSDUISBURG
SUMMARY:"Von Büchern & Menschen!" Literaturkreis am Freitagmorgen (261NR2233) 
LOCATION:VHS Parallelstraße;Raum6, Parallelstraße 7, 47166 Duisburg
END:VEVENT
BEGIN:VEVENT
DTSTAMP:20260424T004224
DTSTART;TZID=Europe/Berlin:20260227T103000
DTEND;TZID=Europe/Berlin:20260227T120000
UID:261NR2233-20260227T103000@VHSDUISBURG
DESCRIPTION:!!!!!!  Raumwechsel - jetzt 1. Etage !!!
SUMMARY:"Von Büchern & Menschen!" Literaturkreis am Freitagmorgen (261NR2233) 
LOCATION:VHS Parallelstraße;Raum6, Parallelstraße 7, 47166 Duisburg
END:VEVENT
BEGIN:VEVENT
DTSTAMP:20260424T004224
DTSTART;TZID=Europe/Berlin:20260306T103000
DTEND;TZID=Europe/Berlin:20260306T120000
UID:261NR2233-20260306T103000@VHSDUISBURG
DESCRIPTION:!!!!!!  Raumwechsel - jetzt 1. Etage !!!
SUMMARY:"Von Büchern & Menschen!" Literaturkreis am Freitagmorgen (261NR2233) 
LOCATION:VHS Parallelstraße;Raum6, Parallelstraße 7, 47166 Duisburg
END:VEVENT
BEGIN:VEVENT
DTSTAMP:20260424T004224
DTSTART;TZID=Europe/Berlin:20260313T103000
DTEND;TZID=Europe/Berlin:20260313T120000
UID:261NR2233-20260313T103000@VHSDUISBURG
DESCRIPTION:!!!!!!  Raumwechsel - jetzt 1. Etage !!!
SUMMARY:"Von Büchern & Menschen!" Literaturkreis am Freitagmorgen (261NR2233) 
LOCATION:VHS Parallelstraße;Raum6, Parallelstraße 7, 47166 Duisburg
END:VEVENT
BEGIN:VEVENT
DTSTAMP:20260424T004224
DTSTART;TZID=Europe/Berlin:20260320T103000
DTEND;TZID=Europe/Berlin:20260320T120000
UID:261NR2233-20260320T103000@VHSDUISBURG
DESCRIPTION:!!!!!!  Raumwechsel - jetzt 1. Etage !!!
SUMMARY:"Von Büchern & Menschen!" Literaturkreis am Freitagmorgen (261NR2233) 
LOCATION:VHS Parallelstraße;Raum6, Parallelstraße 7, 47166 Duisburg
END:VEVENT
BEGIN:VEVENT
DTSTAMP:20260424T004224
DTSTART;TZID=Europe/Berlin:20260327T103000
DTEND;TZID=Europe/Berlin:20260327T120000
UID:261NR2233-20260327T103000@VHSDUISBURG
DESCRIPTION:!!!!!!  Raumwechsel - jetzt 1. Etage !!!
SUMMARY:"Von Büchern & Menschen!" Literaturkreis am Freitagmorgen (261NR2233) 
LOCATION:VHS Parallelstraße;Raum6, Parallelstraße 7, 47166 Duisburg
END:VEVENT
BEGIN:VEVENT
DTSTAMP:20260424T004224
DTSTART;TZID=Europe/Berlin:20260417T103000
DTEND;TZID=Europe/Berlin:20260417T120000
UID:261NR2233-20260417T103000@VHSDUISBURG
DESCRIPTION:!!!!!!  Raumwechsel - jetzt 1. Etage !!!
SUMMARY:"Von Büchern & Menschen!" Literaturkreis am Freitagmorgen (261NR2233) 
LOCATION:VHS Parallelstraße;Raum6, Parallelstraße 7, 47166 Duisburg
END:VEVENT
BEGIN:VEVENT
DTSTAMP:20260424T004224
DTSTART;TZID=Europe/Berlin:20260424T103000
DTEND;TZID=Europe/Berlin:20260424T120000
UID:261NR2233-20260424T103000@VHSDUISBURG
DESCRIPTION:!!!!!!  Raumwechsel - jetzt 1. Etage !!!
SUMMARY:"Von Büchern & Menschen!" Literaturkreis am Freitagmorgen (261NR2233) 
LOCATION:VHS Parallelstraße;Raum6, Parallelstraße 7, 47166 Duisburg
END:VEVENT
BEGIN:VEVENT
DTSTAMP:20260424T004224
DTSTART;TZID=Europe/Berlin:20260508T103000
DTEND;TZID=Europe/Berlin:20260508T120000
UID:261NR2233-20260508T103000@VHSDUISBURG
DESCRIPTION:!!!!!!  Raumwechsel - jetzt 1. Etage !!!
SUMMARY:"Von Büchern & Menschen!" Literaturkreis am Freitagmorgen (261NR2233) 
LOCATION:VHS Parallelstraße;Raum6, Parallelstraße 7, 47166 Duisburg
END:VEVENT
BEGIN:VEVENT
DTSTAMP:20260424T004224
DTSTART;TZID=Europe/Berlin:20260515T103000
DTEND;TZID=Europe/Berlin:20260515T120000
UID:261NR2233-20260515T103000@VHSDUISBURG
DESCRIPTION:!!!!!!  Raumwechsel - jetzt 1. Etage !!!
SUMMARY:"Von Büchern & Menschen!" Literaturkreis am Freitagmorgen (261NR2233) 
LOCATION:VHS Parallelstraße;Raum6, Parallelstraße 7, 47166 Duisburg
END:VEVENT
BEGIN:VEVENT
DTSTAMP:20260424T004224
DTSTART;TZID=Europe/Berlin:20260522T103000
DTEND;TZID=Europe/Berlin:20260522T120000
UID:261NR2233-20260522T103000@VHSDUISBURG
DESCRIPTION:!!!!!!  Raumwechsel - jetzt 1. Etage !!!
SUMMARY:"Von Büchern & Menschen!" Literaturkreis am Freitagmorgen (261NR2233) 
LOCATION:VHS Parallelstraße;Raum6, Parallelstraße 7, 47166 Duisburg
END:VEVENT
END:VCALENDAR