BEGIN:VCALENDAR
PRODID:http://www.kufer.de/kuferweb / DE
VERSION:2.0
METHOD:PUBLISH
CALSCALE:GREGORIAN
X-WR-TIMEZONE:Europe/Berlin
BEGIN:VTIMEZONE
TZID:Europe/Berlin
X-LIC-LOCATION:Europe/Berlin
BEGIN:DAYLIGHT
TZOFFSETFROM:+0100
TZOFFSETTO:+0200
TZNAME:CEST
DTSTART;TZID=Europe/Berlin:19700329T020000
RRULE:FREQ=YEARLY;INTERVAL=1;BYDAY=-1SU;BYMONTH=3
END:DAYLIGHT
BEGIN:STANDARD
TZOFFSETFROM:+0200
TZOFFSETTO:+0100
TZNAME:CET
DTSTART;TZID=Europe/Berlin:19701025T030000
RRULE:FREQ=YEARLY;INTERVAL=1;BYDAY=-1SU;BYMONTH=10
END:STANDARD
END:VTIMEZONE
BEGIN:VEVENT
DTSTAMP:20260424T020406
DTSTART;TZID=Europe/Berlin:20260209T163000
DTEND;TZID=Europe/Berlin:20260209T193000
UID:261NR2232-20260209T163000@VHSDUISBURG
SUMMARY:Reading Moms - Der Leseclub für junge Mütter In Kooperation mit dem Stadtteilbüro Stark Im Norden Alt-Hamborn (261NR2232) 
LOCATION:Stadtteilbüro Stark im Norden, Hamborner Altmarkt 8, 47166 Duisburg
END:VEVENT
BEGIN:VEVENT
DTSTAMP:20260424T020406
DTSTART;TZID=Europe/Berlin:20260323T163000
DTEND;TZID=Europe/Berlin:20260323T193000
UID:261NR2232-20260323T163000@VHSDUISBURG
SUMMARY:Reading Moms - Der Leseclub für junge Mütter In Kooperation mit dem Stadtteilbüro Stark Im Norden Alt-Hamborn (261NR2232) 
LOCATION:Stadtteilbüro Stark im Norden, Hamborner Altmarkt 8, 47166 Duisburg
END:VEVENT
BEGIN:VEVENT
DTSTAMP:20260424T020406
DTSTART;TZID=Europe/Berlin:20260413T163000
DTEND;TZID=Europe/Berlin:20260413T193000
UID:261NR2232-20260413T163000@VHSDUISBURG
SUMMARY:Reading Moms - Der Leseclub für junge Mütter In Kooperation mit dem Stadtteilbüro Stark Im Norden Alt-Hamborn (261NR2232) 
LOCATION:Stadtteilbüro Stark im Norden, Hamborner Altmarkt 8, 47166 Duisburg
END:VEVENT
BEGIN:VEVENT
DTSTAMP:20260424T020406
DTSTART;TZID=Europe/Berlin:20260511T163000
DTEND;TZID=Europe/Berlin:20260511T193000
UID:261NR2232-20260511T163000@VHSDUISBURG
SUMMARY:Reading Moms - Der Leseclub für junge Mütter In Kooperation mit dem Stadtteilbüro Stark Im Norden Alt-Hamborn (261NR2232) 
LOCATION:Stadtteilbüro Stark im Norden, Hamborner Altmarkt 8, 47166 Duisburg
END:VEVENT
BEGIN:VEVENT
DTSTAMP:20260424T020406
DTSTART;TZID=Europe/Berlin:20260601T163000
DTEND;TZID=Europe/Berlin:20260601T193000
UID:261NR2232-20260601T163000@VHSDUISBURG
SUMMARY:Reading Moms - Der Leseclub für junge Mütter In Kooperation mit dem Stadtteilbüro Stark Im Norden Alt-Hamborn (261NR2232) 
LOCATION:Stadtteilbüro Stark im Norden, Hamborner Altmarkt 8, 47166 Duisburg
END:VEVENT
END:VCALENDAR