BEGIN:VCALENDAR
PRODID:http://www.kufer.de/kuferweb / DE
VERSION:2.0
METHOD:PUBLISH
CALSCALE:GREGORIAN
X-WR-TIMEZONE:Europe/Berlin
BEGIN:VTIMEZONE
TZID:Europe/Berlin
X-LIC-LOCATION:Europe/Berlin
BEGIN:DAYLIGHT
TZOFFSETFROM:+0100
TZOFFSETTO:+0200
TZNAME:CEST
DTSTART;TZID=Europe/Berlin:19700329T020000
RRULE:FREQ=YEARLY;INTERVAL=1;BYDAY=-1SU;BYMONTH=3
END:DAYLIGHT
BEGIN:STANDARD
TZOFFSETFROM:+0200
TZOFFSETTO:+0100
TZNAME:CET
DTSTART;TZID=Europe/Berlin:19701025T030000
RRULE:FREQ=YEARLY;INTERVAL=1;BYDAY=-1SU;BYMONTH=10
END:STANDARD
END:VTIMEZONE
BEGIN:VEVENT
DTSTAMP:20260421T145332
DTSTART;TZID=Europe/Berlin:20260608T181500
DTEND;TZID=Europe/Berlin:20260608T194500
UID:261MZ8708-20260608T181500@VHSDUISBURG
SUMMARY:Polnisch für die Reise - für Teilnehmende ohne Vorkenntnisse (261MZ8708) 
LOCATION:VHS Königstraße;214, Königstr. 47, 47051 Duisburg
END:VEVENT
BEGIN:VEVENT
DTSTAMP:20260421T145332
DTSTART;TZID=Europe/Berlin:20260615T181500
DTEND;TZID=Europe/Berlin:20260615T194500
UID:261MZ8708-20260615T181500@VHSDUISBURG
SUMMARY:Polnisch für die Reise - für Teilnehmende ohne Vorkenntnisse (261MZ8708) 
LOCATION:VHS Königstraße;214, Königstr. 47, 47051 Duisburg
END:VEVENT
BEGIN:VEVENT
DTSTAMP:20260421T145332
DTSTART;TZID=Europe/Berlin:20260622T181500
DTEND;TZID=Europe/Berlin:20260622T194500
UID:261MZ8708-20260622T181500@VHSDUISBURG
SUMMARY:Polnisch für die Reise - für Teilnehmende ohne Vorkenntnisse (261MZ8708) 
LOCATION:VHS Königstraße;214, Königstr. 47, 47051 Duisburg
END:VEVENT
BEGIN:VEVENT
DTSTAMP:20260421T145332
DTSTART;TZID=Europe/Berlin:20260629T181500
DTEND;TZID=Europe/Berlin:20260629T194500
UID:261MZ8708-20260629T181500@VHSDUISBURG
SUMMARY:Polnisch für die Reise - für Teilnehmende ohne Vorkenntnisse (261MZ8708) 
LOCATION:VHS Königstraße;214, Königstr. 47, 47051 Duisburg
END:VEVENT
BEGIN:VEVENT
DTSTAMP:20260421T145332
DTSTART;TZID=Europe/Berlin:20260706T181500
DTEND;TZID=Europe/Berlin:20260706T194500
UID:261MZ8708-20260706T181500@VHSDUISBURG
SUMMARY:Polnisch für die Reise - für Teilnehmende ohne Vorkenntnisse (261MZ8708) 
LOCATION:VHS Königstraße;214, Königstr. 47, 47051 Duisburg
END:VEVENT
BEGIN:VEVENT
DTSTAMP:20260421T145332
DTSTART;TZID=Europe/Berlin:20260713T181500
DTEND;TZID=Europe/Berlin:20260713T194500
UID:261MZ8708-20260713T181500@VHSDUISBURG
SUMMARY:Polnisch für die Reise - für Teilnehmende ohne Vorkenntnisse (261MZ8708) 
LOCATION:VHS Königstraße;214, Königstr. 47, 47051 Duisburg
END:VEVENT
END:VCALENDAR