BEGIN:VCALENDAR
PRODID:http://www.kufer.de/kuferweb / DE
VERSION:2.0
METHOD:PUBLISH
CALSCALE:GREGORIAN
X-WR-TIMEZONE:Europe/Berlin
BEGIN:VTIMEZONE
TZID:Europe/Berlin
X-LIC-LOCATION:Europe/Berlin
BEGIN:DAYLIGHT
TZOFFSETFROM:+0100
TZOFFSETTO:+0200
TZNAME:CEST
DTSTART;TZID=Europe/Berlin:19700329T020000
RRULE:FREQ=YEARLY;INTERVAL=1;BYDAY=-1SU;BYMONTH=3
END:DAYLIGHT
BEGIN:STANDARD
TZOFFSETFROM:+0200
TZOFFSETTO:+0100
TZNAME:CET
DTSTART;TZID=Europe/Berlin:19701025T030000
RRULE:FREQ=YEARLY;INTERVAL=1;BYDAY=-1SU;BYMONTH=10
END:STANDARD
END:VTIMEZONE
BEGIN:VEVENT
DTSTAMP:20260421T072241
DTSTART;TZID=Europe/Berlin:20260203T180000
DTEND;TZID=Europe/Berlin:20260203T193000
UID:261MZ8674-20260203T180000@VHSDUISBURG
SUMMARY:Niederländisch - A2 - Wat leuk! - ab Lektion 1 (261MZ8674) 
LOCATION:VHS im Stadtfenster;Raum218, Steinsche Gasse 26, 47051 Duisburg
END:VEVENT
BEGIN:VEVENT
DTSTAMP:20260421T072241
DTSTART;TZID=Europe/Berlin:20260210T180000
DTEND;TZID=Europe/Berlin:20260210T193000
UID:261MZ8674-20260210T180000@VHSDUISBURG
SUMMARY:Niederländisch - A2 - Wat leuk! - ab Lektion 1 (261MZ8674) 
LOCATION:VHS im Stadtfenster;Raum218, Steinsche Gasse 26, 47051 Duisburg
END:VEVENT
BEGIN:VEVENT
DTSTAMP:20260421T072241
DTSTART;TZID=Europe/Berlin:20260224T180000
DTEND;TZID=Europe/Berlin:20260224T193000
UID:261MZ8674-20260224T180000@VHSDUISBURG
SUMMARY:Niederländisch - A2 - Wat leuk! - ab Lektion 1 (261MZ8674) 
LOCATION:VHS im Stadtfenster;Raum218, Steinsche Gasse 26, 47051 Duisburg
END:VEVENT
BEGIN:VEVENT
DTSTAMP:20260421T072241
DTSTART;TZID=Europe/Berlin:20260303T180000
DTEND;TZID=Europe/Berlin:20260303T193000
UID:261MZ8674-20260303T180000@VHSDUISBURG
SUMMARY:Niederländisch - A2 - Wat leuk! - ab Lektion 1 (261MZ8674) 
LOCATION:VHS im Stadtfenster;Raum218, Steinsche Gasse 26, 47051 Duisburg
END:VEVENT
BEGIN:VEVENT
DTSTAMP:20260421T072241
DTSTART;TZID=Europe/Berlin:20260310T180000
DTEND;TZID=Europe/Berlin:20260310T193000
UID:261MZ8674-20260310T180000@VHSDUISBURG
SUMMARY:Niederländisch - A2 - Wat leuk! - ab Lektion 1 (261MZ8674) 
LOCATION:VHS im Stadtfenster;Raum218, Steinsche Gasse 26, 47051 Duisburg
END:VEVENT
BEGIN:VEVENT
DTSTAMP:20260421T072241
DTSTART;TZID=Europe/Berlin:20260317T180000
DTEND;TZID=Europe/Berlin:20260317T193000
UID:261MZ8674-20260317T180000@VHSDUISBURG
SUMMARY:Niederländisch - A2 - Wat leuk! - ab Lektion 1 (261MZ8674) 
LOCATION:VHS im Stadtfenster;Raum218, Steinsche Gasse 26, 47051 Duisburg
END:VEVENT
BEGIN:VEVENT
DTSTAMP:20260421T072241
DTSTART;TZID=Europe/Berlin:20260324T180000
DTEND;TZID=Europe/Berlin:20260324T193000
UID:261MZ8674-20260324T180000@VHSDUISBURG
SUMMARY:Niederländisch - A2 - Wat leuk! - ab Lektion 1 (261MZ8674) 
LOCATION:VHS im Stadtfenster;Raum218, Steinsche Gasse 26, 47051 Duisburg
END:VEVENT
BEGIN:VEVENT
DTSTAMP:20260421T072241
DTSTART;TZID=Europe/Berlin:20260421T180000
DTEND;TZID=Europe/Berlin:20260421T193000
UID:261MZ8674-20260421T180000@VHSDUISBURG
SUMMARY:Niederländisch - A2 - Wat leuk! - ab Lektion 1 (261MZ8674) 
LOCATION:VHS im Stadtfenster;Raum218, Steinsche Gasse 26, 47051 Duisburg
END:VEVENT
BEGIN:VEVENT
DTSTAMP:20260421T072241
DTSTART;TZID=Europe/Berlin:20260505T180000
DTEND;TZID=Europe/Berlin:20260505T193000
UID:261MZ8674-20260505T180000@VHSDUISBURG
SUMMARY:Niederländisch - A2 - Wat leuk! - ab Lektion 1 (261MZ8674) 
LOCATION:VHS im Stadtfenster;Raum218, Steinsche Gasse 26, 47051 Duisburg
END:VEVENT
BEGIN:VEVENT
DTSTAMP:20260421T072241
DTSTART;TZID=Europe/Berlin:20260512T180000
DTEND;TZID=Europe/Berlin:20260512T193000
UID:261MZ8674-20260512T180000@VHSDUISBURG
SUMMARY:Niederländisch - A2 - Wat leuk! - ab Lektion 1 (261MZ8674) 
LOCATION:VHS im Stadtfenster;Raum218, Steinsche Gasse 26, 47051 Duisburg
END:VEVENT
BEGIN:VEVENT
DTSTAMP:20260421T072241
DTSTART;TZID=Europe/Berlin:20260519T180000
DTEND;TZID=Europe/Berlin:20260519T193000
UID:261MZ8674-20260519T180000@VHSDUISBURG
SUMMARY:Niederländisch - A2 - Wat leuk! - ab Lektion 1 (261MZ8674) 
LOCATION:VHS im Stadtfenster;Raum218, Steinsche Gasse 26, 47051 Duisburg
END:VEVENT
BEGIN:VEVENT
DTSTAMP:20260421T072241
DTSTART;TZID=Europe/Berlin:20260602T180000
DTEND;TZID=Europe/Berlin:20260602T193000
UID:261MZ8674-20260602T180000@VHSDUISBURG
DESCRIPTION:NT 14.04.
SUMMARY:Niederländisch - A2 - Wat leuk! - ab Lektion 1 (261MZ8674) 
LOCATION:VHS im Stadtfenster;Raum218, Steinsche Gasse 26, 47051 Duisburg
END:VEVENT
BEGIN:VEVENT
DTSTAMP:20260421T072241
DTSTART;TZID=Europe/Berlin:20260609T180000
DTEND;TZID=Europe/Berlin:20260609T193000
UID:261MZ8674-20260609T180000@VHSDUISBURG
DESCRIPTION:NT 28.04.
SUMMARY:Niederländisch - A2 - Wat leuk! - ab Lektion 1 (261MZ8674) 
LOCATION:VHS im Stadtfenster;Raum218, Steinsche Gasse 26, 47051 Duisburg
END:VEVENT
END:VCALENDAR