BEGIN:VCALENDAR
PRODID:http://www.kufer.de/kuferweb / DE
VERSION:2.0
METHOD:PUBLISH
CALSCALE:GREGORIAN
X-WR-TIMEZONE:Europe/Berlin
BEGIN:VTIMEZONE
TZID:Europe/Berlin
X-LIC-LOCATION:Europe/Berlin
BEGIN:DAYLIGHT
TZOFFSETFROM:+0100
TZOFFSETTO:+0200
TZNAME:CEST
DTSTART;TZID=Europe/Berlin:19700329T020000
RRULE:FREQ=YEARLY;INTERVAL=1;BYDAY=-1SU;BYMONTH=3
END:DAYLIGHT
BEGIN:STANDARD
TZOFFSETFROM:+0200
TZOFFSETTO:+0100
TZNAME:CET
DTSTART;TZID=Europe/Berlin:19701025T030000
RRULE:FREQ=YEARLY;INTERVAL=1;BYDAY=-1SU;BYMONTH=10
END:STANDARD
END:VTIMEZONE
BEGIN:VEVENT
DTSTAMP:20260421T153242
DTSTART;TZID=Europe/Berlin:20260223T163000
DTEND;TZID=Europe/Berlin:20260223T180000
UID:261MZ8668-20260223T163000@VHSDUISBURG
SUMMARY:Niederländisch - A1 - für Teilnehmende ohne Vorkenntnisse (online) (261MZ8668) 
LOCATION:Online-Seminar;Onlineraum, , 
END:VEVENT
BEGIN:VEVENT
DTSTAMP:20260421T153242
DTSTART;TZID=Europe/Berlin:20260302T163000
DTEND;TZID=Europe/Berlin:20260302T180000
UID:261MZ8668-20260302T163000@VHSDUISBURG
SUMMARY:Niederländisch - A1 - für Teilnehmende ohne Vorkenntnisse (online) (261MZ8668) 
LOCATION:Online-Seminar;Onlineraum, , 
END:VEVENT
BEGIN:VEVENT
DTSTAMP:20260421T153242
DTSTART;TZID=Europe/Berlin:20260309T163000
DTEND;TZID=Europe/Berlin:20260309T180000
UID:261MZ8668-20260309T163000@VHSDUISBURG
SUMMARY:Niederländisch - A1 - für Teilnehmende ohne Vorkenntnisse (online) (261MZ8668) 
LOCATION:Online-Seminar;Onlineraum, , 
END:VEVENT
BEGIN:VEVENT
DTSTAMP:20260421T153242
DTSTART;TZID=Europe/Berlin:20260316T163000
DTEND;TZID=Europe/Berlin:20260316T180000
UID:261MZ8668-20260316T163000@VHSDUISBURG
SUMMARY:Niederländisch - A1 - für Teilnehmende ohne Vorkenntnisse (online) (261MZ8668) 
LOCATION:Online-Seminar;Onlineraum, , 
END:VEVENT
BEGIN:VEVENT
DTSTAMP:20260421T153242
DTSTART;TZID=Europe/Berlin:20260323T163000
DTEND;TZID=Europe/Berlin:20260323T180000
UID:261MZ8668-20260323T163000@VHSDUISBURG
SUMMARY:Niederländisch - A1 - für Teilnehmende ohne Vorkenntnisse (online) (261MZ8668) 
LOCATION:Online-Seminar;Onlineraum, , 
END:VEVENT
BEGIN:VEVENT
DTSTAMP:20260421T153242
DTSTART;TZID=Europe/Berlin:20260413T163000
DTEND;TZID=Europe/Berlin:20260413T180000
UID:261MZ8668-20260413T163000@VHSDUISBURG
SUMMARY:Niederländisch - A1 - für Teilnehmende ohne Vorkenntnisse (online) (261MZ8668) 
LOCATION:Online-Seminar;Onlineraum, , 
END:VEVENT
BEGIN:VEVENT
DTSTAMP:20260421T153242
DTSTART;TZID=Europe/Berlin:20260420T163000
DTEND;TZID=Europe/Berlin:20260420T180000
UID:261MZ8668-20260420T163000@VHSDUISBURG
SUMMARY:Niederländisch - A1 - für Teilnehmende ohne Vorkenntnisse (online) (261MZ8668) 
LOCATION:Online-Seminar;Onlineraum, , 
END:VEVENT
BEGIN:VEVENT
DTSTAMP:20260421T153242
DTSTART;TZID=Europe/Berlin:20260427T163000
DTEND;TZID=Europe/Berlin:20260427T180000
UID:261MZ8668-20260427T163000@VHSDUISBURG
SUMMARY:Niederländisch - A1 - für Teilnehmende ohne Vorkenntnisse (online) (261MZ8668) 
LOCATION:Online-Seminar;Onlineraum, , 
END:VEVENT
BEGIN:VEVENT
DTSTAMP:20260421T153242
DTSTART;TZID=Europe/Berlin:20260504T163000
DTEND;TZID=Europe/Berlin:20260504T180000
UID:261MZ8668-20260504T163000@VHSDUISBURG
SUMMARY:Niederländisch - A1 - für Teilnehmende ohne Vorkenntnisse (online) (261MZ8668) 
LOCATION:Online-Seminar;Onlineraum, , 
END:VEVENT
BEGIN:VEVENT
DTSTAMP:20260421T153242
DTSTART;TZID=Europe/Berlin:20260511T163000
DTEND;TZID=Europe/Berlin:20260511T180000
UID:261MZ8668-20260511T163000@VHSDUISBURG
SUMMARY:Niederländisch - A1 - für Teilnehmende ohne Vorkenntnisse (online) (261MZ8668) 
LOCATION:Online-Seminar;Onlineraum, , 
END:VEVENT
BEGIN:VEVENT
DTSTAMP:20260421T153242
DTSTART;TZID=Europe/Berlin:20260518T163000
DTEND;TZID=Europe/Berlin:20260518T180000
UID:261MZ8668-20260518T163000@VHSDUISBURG
SUMMARY:Niederländisch - A1 - für Teilnehmende ohne Vorkenntnisse (online) (261MZ8668) 
LOCATION:Online-Seminar;Onlineraum, , 
END:VEVENT
BEGIN:VEVENT
DTSTAMP:20260421T153242
DTSTART;TZID=Europe/Berlin:20260601T163000
DTEND;TZID=Europe/Berlin:20260601T180000
UID:261MZ8668-20260601T163000@VHSDUISBURG
SUMMARY:Niederländisch - A1 - für Teilnehmende ohne Vorkenntnisse (online) (261MZ8668) 
LOCATION:Online-Seminar;Onlineraum, , 
END:VEVENT
END:VCALENDAR