BEGIN:VCALENDAR
PRODID:http://www.kufer.de/kuferweb / DE
VERSION:2.0
METHOD:PUBLISH
CALSCALE:GREGORIAN
X-WR-TIMEZONE:Europe/Berlin
BEGIN:VTIMEZONE
TZID:Europe/Berlin
X-LIC-LOCATION:Europe/Berlin
BEGIN:DAYLIGHT
TZOFFSETFROM:+0100
TZOFFSETTO:+0200
TZNAME:CEST
DTSTART;TZID=Europe/Berlin:19700329T020000
RRULE:FREQ=YEARLY;INTERVAL=1;BYDAY=-1SU;BYMONTH=3
END:DAYLIGHT
BEGIN:STANDARD
TZOFFSETFROM:+0200
TZOFFSETTO:+0100
TZNAME:CET
DTSTART;TZID=Europe/Berlin:19701025T030000
RRULE:FREQ=YEARLY;INTERVAL=1;BYDAY=-1SU;BYMONTH=10
END:STANDARD
END:VTIMEZONE
BEGIN:VEVENT
DTSTAMP:20260421T202106
DTSTART;TZID=Europe/Berlin:20260706T090000
DTEND;TZID=Europe/Berlin:20260706T143000
UID:261MZ8662-20260706T090000@VHSDUISBURG
SUMMARY:Niederländisch - Intensivsprachkurs - Bildungsurlaub B1/B2 für Teilnehmende mit fortgeschrittenen Kenntnissen (261MZ8662) 
LOCATION:VHS im Stadtfenster;Raum413, Steinsche Gasse 26, 47051 Duisburg
END:VEVENT
BEGIN:VEVENT
DTSTAMP:20260421T202106
DTSTART;TZID=Europe/Berlin:20260707T090000
DTEND;TZID=Europe/Berlin:20260707T143000
UID:261MZ8662-20260707T090000@VHSDUISBURG
SUMMARY:Niederländisch - Intensivsprachkurs - Bildungsurlaub B1/B2 für Teilnehmende mit fortgeschrittenen Kenntnissen (261MZ8662) 
LOCATION:VHS im Stadtfenster;Raum413, Steinsche Gasse 26, 47051 Duisburg
END:VEVENT
BEGIN:VEVENT
DTSTAMP:20260421T202106
DTSTART;TZID=Europe/Berlin:20260708T090000
DTEND;TZID=Europe/Berlin:20260708T143000
UID:261MZ8662-20260708T090000@VHSDUISBURG
SUMMARY:Niederländisch - Intensivsprachkurs - Bildungsurlaub B1/B2 für Teilnehmende mit fortgeschrittenen Kenntnissen (261MZ8662) 
LOCATION:VHS im Stadtfenster;Raum413, Steinsche Gasse 26, 47051 Duisburg
END:VEVENT
BEGIN:VEVENT
DTSTAMP:20260421T202106
DTSTART;TZID=Europe/Berlin:20260709T090000
DTEND;TZID=Europe/Berlin:20260709T143000
UID:261MZ8662-20260709T090000@VHSDUISBURG
SUMMARY:Niederländisch - Intensivsprachkurs - Bildungsurlaub B1/B2 für Teilnehmende mit fortgeschrittenen Kenntnissen (261MZ8662) 
LOCATION:VHS im Stadtfenster;Raum413, Steinsche Gasse 26, 47051 Duisburg
END:VEVENT
BEGIN:VEVENT
DTSTAMP:20260421T202106
DTSTART;TZID=Europe/Berlin:20260710T090000
DTEND;TZID=Europe/Berlin:20260710T143000
UID:261MZ8662-20260710T090000@VHSDUISBURG
SUMMARY:Niederländisch - Intensivsprachkurs - Bildungsurlaub B1/B2 für Teilnehmende mit fortgeschrittenen Kenntnissen (261MZ8662) 
LOCATION:VHS im Stadtfenster;Raum413, Steinsche Gasse 26, 47051 Duisburg
END:VEVENT
END:VCALENDAR