BEGIN:VCALENDAR
PRODID:http://www.kufer.de/kuferweb / DE
VERSION:2.0
METHOD:PUBLISH
CALSCALE:GREGORIAN
X-WR-TIMEZONE:Europe/Berlin
BEGIN:VTIMEZONE
TZID:Europe/Berlin
X-LIC-LOCATION:Europe/Berlin
BEGIN:DAYLIGHT
TZOFFSETFROM:+0100
TZOFFSETTO:+0200
TZNAME:CEST
DTSTART;TZID=Europe/Berlin:19700329T020000
RRULE:FREQ=YEARLY;INTERVAL=1;BYDAY=-1SU;BYMONTH=3
END:DAYLIGHT
BEGIN:STANDARD
TZOFFSETFROM:+0200
TZOFFSETTO:+0100
TZNAME:CET
DTSTART;TZID=Europe/Berlin:19701025T030000
RRULE:FREQ=YEARLY;INTERVAL=1;BYDAY=-1SU;BYMONTH=10
END:STANDARD
END:VTIMEZONE
BEGIN:VEVENT
DTSTAMP:20260425T204859
DTSTART;TZID=Europe/Berlin:20260205T201500
DTEND;TZID=Europe/Berlin:20260205T214500
UID:261MZ8632-20260205T201500@VHSDUISBURG
SUMMARY:Kroatisch - A1 - ab Lektion 5 (261MZ8632) 
LOCATION:VHS im Stadtfenster;Raum413, Steinsche Gasse 26, 47051 Duisburg
END:VEVENT
BEGIN:VEVENT
DTSTAMP:20260425T204859
DTSTART;TZID=Europe/Berlin:20260212T201500
DTEND;TZID=Europe/Berlin:20260212T214500
UID:261MZ8632-20260212T201500@VHSDUISBURG
SUMMARY:Kroatisch - A1 - ab Lektion 5 (261MZ8632) 
LOCATION:VHS im Stadtfenster;Raum413, Steinsche Gasse 26, 47051 Duisburg
END:VEVENT
BEGIN:VEVENT
DTSTAMP:20260425T204859
DTSTART;TZID=Europe/Berlin:20260219T201500
DTEND;TZID=Europe/Berlin:20260219T214500
UID:261MZ8632-20260219T201500@VHSDUISBURG
SUMMARY:Kroatisch - A1 - ab Lektion 5 (261MZ8632) 
LOCATION:VHS im Stadtfenster;Raum413, Steinsche Gasse 26, 47051 Duisburg
END:VEVENT
BEGIN:VEVENT
DTSTAMP:20260425T204859
DTSTART;TZID=Europe/Berlin:20260226T201500
DTEND;TZID=Europe/Berlin:20260226T214500
UID:261MZ8632-20260226T201500@VHSDUISBURG
SUMMARY:Kroatisch - A1 - ab Lektion 5 (261MZ8632) 
LOCATION:VHS im Stadtfenster;Raum413, Steinsche Gasse 26, 47051 Duisburg
END:VEVENT
BEGIN:VEVENT
DTSTAMP:20260425T204859
DTSTART;TZID=Europe/Berlin:20260305T201500
DTEND;TZID=Europe/Berlin:20260305T214500
UID:261MZ8632-20260305T201500@VHSDUISBURG
SUMMARY:Kroatisch - A1 - ab Lektion 5 (261MZ8632) 
LOCATION:VHS im Stadtfenster;Raum413, Steinsche Gasse 26, 47051 Duisburg
END:VEVENT
BEGIN:VEVENT
DTSTAMP:20260425T204859
DTSTART;TZID=Europe/Berlin:20260312T201500
DTEND;TZID=Europe/Berlin:20260312T214500
UID:261MZ8632-20260312T201500@VHSDUISBURG
SUMMARY:Kroatisch - A1 - ab Lektion 5 (261MZ8632) 
LOCATION:VHS im Stadtfenster;Raum413, Steinsche Gasse 26, 47051 Duisburg
END:VEVENT
BEGIN:VEVENT
DTSTAMP:20260425T204859
DTSTART;TZID=Europe/Berlin:20260319T201500
DTEND;TZID=Europe/Berlin:20260319T214500
UID:261MZ8632-20260319T201500@VHSDUISBURG
SUMMARY:Kroatisch - A1 - ab Lektion 5 (261MZ8632) 
LOCATION:VHS im Stadtfenster;Raum413, Steinsche Gasse 26, 47051 Duisburg
END:VEVENT
BEGIN:VEVENT
DTSTAMP:20260425T204859
DTSTART;TZID=Europe/Berlin:20260326T201500
DTEND;TZID=Europe/Berlin:20260326T214500
UID:261MZ8632-20260326T201500@VHSDUISBURG
SUMMARY:Kroatisch - A1 - ab Lektion 5 (261MZ8632) 
LOCATION:VHS im Stadtfenster;Raum413, Steinsche Gasse 26, 47051 Duisburg
END:VEVENT
BEGIN:VEVENT
DTSTAMP:20260425T204859
DTSTART;TZID=Europe/Berlin:20260416T201500
DTEND;TZID=Europe/Berlin:20260416T214500
UID:261MZ8632-20260416T201500@VHSDUISBURG
SUMMARY:Kroatisch - A1 - ab Lektion 5 (261MZ8632) 
LOCATION:VHS im Stadtfenster;Raum413, Steinsche Gasse 26, 47051 Duisburg
END:VEVENT
BEGIN:VEVENT
DTSTAMP:20260425T204859
DTSTART;TZID=Europe/Berlin:20260423T201500
DTEND;TZID=Europe/Berlin:20260423T214500
UID:261MZ8632-20260423T201500@VHSDUISBURG
SUMMARY:Kroatisch - A1 - ab Lektion 5 (261MZ8632) 
LOCATION:VHS im Stadtfenster;Raum413, Steinsche Gasse 26, 47051 Duisburg
END:VEVENT
BEGIN:VEVENT
DTSTAMP:20260425T204859
DTSTART;TZID=Europe/Berlin:20260430T201500
DTEND;TZID=Europe/Berlin:20260430T214500
UID:261MZ8632-20260430T201500@VHSDUISBURG
SUMMARY:Kroatisch - A1 - ab Lektion 5 (261MZ8632) 
LOCATION:VHS im Stadtfenster;Raum413, Steinsche Gasse 26, 47051 Duisburg
END:VEVENT
BEGIN:VEVENT
DTSTAMP:20260425T204859
DTSTART;TZID=Europe/Berlin:20260507T201500
DTEND;TZID=Europe/Berlin:20260507T214500
UID:261MZ8632-20260507T201500@VHSDUISBURG
SUMMARY:Kroatisch - A1 - ab Lektion 5 (261MZ8632) 
LOCATION:VHS im Stadtfenster;Raum413, Steinsche Gasse 26, 47051 Duisburg
END:VEVENT
BEGIN:VEVENT
DTSTAMP:20260425T204859
DTSTART;TZID=Europe/Berlin:20260521T201500
DTEND;TZID=Europe/Berlin:20260521T214500
UID:261MZ8632-20260521T201500@VHSDUISBURG
SUMMARY:Kroatisch - A1 - ab Lektion 5 (261MZ8632) 
LOCATION:VHS im Stadtfenster;Raum413, Steinsche Gasse 26, 47051 Duisburg
END:VEVENT
END:VCALENDAR