BEGIN:VCALENDAR
PRODID:http://www.kufer.de/kuferweb / DE
VERSION:2.0
METHOD:PUBLISH
CALSCALE:GREGORIAN
X-WR-TIMEZONE:Europe/Berlin
BEGIN:VTIMEZONE
TZID:Europe/Berlin
X-LIC-LOCATION:Europe/Berlin
BEGIN:DAYLIGHT
TZOFFSETFROM:+0100
TZOFFSETTO:+0200
TZNAME:CEST
DTSTART;TZID=Europe/Berlin:19700329T020000
RRULE:FREQ=YEARLY;INTERVAL=1;BYDAY=-1SU;BYMONTH=3
END:DAYLIGHT
BEGIN:STANDARD
TZOFFSETFROM:+0200
TZOFFSETTO:+0100
TZNAME:CET
DTSTART;TZID=Europe/Berlin:19701025T030000
RRULE:FREQ=YEARLY;INTERVAL=1;BYDAY=-1SU;BYMONTH=10
END:STANDARD
END:VTIMEZONE
BEGIN:VEVENT
DTSTAMP:20260421T082550
DTSTART;TZID=Europe/Berlin:20260202T184500
DTEND;TZID=Europe/Berlin:20260202T201500
UID:261MZ8600-20260202T184500@VHSDUISBURG
SUMMARY:Hocharabisch - A1 - für Teilnehmende ohne Vorkenntnisse (261MZ8600) 
LOCATION:VHS Königstraße;213, Königstr. 47, 47051 Duisburg
END:VEVENT
BEGIN:VEVENT
DTSTAMP:20260421T082550
DTSTART;TZID=Europe/Berlin:20260209T184500
DTEND;TZID=Europe/Berlin:20260209T201500
UID:261MZ8600-20260209T184500@VHSDUISBURG
SUMMARY:Hocharabisch - A1 - für Teilnehmende ohne Vorkenntnisse (261MZ8600) 
LOCATION:VHS Königstraße;213, Königstr. 47, 47051 Duisburg
END:VEVENT
BEGIN:VEVENT
DTSTAMP:20260421T082550
DTSTART;TZID=Europe/Berlin:20260223T184500
DTEND;TZID=Europe/Berlin:20260223T201500
UID:261MZ8600-20260223T184500@VHSDUISBURG
SUMMARY:Hocharabisch - A1 - für Teilnehmende ohne Vorkenntnisse (261MZ8600) 
LOCATION:VHS Königstraße;316, Königstr. 47, 47051 Duisburg
END:VEVENT
BEGIN:VEVENT
DTSTAMP:20260421T082550
DTSTART;TZID=Europe/Berlin:20260302T184500
DTEND;TZID=Europe/Berlin:20260302T201500
UID:261MZ8600-20260302T184500@VHSDUISBURG
SUMMARY:Hocharabisch - A1 - für Teilnehmende ohne Vorkenntnisse (261MZ8600) 
LOCATION:VHS Königstraße;213, Königstr. 47, 47051 Duisburg
END:VEVENT
BEGIN:VEVENT
DTSTAMP:20260421T082550
DTSTART;TZID=Europe/Berlin:20260309T184500
DTEND;TZID=Europe/Berlin:20260309T201500
UID:261MZ8600-20260309T184500@VHSDUISBURG
SUMMARY:Hocharabisch - A1 - für Teilnehmende ohne Vorkenntnisse (261MZ8600) 
LOCATION:VHS Königstraße;213, Königstr. 47, 47051 Duisburg
END:VEVENT
BEGIN:VEVENT
DTSTAMP:20260421T082550
DTSTART;TZID=Europe/Berlin:20260316T184500
DTEND;TZID=Europe/Berlin:20260316T201500
UID:261MZ8600-20260316T184500@VHSDUISBURG
SUMMARY:Hocharabisch - A1 - für Teilnehmende ohne Vorkenntnisse (261MZ8600) 
LOCATION:VHS Königstraße;213, Königstr. 47, 47051 Duisburg
END:VEVENT
BEGIN:VEVENT
DTSTAMP:20260421T082550
DTSTART;TZID=Europe/Berlin:20260323T184500
DTEND;TZID=Europe/Berlin:20260323T201500
UID:261MZ8600-20260323T184500@VHSDUISBURG
SUMMARY:Hocharabisch - A1 - für Teilnehmende ohne Vorkenntnisse (261MZ8600) 
LOCATION:VHS Königstraße;213, Königstr. 47, 47051 Duisburg
END:VEVENT
BEGIN:VEVENT
DTSTAMP:20260421T082550
DTSTART;TZID=Europe/Berlin:20260413T184500
DTEND;TZID=Europe/Berlin:20260413T201500
UID:261MZ8600-20260413T184500@VHSDUISBURG
SUMMARY:Hocharabisch - A1 - für Teilnehmende ohne Vorkenntnisse (261MZ8600) 
LOCATION:VHS Königstraße;213, Königstr. 47, 47051 Duisburg
END:VEVENT
BEGIN:VEVENT
DTSTAMP:20260421T082550
DTSTART;TZID=Europe/Berlin:20260420T184500
DTEND;TZID=Europe/Berlin:20260420T201500
UID:261MZ8600-20260420T184500@VHSDUISBURG
SUMMARY:Hocharabisch - A1 - für Teilnehmende ohne Vorkenntnisse (261MZ8600) 
LOCATION:VHS Königstraße;213, Königstr. 47, 47051 Duisburg
END:VEVENT
BEGIN:VEVENT
DTSTAMP:20260421T082550
DTSTART;TZID=Europe/Berlin:20260427T184500
DTEND;TZID=Europe/Berlin:20260427T201500
UID:261MZ8600-20260427T184500@VHSDUISBURG
SUMMARY:Hocharabisch - A1 - für Teilnehmende ohne Vorkenntnisse (261MZ8600) 
LOCATION:VHS Königstraße;213, Königstr. 47, 47051 Duisburg
END:VEVENT
BEGIN:VEVENT
DTSTAMP:20260421T082550
DTSTART;TZID=Europe/Berlin:20260504T184500
DTEND;TZID=Europe/Berlin:20260504T201500
UID:261MZ8600-20260504T184500@VHSDUISBURG
SUMMARY:Hocharabisch - A1 - für Teilnehmende ohne Vorkenntnisse (261MZ8600) 
LOCATION:VHS Königstraße;213, Königstr. 47, 47051 Duisburg
END:VEVENT
BEGIN:VEVENT
DTSTAMP:20260421T082550
DTSTART;TZID=Europe/Berlin:20260511T184500
DTEND;TZID=Europe/Berlin:20260511T201500
UID:261MZ8600-20260511T184500@VHSDUISBURG
SUMMARY:Hocharabisch - A1 - für Teilnehmende ohne Vorkenntnisse (261MZ8600) 
LOCATION:VHS Königstraße;213, Königstr. 47, 47051 Duisburg
END:VEVENT
BEGIN:VEVENT
DTSTAMP:20260421T082550
DTSTART;TZID=Europe/Berlin:20260518T184500
DTEND;TZID=Europe/Berlin:20260518T201500
UID:261MZ8600-20260518T184500@VHSDUISBURG
SUMMARY:Hocharabisch - A1 - für Teilnehmende ohne Vorkenntnisse (261MZ8600) 
LOCATION:VHS Königstraße;213, Königstr. 47, 47051 Duisburg
END:VEVENT
END:VCALENDAR