BEGIN:VCALENDAR
PRODID:http://www.kufer.de/kuferweb / DE
VERSION:2.0
METHOD:PUBLISH
CALSCALE:GREGORIAN
X-WR-TIMEZONE:Europe/Berlin
BEGIN:VTIMEZONE
TZID:Europe/Berlin
X-LIC-LOCATION:Europe/Berlin
BEGIN:DAYLIGHT
TZOFFSETFROM:+0100
TZOFFSETTO:+0200
TZNAME:CEST
DTSTART;TZID=Europe/Berlin:19700329T020000
RRULE:FREQ=YEARLY;INTERVAL=1;BYDAY=-1SU;BYMONTH=3
END:DAYLIGHT
BEGIN:STANDARD
TZOFFSETFROM:+0200
TZOFFSETTO:+0100
TZNAME:CET
DTSTART;TZID=Europe/Berlin:19701025T030000
RRULE:FREQ=YEARLY;INTERVAL=1;BYDAY=-1SU;BYMONTH=10
END:STANDARD
END:VTIMEZONE
BEGIN:VEVENT
DTSTAMP:20260422T184135
DTSTART;TZID=Europe/Berlin:20260204T193000
DTEND;TZID=Europe/Berlin:20260204T210000
UID:261MZ8422-20260204T193000@VHSDUISBURG
SUMMARY:Portugiesisch - A2 - Auffrischkurs - ab Lektion 37 (261MZ8422) 
LOCATION:VHS im Stadtfenster;Raum315, Steinsche Gasse 26, 47051 Duisburg
END:VEVENT
BEGIN:VEVENT
DTSTAMP:20260422T184135
DTSTART;TZID=Europe/Berlin:20260211T193000
DTEND;TZID=Europe/Berlin:20260211T210000
UID:261MZ8422-20260211T193000@VHSDUISBURG
SUMMARY:Portugiesisch - A2 - Auffrischkurs - ab Lektion 37 (261MZ8422) 
LOCATION:VHS im Stadtfenster;Raum315, Steinsche Gasse 26, 47051 Duisburg
END:VEVENT
BEGIN:VEVENT
DTSTAMP:20260422T184135
DTSTART;TZID=Europe/Berlin:20260218T193000
DTEND;TZID=Europe/Berlin:20260218T210000
UID:261MZ8422-20260218T193000@VHSDUISBURG
SUMMARY:Portugiesisch - A2 - Auffrischkurs - ab Lektion 37 (261MZ8422) 
LOCATION:VHS im Stadtfenster;Raum315, Steinsche Gasse 26, 47051 Duisburg
END:VEVENT
BEGIN:VEVENT
DTSTAMP:20260422T184135
DTSTART;TZID=Europe/Berlin:20260225T193000
DTEND;TZID=Europe/Berlin:20260225T210000
UID:261MZ8422-20260225T193000@VHSDUISBURG
SUMMARY:Portugiesisch - A2 - Auffrischkurs - ab Lektion 37 (261MZ8422) 
LOCATION:VHS im Stadtfenster;Raum315, Steinsche Gasse 26, 47051 Duisburg
END:VEVENT
BEGIN:VEVENT
DTSTAMP:20260422T184135
DTSTART;TZID=Europe/Berlin:20260304T193000
DTEND;TZID=Europe/Berlin:20260304T210000
UID:261MZ8422-20260304T193000@VHSDUISBURG
SUMMARY:Portugiesisch - A2 - Auffrischkurs - ab Lektion 37 (261MZ8422) 
LOCATION:VHS im Stadtfenster;Raum315, Steinsche Gasse 26, 47051 Duisburg
END:VEVENT
BEGIN:VEVENT
DTSTAMP:20260422T184135
DTSTART;TZID=Europe/Berlin:20260311T193000
DTEND;TZID=Europe/Berlin:20260311T210000
UID:261MZ8422-20260311T193000@VHSDUISBURG
SUMMARY:Portugiesisch - A2 - Auffrischkurs - ab Lektion 37 (261MZ8422) 
LOCATION:VHS im Stadtfenster;Raum315, Steinsche Gasse 26, 47051 Duisburg
END:VEVENT
BEGIN:VEVENT
DTSTAMP:20260422T184135
DTSTART;TZID=Europe/Berlin:20260318T193000
DTEND;TZID=Europe/Berlin:20260318T210000
UID:261MZ8422-20260318T193000@VHSDUISBURG
SUMMARY:Portugiesisch - A2 - Auffrischkurs - ab Lektion 37 (261MZ8422) 
LOCATION:VHS im Stadtfenster;Raum315, Steinsche Gasse 26, 47051 Duisburg
END:VEVENT
BEGIN:VEVENT
DTSTAMP:20260422T184135
DTSTART;TZID=Europe/Berlin:20260325T193000
DTEND;TZID=Europe/Berlin:20260325T210000
UID:261MZ8422-20260325T193000@VHSDUISBURG
SUMMARY:Portugiesisch - A2 - Auffrischkurs - ab Lektion 37 (261MZ8422) 
LOCATION:VHS im Stadtfenster;Raum315, Steinsche Gasse 26, 47051 Duisburg
END:VEVENT
BEGIN:VEVENT
DTSTAMP:20260422T184135
DTSTART;TZID=Europe/Berlin:20260415T193000
DTEND;TZID=Europe/Berlin:20260415T210000
UID:261MZ8422-20260415T193000@VHSDUISBURG
SUMMARY:Portugiesisch - A2 - Auffrischkurs - ab Lektion 37 (261MZ8422) 
LOCATION:VHS im Stadtfenster;Raum315, Steinsche Gasse 26, 47051 Duisburg
END:VEVENT
BEGIN:VEVENT
DTSTAMP:20260422T184135
DTSTART;TZID=Europe/Berlin:20260422T193000
DTEND;TZID=Europe/Berlin:20260422T210000
UID:261MZ8422-20260422T193000@VHSDUISBURG
SUMMARY:Portugiesisch - A2 - Auffrischkurs - ab Lektion 37 (261MZ8422) 
LOCATION:VHS im Stadtfenster;Raum315, Steinsche Gasse 26, 47051 Duisburg
END:VEVENT
BEGIN:VEVENT
DTSTAMP:20260422T184135
DTSTART;TZID=Europe/Berlin:20260429T193000
DTEND;TZID=Europe/Berlin:20260429T210000
UID:261MZ8422-20260429T193000@VHSDUISBURG
SUMMARY:Portugiesisch - A2 - Auffrischkurs - ab Lektion 37 (261MZ8422) 
LOCATION:VHS im Stadtfenster;Raum315, Steinsche Gasse 26, 47051 Duisburg
END:VEVENT
BEGIN:VEVENT
DTSTAMP:20260422T184135
DTSTART;TZID=Europe/Berlin:20260506T193000
DTEND;TZID=Europe/Berlin:20260506T210000
UID:261MZ8422-20260506T193000@VHSDUISBURG
SUMMARY:Portugiesisch - A2 - Auffrischkurs - ab Lektion 37 (261MZ8422) 
LOCATION:VHS im Stadtfenster;Raum315, Steinsche Gasse 26, 47051 Duisburg
END:VEVENT
BEGIN:VEVENT
DTSTAMP:20260422T184135
DTSTART;TZID=Europe/Berlin:20260513T193000
DTEND;TZID=Europe/Berlin:20260513T210000
UID:261MZ8422-20260513T193000@VHSDUISBURG
SUMMARY:Portugiesisch - A2 - Auffrischkurs - ab Lektion 37 (261MZ8422) 
LOCATION:VHS im Stadtfenster;Raum315, Steinsche Gasse 26, 47051 Duisburg
END:VEVENT
END:VCALENDAR