BEGIN:VCALENDAR
PRODID:http://www.kufer.de/kuferweb / DE
VERSION:2.0
METHOD:PUBLISH
CALSCALE:GREGORIAN
X-WR-TIMEZONE:Europe/Berlin
BEGIN:VTIMEZONE
TZID:Europe/Berlin
X-LIC-LOCATION:Europe/Berlin
BEGIN:DAYLIGHT
TZOFFSETFROM:+0100
TZOFFSETTO:+0200
TZNAME:CEST
DTSTART;TZID=Europe/Berlin:19700329T020000
RRULE:FREQ=YEARLY;INTERVAL=1;BYDAY=-1SU;BYMONTH=3
END:DAYLIGHT
BEGIN:STANDARD
TZOFFSETFROM:+0200
TZOFFSETTO:+0100
TZNAME:CET
DTSTART;TZID=Europe/Berlin:19701025T030000
RRULE:FREQ=YEARLY;INTERVAL=1;BYDAY=-1SU;BYMONTH=10
END:STANDARD
END:VTIMEZONE
BEGIN:VEVENT
DTSTAMP:20260421T153240
DTSTART;TZID=Europe/Berlin:20260527T173000
DTEND;TZID=Europe/Berlin:20260527T190000
UID:261MZ8318-20260527T173000@VHSDUISBURG
SUMMARY:Spanisch für die Reise - Sommerkurs für Lernende ohne oder mit minimalen Vorkenntnissen (261MZ8318) 
LOCATION:VHS im Stadtfenster;Raum221, Steinsche Gasse 26, 47051 Duisburg
END:VEVENT
BEGIN:VEVENT
DTSTAMP:20260421T153240
DTSTART;TZID=Europe/Berlin:20260603T173000
DTEND;TZID=Europe/Berlin:20260603T190000
UID:261MZ8318-20260603T173000@VHSDUISBURG
SUMMARY:Spanisch für die Reise - Sommerkurs für Lernende ohne oder mit minimalen Vorkenntnissen (261MZ8318) 
LOCATION:VHS im Stadtfenster;Raum221, Steinsche Gasse 26, 47051 Duisburg
END:VEVENT
BEGIN:VEVENT
DTSTAMP:20260421T153240
DTSTART;TZID=Europe/Berlin:20260610T173000
DTEND;TZID=Europe/Berlin:20260610T190000
UID:261MZ8318-20260610T173000@VHSDUISBURG
SUMMARY:Spanisch für die Reise - Sommerkurs für Lernende ohne oder mit minimalen Vorkenntnissen (261MZ8318) 
LOCATION:VHS im Stadtfenster;Raum221, Steinsche Gasse 26, 47051 Duisburg
END:VEVENT
BEGIN:VEVENT
DTSTAMP:20260421T153240
DTSTART;TZID=Europe/Berlin:20260617T173000
DTEND;TZID=Europe/Berlin:20260617T190000
UID:261MZ8318-20260617T173000@VHSDUISBURG
SUMMARY:Spanisch für die Reise - Sommerkurs für Lernende ohne oder mit minimalen Vorkenntnissen (261MZ8318) 
LOCATION:VHS im Stadtfenster;Raum221, Steinsche Gasse 26, 47051 Duisburg
END:VEVENT
BEGIN:VEVENT
DTSTAMP:20260421T153240
DTSTART;TZID=Europe/Berlin:20260624T173000
DTEND;TZID=Europe/Berlin:20260624T190000
UID:261MZ8318-20260624T173000@VHSDUISBURG
SUMMARY:Spanisch für die Reise - Sommerkurs für Lernende ohne oder mit minimalen Vorkenntnissen (261MZ8318) 
LOCATION:VHS im Stadtfenster;Raum221, Steinsche Gasse 26, 47051 Duisburg
END:VEVENT
BEGIN:VEVENT
DTSTAMP:20260421T153240
DTSTART;TZID=Europe/Berlin:20260701T173000
DTEND;TZID=Europe/Berlin:20260701T190000
UID:261MZ8318-20260701T173000@VHSDUISBURG
SUMMARY:Spanisch für die Reise - Sommerkurs für Lernende ohne oder mit minimalen Vorkenntnissen (261MZ8318) 
LOCATION:VHS im Stadtfenster;Raum221, Steinsche Gasse 26, 47051 Duisburg
END:VEVENT
BEGIN:VEVENT
DTSTAMP:20260421T153240
DTSTART;TZID=Europe/Berlin:20260708T173000
DTEND;TZID=Europe/Berlin:20260708T190000
UID:261MZ8318-20260708T173000@VHSDUISBURG
SUMMARY:Spanisch für die Reise - Sommerkurs für Lernende ohne oder mit minimalen Vorkenntnissen (261MZ8318) 
LOCATION:VHS im Stadtfenster;Raum221, Steinsche Gasse 26, 47051 Duisburg
END:VEVENT
END:VCALENDAR