BEGIN:VCALENDAR
PRODID:http://www.kufer.de/kuferweb / DE
VERSION:2.0
METHOD:PUBLISH
CALSCALE:GREGORIAN
X-WR-TIMEZONE:Europe/Berlin
BEGIN:VTIMEZONE
TZID:Europe/Berlin
X-LIC-LOCATION:Europe/Berlin
BEGIN:DAYLIGHT
TZOFFSETFROM:+0100
TZOFFSETTO:+0200
TZNAME:CEST
DTSTART;TZID=Europe/Berlin:19700329T020000
RRULE:FREQ=YEARLY;INTERVAL=1;BYDAY=-1SU;BYMONTH=3
END:DAYLIGHT
BEGIN:STANDARD
TZOFFSETFROM:+0200
TZOFFSETTO:+0100
TZNAME:CET
DTSTART;TZID=Europe/Berlin:19701025T030000
RRULE:FREQ=YEARLY;INTERVAL=1;BYDAY=-1SU;BYMONTH=10
END:STANDARD
END:VTIMEZONE
BEGIN:VEVENT
DTSTAMP:20260421T153241
DTSTART;TZID=Europe/Berlin:20260203T183000
DTEND;TZID=Europe/Berlin:20260203T200000
UID:261MZ8270-20260203T183000@VHSDUISBURG
SUMMARY:Italienisch - B2 - Con piacere Nuovo B1+/B2 - ab Lektion 4 (261MZ8270) 
LOCATION:VHS im Stadtfenster;Raum413, Steinsche Gasse 26, 47051 Duisburg
END:VEVENT
BEGIN:VEVENT
DTSTAMP:20260421T153241
DTSTART;TZID=Europe/Berlin:20260210T183000
DTEND;TZID=Europe/Berlin:20260210T200000
UID:261MZ8270-20260210T183000@VHSDUISBURG
SUMMARY:Italienisch - B2 - Con piacere Nuovo B1+/B2 - ab Lektion 4 (261MZ8270) 
LOCATION:VHS im Stadtfenster;Raum413, Steinsche Gasse 26, 47051 Duisburg
END:VEVENT
BEGIN:VEVENT
DTSTAMP:20260421T153241
DTSTART;TZID=Europe/Berlin:20260217T183000
DTEND;TZID=Europe/Berlin:20260217T200000
UID:261MZ8270-20260217T183000@VHSDUISBURG
SUMMARY:Italienisch - B2 - Con piacere Nuovo B1+/B2 - ab Lektion 4 (261MZ8270) 
LOCATION:VHS im Stadtfenster;Raum413, Steinsche Gasse 26, 47051 Duisburg
END:VEVENT
BEGIN:VEVENT
DTSTAMP:20260421T153241
DTSTART;TZID=Europe/Berlin:20260224T183000
DTEND;TZID=Europe/Berlin:20260224T200000
UID:261MZ8270-20260224T183000@VHSDUISBURG
SUMMARY:Italienisch - B2 - Con piacere Nuovo B1+/B2 - ab Lektion 4 (261MZ8270) 
LOCATION:VHS im Stadtfenster;Raum413, Steinsche Gasse 26, 47051 Duisburg
END:VEVENT
BEGIN:VEVENT
DTSTAMP:20260421T153241
DTSTART;TZID=Europe/Berlin:20260303T183000
DTEND;TZID=Europe/Berlin:20260303T200000
UID:261MZ8270-20260303T183000@VHSDUISBURG
SUMMARY:Italienisch - B2 - Con piacere Nuovo B1+/B2 - ab Lektion 4 (261MZ8270) 
LOCATION:VHS im Stadtfenster;Raum413, Steinsche Gasse 26, 47051 Duisburg
END:VEVENT
BEGIN:VEVENT
DTSTAMP:20260421T153241
DTSTART;TZID=Europe/Berlin:20260310T183000
DTEND;TZID=Europe/Berlin:20260310T200000
UID:261MZ8270-20260310T183000@VHSDUISBURG
SUMMARY:Italienisch - B2 - Con piacere Nuovo B1+/B2 - ab Lektion 4 (261MZ8270) 
LOCATION:VHS im Stadtfenster;Raum413, Steinsche Gasse 26, 47051 Duisburg
END:VEVENT
BEGIN:VEVENT
DTSTAMP:20260421T153241
DTSTART;TZID=Europe/Berlin:20260317T183000
DTEND;TZID=Europe/Berlin:20260317T200000
UID:261MZ8270-20260317T183000@VHSDUISBURG
SUMMARY:Italienisch - B2 - Con piacere Nuovo B1+/B2 - ab Lektion 4 (261MZ8270) 
LOCATION:VHS im Stadtfenster;Raum413, Steinsche Gasse 26, 47051 Duisburg
END:VEVENT
BEGIN:VEVENT
DTSTAMP:20260421T153241
DTSTART;TZID=Europe/Berlin:20260324T183000
DTEND;TZID=Europe/Berlin:20260324T200000
UID:261MZ8270-20260324T183000@VHSDUISBURG
SUMMARY:Italienisch - B2 - Con piacere Nuovo B1+/B2 - ab Lektion 4 (261MZ8270) 
LOCATION:VHS im Stadtfenster;Raum413, Steinsche Gasse 26, 47051 Duisburg
END:VEVENT
BEGIN:VEVENT
DTSTAMP:20260421T153241
DTSTART;TZID=Europe/Berlin:20260414T183000
DTEND;TZID=Europe/Berlin:20260414T200000
UID:261MZ8270-20260414T183000@VHSDUISBURG
SUMMARY:Italienisch - B2 - Con piacere Nuovo B1+/B2 - ab Lektion 4 (261MZ8270) 
LOCATION:VHS im Stadtfenster;Raum413, Steinsche Gasse 26, 47051 Duisburg
END:VEVENT
BEGIN:VEVENT
DTSTAMP:20260421T153241
DTSTART;TZID=Europe/Berlin:20260421T183000
DTEND;TZID=Europe/Berlin:20260421T200000
UID:261MZ8270-20260421T183000@VHSDUISBURG
SUMMARY:Italienisch - B2 - Con piacere Nuovo B1+/B2 - ab Lektion 4 (261MZ8270) 
LOCATION:VHS im Stadtfenster;Raum413, Steinsche Gasse 26, 47051 Duisburg
END:VEVENT
BEGIN:VEVENT
DTSTAMP:20260421T153241
DTSTART;TZID=Europe/Berlin:20260428T183000
DTEND;TZID=Europe/Berlin:20260428T200000
UID:261MZ8270-20260428T183000@VHSDUISBURG
SUMMARY:Italienisch - B2 - Con piacere Nuovo B1+/B2 - ab Lektion 4 (261MZ8270) 
LOCATION:VHS im Stadtfenster;Raum413, Steinsche Gasse 26, 47051 Duisburg
END:VEVENT
BEGIN:VEVENT
DTSTAMP:20260421T153241
DTSTART;TZID=Europe/Berlin:20260505T183000
DTEND;TZID=Europe/Berlin:20260505T200000
UID:261MZ8270-20260505T183000@VHSDUISBURG
SUMMARY:Italienisch - B2 - Con piacere Nuovo B1+/B2 - ab Lektion 4 (261MZ8270) 
LOCATION:VHS im Stadtfenster;Raum413, Steinsche Gasse 26, 47051 Duisburg
END:VEVENT
BEGIN:VEVENT
DTSTAMP:20260421T153241
DTSTART;TZID=Europe/Berlin:20260512T183000
DTEND;TZID=Europe/Berlin:20260512T200000
UID:261MZ8270-20260512T183000@VHSDUISBURG
SUMMARY:Italienisch - B2 - Con piacere Nuovo B1+/B2 - ab Lektion 4 (261MZ8270) 
LOCATION:VHS im Stadtfenster;Raum413, Steinsche Gasse 26, 47051 Duisburg
END:VEVENT
END:VCALENDAR