BEGIN:VCALENDAR
PRODID:http://www.kufer.de/kuferweb / DE
VERSION:2.0
METHOD:PUBLISH
CALSCALE:GREGORIAN
X-WR-TIMEZONE:Europe/Berlin
BEGIN:VTIMEZONE
TZID:Europe/Berlin
X-LIC-LOCATION:Europe/Berlin
BEGIN:DAYLIGHT
TZOFFSETFROM:+0100
TZOFFSETTO:+0200
TZNAME:CEST
DTSTART;TZID=Europe/Berlin:19700329T020000
RRULE:FREQ=YEARLY;INTERVAL=1;BYDAY=-1SU;BYMONTH=3
END:DAYLIGHT
BEGIN:STANDARD
TZOFFSETFROM:+0200
TZOFFSETTO:+0100
TZNAME:CET
DTSTART;TZID=Europe/Berlin:19701025T030000
RRULE:FREQ=YEARLY;INTERVAL=1;BYDAY=-1SU;BYMONTH=10
END:STANDARD
END:VTIMEZONE
BEGIN:VEVENT
DTSTAMP:20260420T175759
DTSTART;TZID=Europe/Berlin:20260212T183000
DTEND;TZID=Europe/Berlin:20260212T210000
UID:261MZ8166-20260212T183000@VHSDUISBURG
SUMMARY:Französisch - B1/B2 - Auffrischen und Vertiefen (261MZ8166) 
LOCATION:VHS im Stadtfenster;Raum219, Steinsche Gasse 26, 47051 Duisburg
END:VEVENT
BEGIN:VEVENT
DTSTAMP:20260420T175759
DTSTART;TZID=Europe/Berlin:20260219T183000
DTEND;TZID=Europe/Berlin:20260219T210000
UID:261MZ8166-20260219T183000@VHSDUISBURG
SUMMARY:Französisch - B1/B2 - Auffrischen und Vertiefen (261MZ8166) 
LOCATION:VHS im Stadtfenster;Raum219, Steinsche Gasse 26, 47051 Duisburg
END:VEVENT
BEGIN:VEVENT
DTSTAMP:20260420T175759
DTSTART;TZID=Europe/Berlin:20260226T183000
DTEND;TZID=Europe/Berlin:20260226T210000
UID:261MZ8166-20260226T183000@VHSDUISBURG
SUMMARY:Französisch - B1/B2 - Auffrischen und Vertiefen (261MZ8166) 
LOCATION:VHS im Stadtfenster;Raum219, Steinsche Gasse 26, 47051 Duisburg
END:VEVENT
BEGIN:VEVENT
DTSTAMP:20260420T175759
DTSTART;TZID=Europe/Berlin:20260305T183000
DTEND;TZID=Europe/Berlin:20260305T210000
UID:261MZ8166-20260305T183000@VHSDUISBURG
SUMMARY:Französisch - B1/B2 - Auffrischen und Vertiefen (261MZ8166) 
LOCATION:VHS im Stadtfenster;Raum219, Steinsche Gasse 26, 47051 Duisburg
END:VEVENT
BEGIN:VEVENT
DTSTAMP:20260420T175759
DTSTART;TZID=Europe/Berlin:20260312T183000
DTEND;TZID=Europe/Berlin:20260312T210000
UID:261MZ8166-20260312T183000@VHSDUISBURG
SUMMARY:Französisch - B1/B2 - Auffrischen und Vertiefen (261MZ8166) 
LOCATION:VHS im Stadtfenster;Raum219, Steinsche Gasse 26, 47051 Duisburg
END:VEVENT
BEGIN:VEVENT
DTSTAMP:20260420T175759
DTSTART;TZID=Europe/Berlin:20260319T183000
DTEND;TZID=Europe/Berlin:20260319T210000
UID:261MZ8166-20260319T183000@VHSDUISBURG
SUMMARY:Französisch - B1/B2 - Auffrischen und Vertiefen (261MZ8166) 
LOCATION:VHS im Stadtfenster;Raum219, Steinsche Gasse 26, 47051 Duisburg
END:VEVENT
BEGIN:VEVENT
DTSTAMP:20260420T175759
DTSTART;TZID=Europe/Berlin:20260326T183000
DTEND;TZID=Europe/Berlin:20260326T210000
UID:261MZ8166-20260326T183000@VHSDUISBURG
SUMMARY:Französisch - B1/B2 - Auffrischen und Vertiefen (261MZ8166) 
LOCATION:VHS im Stadtfenster;Raum219, Steinsche Gasse 26, 47051 Duisburg
END:VEVENT
BEGIN:VEVENT
DTSTAMP:20260420T175759
DTSTART;TZID=Europe/Berlin:20260416T183000
DTEND;TZID=Europe/Berlin:20260416T210000
UID:261MZ8166-20260416T183000@VHSDUISBURG
SUMMARY:Französisch - B1/B2 - Auffrischen und Vertiefen (261MZ8166) 
LOCATION:VHS im Stadtfenster;Raum219, Steinsche Gasse 26, 47051 Duisburg
END:VEVENT
BEGIN:VEVENT
DTSTAMP:20260420T175759
DTSTART;TZID=Europe/Berlin:20260423T183000
DTEND;TZID=Europe/Berlin:20260423T210000
UID:261MZ8166-20260423T183000@VHSDUISBURG
SUMMARY:Französisch - B1/B2 - Auffrischen und Vertiefen (261MZ8166) 
LOCATION:VHS im Stadtfenster;Raum219, Steinsche Gasse 26, 47051 Duisburg
END:VEVENT
BEGIN:VEVENT
DTSTAMP:20260420T175759
DTSTART;TZID=Europe/Berlin:20260430T183000
DTEND;TZID=Europe/Berlin:20260430T210000
UID:261MZ8166-20260430T183000@VHSDUISBURG
SUMMARY:Französisch - B1/B2 - Auffrischen und Vertiefen (261MZ8166) 
LOCATION:VHS im Stadtfenster;Raum219, Steinsche Gasse 26, 47051 Duisburg
END:VEVENT
BEGIN:VEVENT
DTSTAMP:20260420T175759
DTSTART;TZID=Europe/Berlin:20260507T183000
DTEND;TZID=Europe/Berlin:20260507T210000
UID:261MZ8166-20260507T183000@VHSDUISBURG
SUMMARY:Französisch - B1/B2 - Auffrischen und Vertiefen (261MZ8166) 
LOCATION:VHS im Stadtfenster;Raum219, Steinsche Gasse 26, 47051 Duisburg
END:VEVENT
BEGIN:VEVENT
DTSTAMP:20260420T175759
DTSTART;TZID=Europe/Berlin:20260521T183000
DTEND;TZID=Europe/Berlin:20260521T210000
UID:261MZ8166-20260521T183000@VHSDUISBURG
SUMMARY:Französisch - B1/B2 - Auffrischen und Vertiefen (261MZ8166) 
LOCATION:VHS im Stadtfenster;Raum219, Steinsche Gasse 26, 47051 Duisburg
END:VEVENT
BEGIN:VEVENT
DTSTAMP:20260420T175759
DTSTART;TZID=Europe/Berlin:20260528T183000
DTEND;TZID=Europe/Berlin:20260528T210000
UID:261MZ8166-20260528T183000@VHSDUISBURG
DESCRIPTION:NT vom 05.02.26
SUMMARY:Französisch - B1/B2 - Auffrischen und Vertiefen (261MZ8166) 
LOCATION:VHS im Stadtfenster;Raum219, Steinsche Gasse 26, 47051 Duisburg
END:VEVENT
END:VCALENDAR