BEGIN:VCALENDAR
PRODID:http://www.kufer.de/kuferweb / DE
VERSION:2.0
METHOD:PUBLISH
CALSCALE:GREGORIAN
X-WR-TIMEZONE:Europe/Berlin
BEGIN:VTIMEZONE
TZID:Europe/Berlin
X-LIC-LOCATION:Europe/Berlin
BEGIN:DAYLIGHT
TZOFFSETFROM:+0100
TZOFFSETTO:+0200
TZNAME:CEST
DTSTART;TZID=Europe/Berlin:19700329T020000
RRULE:FREQ=YEARLY;INTERVAL=1;BYDAY=-1SU;BYMONTH=3
END:DAYLIGHT
BEGIN:STANDARD
TZOFFSETFROM:+0200
TZOFFSETTO:+0100
TZNAME:CET
DTSTART;TZID=Europe/Berlin:19701025T030000
RRULE:FREQ=YEARLY;INTERVAL=1;BYDAY=-1SU;BYMONTH=10
END:STANDARD
END:VTIMEZONE
BEGIN:VEVENT
DTSTAMP:20260421T144500
DTSTART;TZID=Europe/Berlin:20260212T190000
DTEND;TZID=Europe/Berlin:20260212T203000
UID:261MZ8121-20260212T190000@VHSDUISBURG
SUMMARY:Französisch - A1 - Voyages neu A1 für Teilnehmende ohne Vorkenntnisse (261MZ8121) 
LOCATION:VHS im Stadtfenster;Raum416, Steinsche Gasse 26, 47051 Duisburg
END:VEVENT
BEGIN:VEVENT
DTSTAMP:20260421T144500
DTSTART;TZID=Europe/Berlin:20260219T190000
DTEND;TZID=Europe/Berlin:20260219T203000
UID:261MZ8121-20260219T190000@VHSDUISBURG
SUMMARY:Französisch - A1 - Voyages neu A1 für Teilnehmende ohne Vorkenntnisse (261MZ8121) 
LOCATION:VHS im Stadtfenster;Raum416, Steinsche Gasse 26, 47051 Duisburg
END:VEVENT
BEGIN:VEVENT
DTSTAMP:20260421T144500
DTSTART;TZID=Europe/Berlin:20260226T190000
DTEND;TZID=Europe/Berlin:20260226T203000
UID:261MZ8121-20260226T190000@VHSDUISBURG
SUMMARY:Französisch - A1 - Voyages neu A1 für Teilnehmende ohne Vorkenntnisse (261MZ8121) 
LOCATION:VHS im Stadtfenster;Raum416, Steinsche Gasse 26, 47051 Duisburg
END:VEVENT
BEGIN:VEVENT
DTSTAMP:20260421T144500
DTSTART;TZID=Europe/Berlin:20260305T190000
DTEND;TZID=Europe/Berlin:20260305T203000
UID:261MZ8121-20260305T190000@VHSDUISBURG
SUMMARY:Französisch - A1 - Voyages neu A1 für Teilnehmende ohne Vorkenntnisse (261MZ8121) 
LOCATION:VHS im Stadtfenster;Raum416, Steinsche Gasse 26, 47051 Duisburg
END:VEVENT
BEGIN:VEVENT
DTSTAMP:20260421T144500
DTSTART;TZID=Europe/Berlin:20260312T190000
DTEND;TZID=Europe/Berlin:20260312T203000
UID:261MZ8121-20260312T190000@VHSDUISBURG
SUMMARY:Französisch - A1 - Voyages neu A1 für Teilnehmende ohne Vorkenntnisse (261MZ8121) 
LOCATION:VHS im Stadtfenster;Raum416, Steinsche Gasse 26, 47051 Duisburg
END:VEVENT
BEGIN:VEVENT
DTSTAMP:20260421T144500
DTSTART;TZID=Europe/Berlin:20260319T190000
DTEND;TZID=Europe/Berlin:20260319T203000
UID:261MZ8121-20260319T190000@VHSDUISBURG
SUMMARY:Französisch - A1 - Voyages neu A1 für Teilnehmende ohne Vorkenntnisse (261MZ8121) 
LOCATION:VHS im Stadtfenster;Raum416, Steinsche Gasse 26, 47051 Duisburg
END:VEVENT
BEGIN:VEVENT
DTSTAMP:20260421T144500
DTSTART;TZID=Europe/Berlin:20260326T190000
DTEND;TZID=Europe/Berlin:20260326T203000
UID:261MZ8121-20260326T190000@VHSDUISBURG
SUMMARY:Französisch - A1 - Voyages neu A1 für Teilnehmende ohne Vorkenntnisse (261MZ8121) 
LOCATION:VHS im Stadtfenster;Raum416, Steinsche Gasse 26, 47051 Duisburg
END:VEVENT
BEGIN:VEVENT
DTSTAMP:20260421T144500
DTSTART;TZID=Europe/Berlin:20260416T190000
DTEND;TZID=Europe/Berlin:20260416T203000
UID:261MZ8121-20260416T190000@VHSDUISBURG
SUMMARY:Französisch - A1 - Voyages neu A1 für Teilnehmende ohne Vorkenntnisse (261MZ8121) 
LOCATION:VHS im Stadtfenster;Raum416, Steinsche Gasse 26, 47051 Duisburg
END:VEVENT
BEGIN:VEVENT
DTSTAMP:20260421T144500
DTSTART;TZID=Europe/Berlin:20260423T190000
DTEND;TZID=Europe/Berlin:20260423T203000
UID:261MZ8121-20260423T190000@VHSDUISBURG
SUMMARY:Französisch - A1 - Voyages neu A1 für Teilnehmende ohne Vorkenntnisse (261MZ8121) 
LOCATION:VHS im Stadtfenster;Raum416, Steinsche Gasse 26, 47051 Duisburg
END:VEVENT
BEGIN:VEVENT
DTSTAMP:20260421T144500
DTSTART;TZID=Europe/Berlin:20260430T190000
DTEND;TZID=Europe/Berlin:20260430T203000
UID:261MZ8121-20260430T190000@VHSDUISBURG
SUMMARY:Französisch - A1 - Voyages neu A1 für Teilnehmende ohne Vorkenntnisse (261MZ8121) 
LOCATION:VHS im Stadtfenster;Raum416, Steinsche Gasse 26, 47051 Duisburg
END:VEVENT
BEGIN:VEVENT
DTSTAMP:20260421T144500
DTSTART;TZID=Europe/Berlin:20260507T190000
DTEND;TZID=Europe/Berlin:20260507T203000
UID:261MZ8121-20260507T190000@VHSDUISBURG
SUMMARY:Französisch - A1 - Voyages neu A1 für Teilnehmende ohne Vorkenntnisse (261MZ8121) 
LOCATION:VHS im Stadtfenster;Raum416, Steinsche Gasse 26, 47051 Duisburg
END:VEVENT
BEGIN:VEVENT
DTSTAMP:20260421T144500
DTSTART;TZID=Europe/Berlin:20260521T190000
DTEND;TZID=Europe/Berlin:20260521T203000
UID:261MZ8121-20260521T190000@VHSDUISBURG
SUMMARY:Französisch - A1 - Voyages neu A1 für Teilnehmende ohne Vorkenntnisse (261MZ8121) 
LOCATION:VHS im Stadtfenster;Raum416, Steinsche Gasse 26, 47051 Duisburg
END:VEVENT
BEGIN:VEVENT
DTSTAMP:20260421T144500
DTSTART;TZID=Europe/Berlin:20260528T190000
DTEND;TZID=Europe/Berlin:20260528T203000
UID:261MZ8121-20260528T190000@VHSDUISBURG
SUMMARY:Französisch - A1 - Voyages neu A1 für Teilnehmende ohne Vorkenntnisse (261MZ8121) 
LOCATION:VHS im Stadtfenster;Raum416, Steinsche Gasse 26, 47051 Duisburg
END:VEVENT
END:VCALENDAR